{"text_format":"3","workbook":"xlsx","n_sheets":11,"sheets":["目次","納品書入力","選択リスト","納品書印刷","入庫入力","棚卸入力","在庫表示","商品マスタ","棚卸後在庫変更履歴","在庫変更全履歴","棚卸履歴"],"not_rendered":{"macros":1,"defined_names":65},"read":"whole","date_system":"1900"}

{"sheet":"目次","index":0,"n_rows":26,"n_cols":26,"rows_kept":26,"merged":[[0,5,3,18],[1,0,2,4]]}
[{"$nulls":5},"\n下の「全データクリア」ボタンをクリックすると、本ツールを初期状態に戻せますので、ご自由に試用してみてください。（「商品マスタ」のデータはそのまま残ります。）\n実際の管理を開始する際には\n① 下の「全データクリア」ボタンをクリックし、試用した時にできたデータを消去してください。\n②　「棚卸入力」で現在の在庫数を登録した上で、納品書作成、入庫入力を開始して下さい。\n※  作業後は、本エクセルファイルを別名で保管して、誤操作によるデータ喪失を防止することをお勧めします。\n"]
["納品・在庫管理"]
[]
[]
[{"$nulls":24},"シート名抽出式"]
[null,"　　　目次",null,"※ 各項目の下線部をクリックするとそのページにジャンプします。",{"$nulls":20},{"$f":"MID(Z6,FIND(\"]\",Z6)+1,FIND(\"!\",Z6)-FIND(\"]\",Z6)-1)","v":"納品書入力"},{"$f":"CELL(\"address\",納品書入力!F3)","v":"[納品・在庫管理_v0.0.xlsm]納品書入力!$F$3"}]
[{"$nulls":24},{"$f":"MID(Z7,FIND(\"]\",Z7)+1,FIND(\"!\",Z7)-FIND(\"]\",Z7)-1)","v":"納品書印刷"},{"$f":"CELL(\"address\",納品書印刷!F2)","v":"[納品・在庫管理_v0.0.xlsm]納品書印刷!$F$2"}]
[null,"１．","納品書入力",null,null,"ここに納品内容を記入し、「発行」ボタンをクリックすると、納品書番号を自動採番し「納品書印刷」ページが開きます。",{"$nulls":18},{"$f":"MID(Z8,FIND(\"]\",Z8)+1,FIND(\"!\",Z8)-FIND(\"]\",Z8)-1)","v":"入庫入力"},{"$f":"CELL(\"address\",入庫入力!F4)","v":"[納品・在庫管理_v0.0.xlsm]入庫入力!$F$4"}]
[{"$nulls":24},"棚卸入力",{"$f":"CELL(\"address\",棚卸入力!F5)","v":"[納品・在庫管理_v0.0.xlsm]棚卸入力!$F$5"}]
[null,"２．","納品書印刷",null,null,"ここに表示された納品書を印刷してご使用ください。発行済みの納品書番号を指定して再表示できます。",{"$nulls":18},"在庫表示",{"$f":"CELL(\"address\",在庫表示!F6)","v":"[納品・在庫管理_v0.0.xlsm]在庫表示!$F$6"}]
[{"$nulls":24},"商品マスタ",{"$f":"CELL(\"address\",商品マスタ!F7)","v":"[納品・在庫管理_v0.0.xlsm]商品マスタ!$F$7"}]
[null,"３．","入庫入力",null,null,"新規商品が入庫したとき、このページで在庫情報を更新できます。",{"$nulls":18},"棚卸後在庫変更履歴",{"$f":"CELL(\"address\",棚卸後在庫変更履歴!F8)","v":"[納品・在庫管理_v0.0.xlsm]棚卸後在庫変更履歴!$F$8"}]
[{"$nulls":24},"在庫変更全履歴",{"$f":"CELL(\"address\",在庫変更全履歴!F9)","v":"[納品・在庫管理_v0.0.xlsm]在庫変更全履歴!$F$9"}]
[null,"４．","棚卸入力",null,null,"棚卸作業で確認した在庫数をこのページで入力し、在庫数を更新できます。",{"$nulls":18},"棚卸履歴",{"$f":"CELL(\"address\",棚卸履歴!F10)","v":"[納品・在庫管理_v0.0.xlsm]棚卸履歴!$F$10"}]
[]
[null,"５．","在庫表示",null,null,"現在の在庫数を表示します。"]
[]
[null,"６．","各種データ"]
[]
[null,"　　①",{"$f":"商品マスタシート","v":"商品マスタ"},{"$nulls":4},"商品の名称、価格を登録します。"]
[]
[null,"　　②",{"$f":"在庫シート","v":"棚卸後在庫変更履歴"},{"$nulls":4},"棚卸で在庫数を確認し、更新した後の納品、入庫による在庫変更の履歴をここに自動的に記録します。"]
[]
[null,"　　③",{"$f":"在庫履歴シート","v":"在庫変更全履歴"},{"$nulls":4},"運用開始以降、全ての納品、入庫による在庫変更の履歴をここに自動的に記録します。"]
[]
[null,"　　④",{"$f":"棚卸シート","v":"棚卸履歴"},{"$nulls":4},"棚卸による在庫変更の履歴をここに自動的に記録します。"]

{"sheet":"納品書入力","index":1,"n_rows":210,"n_cols":19,"rows_kept":210,"merged":[[1,9,1,10],[3,1,3,3],[3,10,6,14],[5,2,5,3],[8,10,8,11],[40,1,40,6],[41,1,41,6],[42,1,42,6]]}
[]
[{"$nulls":4},"納品書入力"]
[]
[{"$nulls":4},"様",{"$nulls":5},{"$f":"\"１．① 納入先 ② 発行日 ③ 価格区分 ④商品番号　⑤ 数量を記入して下さい。\n２．「発行」ボタンをクリックすると、\n　　(1) 納品内容を「\"&目次!Y12&\"」シート及び「\"&目次!Y13&\"」シートに\n         記録し、「\"&目次!Y7&\"」シートを開きます。\n    (2) 「\"&目次!Y10&\"」シートの在庫数が更新されます。\"","v":"１．① 納入先 ② 発行日 ③ 価格区分 ④商品番号　⑤ 数量を記入して下さい。\n２．「発行」ボタンをクリックすると、\n　　(1) 納品内容を「棚卸後在庫変更履歴」シート及び「在庫変更全履歴」シートに\n         記録し、「納品書印刷」シートを開きます。\n    (2) 「在庫表示」シートの在庫数が更新されます。"}]
[{"$nulls":6},"発行日","2021-07-27"]
[null,"№",{"$f":"MAX(在庫変更全履歴!$D$2:$D$1048576)+1","v":{"v":1,"d":"000001"}}]
[{"$nulls":6},"価格区分","一般価格"]
[null,null,"※「商品番号」を記入すると、「商品名称」、「単価」を自動表示します。"]
[null,null,"※「名称の一部」を記入すると、それを含む商品名称をプルダウン表示しますので、該当するものをクリックしてください。",{"$nulls":7},"商品番号－商品名対照表"]
[null,"番号","商品番号","名称の一部","商品名称","数量","単価","金額","（在庫残）",null,"商品番号","商品名","一般価格","会員価格","団体価格",null,"価格区分",null,"消費税率"]
[null,1,{"$nulls":4},{"$f":"IFERROR(VALUE(INDEX($M$11:$O$110,MATCH($C11,$K$11:$K$110,0),MATCH($H$7,$Q$11:$Q$13,0))),0)","v":0},{"$f":"IFERROR(F11*G11,0)","v":0},{"$f":"IFERROR(INDEX(在庫表示!$F$11:$F$210,MATCH(C11,在庫表示!$B$11:$B$210,0))-F11,\"\")","v":""},null,{"$f":"IF(商品マスタ!B5=\"\",\"\",商品マスタ!B5)","v":1},{"$f":"IF(商品マスタ!C5=\"\",\"\",商品マスタ!C5)","v":"LIFESPAN（ライフスパン）―老いなき世界"},{"$f":"IF(商品マスタ!D5=\"\",\"\",商品マスタ!D5)","v":{"v":2600,"d":"2,600 "}},{"$f":"IF(商品マスタ!E5=\"\",\"\",商品マスタ!E5)","v":{"v":2080,"d":"2,080 "}},{"$f":"IF(商品マスタ!F5=\"\",\"\",商品マスタ!F5)","v":{"v":1820,"d":"1,820 "}},null,"一般価格",null,"一般価格"]
[null,2,{"$nulls":4},0,{"$f":"IFERROR(F12*G12,0)","v":0},{"$f":"IFERROR(INDEX(在庫表示!$F$11:$F$210,MATCH(C12,在庫表示!$B$11:$B$210,0))-F12,\"\")","v":""},null,{"$f":"IF(商品マスタ!B6=\"\",\"\",商品マスタ!B6)","v":2},{"$f":"IF(商品マスタ!C6=\"\",\"\",商品マスタ!C6)","v":"WHAT IS LIFE？（ホワット・イズ・ライフ？）生命とは何か"},{"$f":"IF(商品マスタ!D6=\"\",\"\",商品マスタ!D6)","v":{"v":1800,"d":"1,800 "}},{"$f":"IF(商品マスタ!E6=\"\",\"\",商品マスタ!E6)","v":{"v":1440,"d":"1,440 "}},{"$f":"IF(商品マスタ!F6=\"\",\"\",商品マスタ!F6)","v":{"v":1260,"d":"1,260 "}},null,"会員価格"]
[null,3,{"$nulls":4},0,0,{"$f":"IFERROR(INDEX(在庫表示!$F$11:$F$210,MATCH(C13,在庫表示!$B$11:$B$210,0))-F13,\"\")","v":""},null,{"$f":"IF(商品マスタ!B7=\"\",\"\",商品マスタ!B7)","v":3},{"$f":"IF(商品マスタ!C7=\"\",\"\",商品マスタ!C7)","v":"科学的とはどういう意味か"},{"$f":"IF(商品マスタ!D7=\"\",\"\",商品マスタ!D7)","v":{"v":600,"d":"600 "}},{"$f":"IF(商品マスタ!E7=\"\",\"\",商品マスタ!E7)","v":{"v":480,"d":"480 "}},{"$f":"IF(商品マスタ!F7=\"\",\"\",商品マスタ!F7)","v":{"v":420,"d":"420 "}},null,"団体価格"]
[null,4,{"$nulls":4},0,0,{"$f":"IFERROR(INDEX(在庫表示!$F$11:$F$210,MATCH(C14,在庫表示!$B$11:$B$210,0))-F14,\"\")","v":""},null,{"$f":"IF(商品マスタ!B8=\"\",\"\",商品マスタ!B8)","v":4},{"$f":"IF(商品マスタ!C8=\"\",\"\",商品マスタ!C8)","v":"コトPOP（R）を書いたら あっ、売れちゃった！"},{"$f":"IF(商品マスタ!D8=\"\",\"\",商品マスタ!D8)","v":{"v":1600,"d":"1,600 "}},{"$f":"IF(商品マスタ!E8=\"\",\"\",商品マスタ!E8)","v":{"v":1280,"d":"1,280 "}},{"$f":"IF(商品マスタ!F8=\"\",\"\",商品マスタ!F8)","v":{"v":1120,"d":"1,120 "}}]
[null,5,{"$nulls":4},0,0,{"$f":"IFERROR(INDEX(在庫表示!$F$11:$F$210,MATCH(C15,在庫表示!$B$11:$B$210,0))-F15,\"\")","v":""},null,{"$f":"IF(商品マスタ!B9=\"\",\"\",商品マスタ!B9)","v":5},{"$f":"IF(商品マスタ!C9=\"\",\"\",商品マスタ!C9)","v":"鉄腕アトム 地球最大の冒険"},{"$f":"IF(商品マスタ!D9=\"\",\"\",商品マスタ!D9)","v":{"v":1500,"d":"1,500 "}},{"$f":"IF(商品マスタ!E9=\"\",\"\",商品マスタ!E9)","v":{"v":1200,"d":"1,200 "}},{"$f":"IF(商品マスタ!F9=\"\",\"\",商品マスタ!F9)","v":{"v":1050,"d":"1,050 "}}]
[null,6,{"$nulls":4},0,0,{"$f":"IFERROR(INDEX(在庫表示!$F$11:$F$210,MATCH(C16,在庫表示!$B$11:$B$210,0))-F16,\"\")","v":""},null,{"$f":"IF(商品マスタ!B10=\"\",\"\",商品マスタ!B10)","v":6},{"$f":"IF(商品マスタ!C10=\"\",\"\",商品マスタ!C10)","v":"鉄腕アトム 地球防衛隊"},{"$f":"IF(商品マスタ!D10=\"\",\"\",商品マスタ!D10)","v":{"v":1400,"d":"1,400 "}},{"$f":"IF(商品マスタ!E10=\"\",\"\",商品マスタ!E10)","v":{"v":1120,"d":"1,120 "}},{"$f":"IF(商品マスタ!F10=\"\",\"\",商品マスタ!F10)","v":{"v":980,"d":"980 "}}]
[null,7,{"$nulls":4},0,0,{"$f":"IFERROR(INDEX(在庫表示!$F$11:$F$210,MATCH(C17,在庫表示!$B$11:$B$210,0))-F17,\"\")","v":""},null,{"$f":"IF(商品マスタ!B11=\"\",\"\",商品マスタ!B11)","v":7},{"$f":"IF(商品マスタ!C11=\"\",\"\",商品マスタ!C11)","v":"どうする？デザイン クライアントとのやりとりでよくわかる！デザインの決め方、伝え方"},{"$f":"IF(商品マスタ!D11=\"\",\"\",商品マスタ!D11)","v":{"v":2200,"d":"2,200 "}},{"$f":"IF(商品マスタ!E11=\"\",\"\",商品マスタ!E11)","v":{"v":1760,"d":"1,760 "}},{"$f":"IF(商品マスタ!F11=\"\",\"\",商品マスタ!F11)","v":{"v":1540,"d":"1,540 "}}]
[null,8,{"$nulls":4},0,0,{"$f":"IFERROR(INDEX(在庫表示!$F$11:$F$210,MATCH(C18,在庫表示!$B$11:$B$210,0))-F18,\"\")","v":""},null,{"$f":"IF(商品マスタ!B12=\"\",\"\",商品マスタ!B12)","v":8},{"$f":"IF(商品マスタ!C12=\"\",\"\",商品マスタ!C12)","v":"ハッブル宇宙望遠鏡が見た絶景宇宙 SELECT 10 Vol.1"},{"$f":"IF(商品マスタ!D12=\"\",\"\",商品マスタ!D12)","v":{"v":100,"d":"100 "}},{"$f":"IF(商品マスタ!E12=\"\",\"\",商品マスタ!E12)","v":{"v":80,"d":"80 "}},{"$f":"IF(商品マスタ!F12=\"\",\"\",商品マスタ!F12)","v":{"v":70,"d":"70 "}}]
[null,9,{"$nulls":4},0,0,{"$f":"IFERROR(INDEX(在庫表示!$F$11:$F$210,MATCH(C19,在庫表示!$B$11:$B$210,0))-F19,\"\")","v":""},null,{"$f":"IF(商品マスタ!B13=\"\",\"\",商品マスタ!B13)","v":9},{"$f":"IF(商品マスタ!C13=\"\",\"\",商品マスタ!C13)","v":"ハムスターがおうちにやってきた！"},{"$f":"IF(商品マスタ!D13=\"\",\"\",商品マスタ!D13)","v":{"v":600,"d":"600 "}},{"$f":"IF(商品マスタ!E13=\"\",\"\",商品マスタ!E13)","v":{"v":480,"d":"480 "}},{"$f":"IF(商品マスタ!F13=\"\",\"\",商品マスタ!F13)","v":{"v":420,"d":"420 "}}]
[null,10,{"$nulls":4},0,0,{"$f":"IFERROR(INDEX(在庫表示!$F$11:$F$210,MATCH(C20,在庫表示!$B$11:$B$210,0))-F20,\"\")","v":""},null,{"$f":"IF(商品マスタ!B14=\"\",\"\",商品マスタ!B14)","v":10},{"$f":"IF(商品マスタ!C14=\"\",\"\",商品マスタ!C14)","v":"ビーカーくんのゆかいな化学実験"},{"$f":"IF(商品マスタ!D14=\"\",\"\",商品マスタ!D14)","v":{"v":1600,"d":"1,600 "}},{"$f":"IF(商品マスタ!E14=\"\",\"\",商品マスタ!E14)","v":{"v":1280,"d":"1,280 "}},{"$f":"IF(商品マスタ!F14=\"\",\"\",商品マスタ!F14)","v":{"v":1120,"d":"1,120 "}}]
[null,11,{"$nulls":4},0,0,{"$f":"IFERROR(INDEX(在庫表示!$F$11:$F$210,MATCH(C21,在庫表示!$B$11:$B$210,0))-F21,\"\")","v":""},null,{"$f":"IF(商品マスタ!B15=\"\",\"\",商品マスタ!B15)","v":11},{"$f":"IF(商品マスタ!C15=\"\",\"\",商品マスタ!C15)","v":"ヒトを理解するための 生物学"},{"$f":"IF(商品マスタ!D15=\"\",\"\",商品マスタ!D15)","v":{"v":2400,"d":"2,400 "}},{"$f":"IF(商品マスタ!E15=\"\",\"\",商品マスタ!E15)","v":{"v":1920,"d":"1,920 "}},{"$f":"IF(商品マスタ!F15=\"\",\"\",商品マスタ!F15)","v":{"v":1680,"d":"1,680 "}}]
[null,12,{"$nulls":4},0,0,{"$f":"IFERROR(INDEX(在庫表示!$F$11:$F$210,MATCH(C22,在庫表示!$B$11:$B$210,0))-F22,\"\")","v":""},null,{"$f":"IF(商品マスタ!B16=\"\",\"\",商品マスタ!B16)","v":12},{"$f":"IF(商品マスタ!C16=\"\",\"\",商品マスタ!C16)","v":"富士山はどうしてそこにあるのか 地形から見る日本列島史"},{"$f":"IF(商品マスタ!D16=\"\",\"\",商品マスタ!D16)","v":{"v":900,"d":"900 "}},{"$f":"IF(商品マスタ!E16=\"\",\"\",商品マスタ!E16)","v":{"v":720,"d":"720 "}},{"$f":"IF(商品マスタ!F16=\"\",\"\",商品マスタ!F16)","v":{"v":630,"d":"630 "}}]
[null,13,{"$nulls":4},0,0,{"$f":"IFERROR(INDEX(在庫表示!$F$11:$F$210,MATCH(C23,在庫表示!$B$11:$B$210,0))-F23,\"\")","v":""},null,{"$f":"IF(商品マスタ!B17=\"\",\"\",商品マスタ!B17)","v":13},{"$f":"IF(商品マスタ!C17=\"\",\"\",商品マスタ!C17)","v":"宇宙の「果て」になにがあるのか 最新天文学が描く、時間と空間の終わり"},{"$f":"IF(商品マスタ!D17=\"\",\"\",商品マスタ!D17)","v":{"v":1000,"d":"1,000 "}},{"$f":"IF(商品マスタ!E17=\"\",\"\",商品マスタ!E17)","v":{"v":800,"d":"800 "}},{"$f":"IF(商品マスタ!F17=\"\",\"\",商品マスタ!F17)","v":{"v":700,"d":"700 "}}]
[null,14,{"$nulls":4},0,0,{"$f":"IFERROR(INDEX(在庫表示!$F$11:$F$210,MATCH(C24,在庫表示!$B$11:$B$210,0))-F24,\"\")","v":""},null,{"$f":"IF(商品マスタ!B18=\"\",\"\",商品マスタ!B18)","v":14},{"$f":"IF(商品マスタ!C18=\"\",\"\",商品マスタ!C18)","v":"宇宙は本当にひとつなのか―最新宇宙論入門"},{"$f":"IF(商品マスタ!D18=\"\",\"\",商品マスタ!D18)","v":{"v":900,"d":"900 "}},{"$f":"IF(商品マスタ!E18=\"\",\"\",商品マスタ!E18)","v":{"v":720,"d":"720 "}},{"$f":"IF(商品マスタ!F18=\"\",\"\",商品マスタ!F18)","v":{"v":630,"d":"630 "}}]
[null,15,{"$nulls":4},0,0,{"$f":"IFERROR(INDEX(在庫表示!$F$11:$F$210,MATCH(C25,在庫表示!$B$11:$B$210,0))-F25,\"\")","v":""},null,{"$f":"IF(商品マスタ!B19=\"\",\"\",商品マスタ!B19)","v":15},{"$f":"IF(商品マスタ!C19=\"\",\"\",商品マスタ!C19)","v":"宇宙創成（上）"},{"$f":"IF(商品マスタ!D19=\"\",\"\",商品マスタ!D19)","v":{"v":700,"d":"700 "}},{"$f":"IF(商品マスタ!E19=\"\",\"\",商品マスタ!E19)","v":{"v":560,"d":"560 "}},{"$f":"IF(商品マスタ!F19=\"\",\"\",商品マスタ!F19)","v":{"v":490,"d":"490 "}}]
[null,16,{"$nulls":4},0,0,{"$f":"IFERROR(INDEX(在庫表示!$F$11:$F$210,MATCH(C26,在庫表示!$B$11:$B$210,0))-F26,\"\")","v":""},null,{"$f":"IF(商品マスタ!B20=\"\",\"\",商品マスタ!B20)","v":16},{"$f":"IF(商品マスタ!C20=\"\",\"\",商品マスタ!C20)","v":"宇宙望遠鏡がとらえた 銀河（ブックブライト）"},{"$f":"IF(商品マスタ!D20=\"\",\"\",商品マスタ!D20)","v":{"v":900,"d":"900 "}},{"$f":"IF(商品マスタ!E20=\"\",\"\",商品マスタ!E20)","v":{"v":720,"d":"720 "}},{"$f":"IF(商品マスタ!F20=\"\",\"\",商品マスタ!F20)","v":{"v":630,"d":"630 "}}]
[null,17,{"$nulls":4},0,0,{"$f":"IFERROR(INDEX(在庫表示!$F$11:$F$210,MATCH(C27,在庫表示!$B$11:$B$210,0))-F27,\"\")","v":""},null,{"$f":"IF(商品マスタ!B21=\"\",\"\",商品マスタ!B21)","v":17},{"$f":"IF(商品マスタ!C21=\"\",\"\",商品マスタ!C21)","v":"見てわかる、迷わず決まる配色アイデア 3色だけでセンスのいい色"},{"$f":"IF(商品マスタ!D21=\"\",\"\",商品マスタ!D21)","v":{"v":2000,"d":"2,000 "}},{"$f":"IF(商品マスタ!E21=\"\",\"\",商品マスタ!E21)","v":{"v":1600,"d":"1,600 "}},{"$f":"IF(商品マスタ!F21=\"\",\"\",商品マスタ!F21)","v":{"v":1400,"d":"1,400 "}}]
[null,18,{"$nulls":4},0,0,{"$f":"IFERROR(INDEX(在庫表示!$F$11:$F$210,MATCH(C28,在庫表示!$B$11:$B$210,0))-F28,\"\")","v":""},null,{"$f":"IF(商品マスタ!B22=\"\",\"\",商品マスタ!B22)","v":18},{"$f":"IF(商品マスタ!C22=\"\",\"\",商品マスタ!C22)","v":"写真加工で作る風景イラスト 神技作画シリーズ"},{"$f":"IF(商品マスタ!D22=\"\",\"\",商品マスタ!D22)","v":{"v":2200,"d":"2,200 "}},{"$f":"IF(商品マスタ!E22=\"\",\"\",商品マスタ!E22)","v":{"v":1760,"d":"1,760 "}},{"$f":"IF(商品マスタ!F22=\"\",\"\",商品マスタ!F22)","v":{"v":1540,"d":"1,540 "}}]
[null,19,{"$nulls":4},0,0,{"$f":"IFERROR(INDEX(在庫表示!$F$11:$F$210,MATCH(C29,在庫表示!$B$11:$B$210,0))-F29,\"\")","v":""},null,{"$f":"IF(商品マスタ!B23=\"\",\"\",商品マスタ!B23)","v":19},{"$f":"IF(商品マスタ!C23=\"\",\"\",商品マスタ!C23)","v":"写真加工で作る風景イラスト 神技作画シリーズ"},{"$f":"IF(商品マスタ!D23=\"\",\"\",商品マスタ!D23)","v":{"v":2200,"d":"2,200 "}},{"$f":"IF(商品マスタ!E23=\"\",\"\",商品マスタ!E23)","v":{"v":1760,"d":"1,760 "}},{"$f":"IF(商品マスタ!F23=\"\",\"\",商品マスタ!F23)","v":{"v":1540,"d":"1,540 "}}]
[null,20,{"$nulls":4},0,0,{"$f":"IFERROR(INDEX(在庫表示!$F$11:$F$210,MATCH(C30,在庫表示!$B$11:$B$210,0))-F30,\"\")","v":""},null,{"$f":"IF(商品マスタ!B24=\"\",\"\",商品マスタ!B24)","v":20},{"$f":"IF(商品マスタ!C24=\"\",\"\",商品マスタ!C24)","v":"重力とは何か アインシュタインから超弦理論へ、宇宙の謎に迫る"},{"$f":"IF(商品マスタ!D24=\"\",\"\",商品マスタ!D24)","v":{"v":700,"d":"700 "}},{"$f":"IF(商品マスタ!E24=\"\",\"\",商品マスタ!E24)","v":{"v":560,"d":"560 "}},{"$f":"IF(商品マスタ!F24=\"\",\"\",商品マスタ!F24)","v":{"v":490,"d":"490 "}}]
[null,21,{"$nulls":4},0,0,{"$f":"IFERROR(INDEX(在庫表示!$F$11:$F$210,MATCH(C31,在庫表示!$B$11:$B$210,0))-F31,\"\")","v":""},null,{"$f":"IF(商品マスタ!B25=\"\",\"\",商品マスタ!B25)","v":21},{"$f":"IF(商品マスタ!C25=\"\",\"\",商品マスタ!C25)","v":"図説 メイドインアビス 探窟記録【電子特典付き】"},{"$f":"IF(商品マスタ!D25=\"\",\"\",商品マスタ!D25)","v":{"v":5500,"d":"5,500 "}},{"$f":"IF(商品マスタ!E25=\"\",\"\",商品マスタ!E25)","v":{"v":4400,"d":"4,400 "}},{"$f":"IF(商品マスタ!F25=\"\",\"\",商品マスタ!F25)","v":{"v":3850,"d":"3,850 "}}]
[null,22,{"$nulls":4},0,0,{"$f":"IFERROR(INDEX(在庫表示!$F$11:$F$210,MATCH(C32,在庫表示!$B$11:$B$210,0))-F32,\"\")","v":""},null,{"$f":"IF(商品マスタ!B26=\"\",\"\",商品マスタ!B26)","v":22},{"$f":"IF(商品マスタ!C26=\"\",\"\",商品マスタ!C26)","v":"成功の秘密にアクセスできるギャラクシー・コード"},{"$f":"IF(商品マスタ!D26=\"\",\"\",商品マスタ!D26)","v":{"v":1500,"d":"1,500 "}},{"$f":"IF(商品マスタ!E26=\"\",\"\",商品マスタ!E26)","v":{"v":1200,"d":"1,200 "}},{"$f":"IF(商品マスタ!F26=\"\",\"\",商品マスタ!F26)","v":{"v":1050,"d":"1,050 "}}]
[null,23,{"$nulls":4},0,0,{"$f":"IFERROR(INDEX(在庫表示!$F$11:$F$210,MATCH(C33,在庫表示!$B$11:$B$210,0))-F33,\"\")","v":""},null,{"$f":"IF(商品マスタ!B27=\"\",\"\",商品マスタ!B27)","v":23},{"$f":"IF(商品マスタ!C27=\"\",\"\",商品マスタ!C27)","v":"太陽系 絶景画像50"},{"$f":"IF(商品マスタ!D27=\"\",\"\",商品マスタ!D27)","v":{"v":500,"d":"500 "}},{"$f":"IF(商品マスタ!E27=\"\",\"\",商品マスタ!E27)","v":{"v":400,"d":"400 "}},{"$f":"IF(商品マスタ!F27=\"\",\"\",商品マスタ!F27)","v":{"v":350,"d":"350 "}}]
[null,24,{"$nulls":4},0,0,{"$f":"IFERROR(INDEX(在庫表示!$F$11:$F$210,MATCH(C34,在庫表示!$B$11:$B$210,0))-F34,\"\")","v":""},null,{"$f":"IF(商品マスタ!B28=\"\",\"\",商品マスタ!B28)","v":24},{"$f":"IF(商品マスタ!C28=\"\",\"\",商品マスタ!C28)","v":"踊りませんか？ 社交ダンスの世界"},{"$f":"IF(商品マスタ!D28=\"\",\"\",商品マスタ!D28)","v":{"v":600,"d":"600 "}},{"$f":"IF(商品マスタ!E28=\"\",\"\",商品マスタ!E28)","v":{"v":480,"d":"480 "}},{"$f":"IF(商品マスタ!F28=\"\",\"\",商品マスタ!F28)","v":{"v":420,"d":"420 "}}]
[null,25,{"$nulls":4},0,0,{"$f":"IFERROR(INDEX(在庫表示!$F$11:$F$210,MATCH(C35,在庫表示!$B$11:$B$210,0))-F35,\"\")","v":""},null,{"$f":"IF(商品マスタ!B29=\"\",\"\",商品マスタ!B29)","v":25},{"$f":"IF(商品マスタ!C29=\"\",\"\",商品マスタ!C29)","v":""},{"$f":"IF(商品マスタ!D29=\"\",\"\",商品マスタ!D29)","v":""},{"$f":"IF(商品マスタ!E29=\"\",\"\",商品マスタ!E29)","v":""},{"$f":"IF(商品マスタ!F29=\"\",\"\",商品マスタ!F29)","v":""}]
[null,26,{"$nulls":4},0,0,{"$f":"IFERROR(INDEX(在庫表示!$F$11:$F$210,MATCH(C36,在庫表示!$B$11:$B$210,0))-F36,\"\")","v":""},null,{"$f":"IF(商品マスタ!B30=\"\",\"\",商品マスタ!B30)","v":26},{"$f":"IF(商品マスタ!C30=\"\",\"\",商品マスタ!C30)","v":""},{"$f":"IF(商品マスタ!D30=\"\",\"\",商品マスタ!D30)","v":""},{"$f":"IF(商品マスタ!E30=\"\",\"\",商品マスタ!E30)","v":""},{"$f":"IF(商品マスタ!F30=\"\",\"\",商品マスタ!F30)","v":""}]
[null,27,{"$nulls":4},0,0,{"$f":"IFERROR(INDEX(在庫表示!$F$11:$F$210,MATCH(C37,在庫表示!$B$11:$B$210,0))-F37,\"\")","v":""},null,{"$f":"IF(商品マスタ!B31=\"\",\"\",商品マスタ!B31)","v":27},{"$f":"IF(商品マスタ!C31=\"\",\"\",商品マスタ!C31)","v":""},{"$f":"IF(商品マスタ!D31=\"\",\"\",商品マスタ!D31)","v":""},{"$f":"IF(商品マスタ!E31=\"\",\"\",商品マスタ!E31)","v":""},{"$f":"IF(商品マスタ!F31=\"\",\"\",商品マスタ!F31)","v":""}]
[null,28,{"$nulls":4},0,0,{"$f":"IFERROR(INDEX(在庫表示!$F$11:$F$210,MATCH(C38,在庫表示!$B$11:$B$210,0))-F38,\"\")","v":""},null,{"$f":"IF(商品マスタ!B32=\"\",\"\",商品マスタ!B32)","v":28},{"$f":"IF(商品マスタ!C32=\"\",\"\",商品マスタ!C32)","v":""},{"$f":"IF(商品マスタ!D32=\"\",\"\",商品マスタ!D32)","v":""},{"$f":"IF(商品マスタ!E32=\"\",\"\",商品マスタ!E32)","v":""},{"$f":"IF(商品マスタ!F32=\"\",\"\",商品マスタ!F32)","v":""}]
[null,29,{"$nulls":4},0,0,{"$f":"IFERROR(INDEX(在庫表示!$F$11:$F$210,MATCH(C39,在庫表示!$B$11:$B$210,0))-F39,\"\")","v":""},null,{"$f":"IF(商品マスタ!B33=\"\",\"\",商品マスタ!B33)","v":29},{"$f":"IF(商品マスタ!C33=\"\",\"\",商品マスタ!C33)","v":""},{"$f":"IF(商品マスタ!D33=\"\",\"\",商品マスタ!D33)","v":""},{"$f":"IF(商品マスタ!E33=\"\",\"\",商品マスタ!E33)","v":""},{"$f":"IF(商品マスタ!F33=\"\",\"\",商品マスタ!F33)","v":""}]
[null,30,{"$nulls":4},0,0,{"$f":"IFERROR(INDEX(在庫表示!$F$11:$F$210,MATCH(C40,在庫表示!$B$11:$B$210,0))-F40,\"\")","v":""},null,{"$f":"IF(商品マスタ!B34=\"\",\"\",商品マスタ!B34)","v":30},{"$f":"IF(商品マスタ!C34=\"\",\"\",商品マスタ!C34)","v":""},{"$f":"IF(商品マスタ!D34=\"\",\"\",商品マスタ!D34)","v":""},{"$f":"IF(商品マスタ!E34=\"\",\"\",商品マスタ!E34)","v":""},{"$f":"IF(商品マスタ!F34=\"\",\"\",商品マスタ!F34)","v":""}]
[null,"合計金額",{"$nulls":5},{"$f":"SUM($H$11:$H$40)","v":{"v":0,"d":"¥0"}},null,null,{"$f":"IF(商品マスタ!B35=\"\",\"\",商品マスタ!B35)","v":31},{"$f":"IF(商品マスタ!C35=\"\",\"\",商品マスタ!C35)","v":""},{"$f":"IF(商品マスタ!D35=\"\",\"\",商品マスタ!D35)","v":""},{"$f":"IF(商品マスタ!E35=\"\",\"\",商品マスタ!E35)","v":""},{"$f":"IF(商品マスタ!F35=\"\",\"\",商品マスタ!F35)","v":""}]
[null,"消費税",{"$nulls":5},{"$f":"ROUNDDOWN(H41,0)","v":{"v":0,"d":"¥0"}},null,null,{"$f":"IF(商品マスタ!B36=\"\",\"\",商品マスタ!B36)","v":32},{"$f":"IF(商品マスタ!C36=\"\",\"\",商品マスタ!C36)","v":""},{"$f":"IF(商品マスタ!D36=\"\",\"\",商品マスタ!D36)","v":""},{"$f":"IF(商品マスタ!E36=\"\",\"\",商品マスタ!E36)","v":""},{"$f":"IF(商品マスタ!F36=\"\",\"\",商品マスタ!F36)","v":""}]
[null,"請求金額",{"$nulls":5},{"$f":"H41+H42","v":{"v":0,"d":"¥0"}},null,null,{"$f":"IF(商品マスタ!B37=\"\",\"\",商品マスタ!B37)","v":33},{"$f":"IF(商品マスタ!C37=\"\",\"\",商品マスタ!C37)","v":""},{"$f":"IF(商品マスタ!D37=\"\",\"\",商品マスタ!D37)","v":""},{"$f":"IF(商品マスタ!E37=\"\",\"\",商品マスタ!E37)","v":""},{"$f":"IF(商品マスタ!F37=\"\",\"\",商品マスタ!F37)","v":""}]
[{"$nulls":10},{"$f":"IF(商品マスタ!B38=\"\",\"\",商品マスタ!B38)","v":34},{"$f":"IF(商品マスタ!C38=\"\",\"\",商品マスタ!C38)","v":""},{"$f":"IF(商品マスタ!D38=\"\",\"\",商品マスタ!D38)","v":""},{"$f":"IF(商品マスタ!E38=\"\",\"\",商品マスタ!E38)","v":""},{"$f":"IF(商品マスタ!F38=\"\",\"\",商品マスタ!F38)","v":""}]
[{"$nulls":10},{"$f":"IF(商品マスタ!B39=\"\",\"\",商品マスタ!B39)","v":35},{"$f":"IF(商品マスタ!C39=\"\",\"\",商品マスタ!C39)","v":""},{"$f":"IF(商品マスタ!D39=\"\",\"\",商品マスタ!D39)","v":""},{"$f":"IF(商品マスタ!E39=\"\",\"\",商品マスタ!E39)","v":""},{"$f":"IF(商品マスタ!F39=\"\",\"\",商品マスタ!F39)","v":""}]
[{"$nulls":10},{"$f":"IF(商品マスタ!B40=\"\",\"\",商品マスタ!B40)","v":36},{"$f":"IF(商品マスタ!C40=\"\",\"\",商品マスタ!C40)","v":""},{"$f":"IF(商品マスタ!D40=\"\",\"\",商品マスタ!D40)","v":""},{"$f":"IF(商品マスタ!E40=\"\",\"\",商品マスタ!E40)","v":""},{"$f":"IF(商品マスタ!F40=\"\",\"\",商品マスタ!F40)","v":""}]
[{"$nulls":10},{"$f":"IF(商品マスタ!B41=\"\",\"\",商品マスタ!B41)","v":37},{"$f":"IF(商品マスタ!C41=\"\",\"\",商品マスタ!C41)","v":""},{"$f":"IF(商品マスタ!D41=\"\",\"\",商品マスタ!D41)","v":""},{"$f":"IF(商品マスタ!E41=\"\",\"\",商品マスタ!E41)","v":""},{"$f":"IF(商品マスタ!F41=\"\",\"\",商品マスタ!F41)","v":""}]
[{"$nulls":10},{"$f":"IF(商品マスタ!B42=\"\",\"\",商品マスタ!B42)","v":38},{"$f":"IF(商品マスタ!C42=\"\",\"\",商品マスタ!C42)","v":""},{"$f":"IF(商品マスタ!D42=\"\",\"\",商品マスタ!D42)","v":""},{"$f":"IF(商品マスタ!E42=\"\",\"\",商品マスタ!E42)","v":""},{"$f":"IF(商品マスタ!F42=\"\",\"\",商品マスタ!F42)","v":""}]
[{"$nulls":10},{"$f":"IF(商品マスタ!B43=\"\",\"\",商品マスタ!B43)","v":39},{"$f":"IF(商品マスタ!C43=\"\",\"\",商品マスタ!C43)","v":""},{"$f":"IF(商品マスタ!D43=\"\",\"\",商品マスタ!D43)","v":""},{"$f":"IF(商品マスタ!E43=\"\",\"\",商品マスタ!E43)","v":""},{"$f":"IF(商品マスタ!F43=\"\",\"\",商品マスタ!F43)","v":""}]
[{"$nulls":10},{"$f":"IF(商品マスタ!B44=\"\",\"\",商品マスタ!B44)","v":40},{"$f":"IF(商品マスタ!C44=\"\",\"\",商品マスタ!C44)","v":""},{"$f":"IF(商品マスタ!D44=\"\",\"\",商品マスタ!D44)","v":""},{"$f":"IF(商品マスタ!E44=\"\",\"\",商品マスタ!E44)","v":""},{"$f":"IF(商品マスタ!F44=\"\",\"\",商品マスタ!F44)","v":""}]
[{"$nulls":10},{"$f":"IF(商品マスタ!B45=\"\",\"\",商品マスタ!B45)","v":41},{"$f":"IF(商品マスタ!C45=\"\",\"\",商品マスタ!C45)","v":""},{"$f":"IF(商品マスタ!D45=\"\",\"\",商品マスタ!D45)","v":""},{"$f":"IF(商品マスタ!E45=\"\",\"\",商品マスタ!E45)","v":""},{"$f":"IF(商品マスタ!F45=\"\",\"\",商品マスタ!F45)","v":""}]
[{"$nulls":10},{"$f":"IF(商品マスタ!B46=\"\",\"\",商品マスタ!B46)","v":42},{"$f":"IF(商品マスタ!C46=\"\",\"\",商品マスタ!C46)","v":""},{"$f":"IF(商品マスタ!D46=\"\",\"\",商品マスタ!D46)","v":""},{"$f":"IF(商品マスタ!E46=\"\",\"\",商品マスタ!E46)","v":""},{"$f":"IF(商品マスタ!F46=\"\",\"\",商品マスタ!F46)","v":""}]
[{"$nulls":10},{"$f":"IF(商品マスタ!B47=\"\",\"\",商品マスタ!B47)","v":43},{"$f":"IF(商品マスタ!C47=\"\",\"\",商品マスタ!C47)","v":""},{"$f":"IF(商品マスタ!D47=\"\",\"\",商品マスタ!D47)","v":""},{"$f":"IF(商品マスタ!E47=\"\",\"\",商品マスタ!E47)","v":""},{"$f":"IF(商品マスタ!F47=\"\",\"\",商品マスタ!F47)","v":""}]
[{"$nulls":10},{"$f":"IF(商品マスタ!B48=\"\",\"\",商品マスタ!B48)","v":44},{"$f":"IF(商品マスタ!C48=\"\",\"\",商品マスタ!C48)","v":""},{"$f":"IF(商品マスタ!D48=\"\",\"\",商品マスタ!D48)","v":""},{"$f":"IF(商品マスタ!E48=\"\",\"\",商品マスタ!E48)","v":""},{"$f":"IF(商品マスタ!F48=\"\",\"\",商品マスタ!F48)","v":""}]
[{"$nulls":10},{"$f":"IF(商品マスタ!B49=\"\",\"\",商品マスタ!B49)","v":45},{"$f":"IF(商品マスタ!C49=\"\",\"\",商品マスタ!C49)","v":""},{"$f":"IF(商品マスタ!D49=\"\",\"\",商品マスタ!D49)","v":""},{"$f":"IF(商品マスタ!E49=\"\",\"\",商品マスタ!E49)","v":""},{"$f":"IF(商品マスタ!F49=\"\",\"\",商品マスタ!F49)","v":""}]
[{"$nulls":10},{"$f":"IF(商品マスタ!B50=\"\",\"\",商品マスタ!B50)","v":46},{"$f":"IF(商品マスタ!C50=\"\",\"\",商品マスタ!C50)","v":""},{"$f":"IF(商品マスタ!D50=\"\",\"\",商品マスタ!D50)","v":""},{"$f":"IF(商品マスタ!E50=\"\",\"\",商品マスタ!E50)","v":""},{"$f":"IF(商品マスタ!F50=\"\",\"\",商品マスタ!F50)","v":""}]
[{"$nulls":10},{"$f":"IF(商品マスタ!B51=\"\",\"\",商品マスタ!B51)","v":47},{"$f":"IF(商品マスタ!C51=\"\",\"\",商品マスタ!C51)","v":""},{"$f":"IF(商品マスタ!D51=\"\",\"\",商品マスタ!D51)","v":""},{"$f":"IF(商品マスタ!E51=\"\",\"\",商品マスタ!E51)","v":""},{"$f":"IF(商品マスタ!F51=\"\",\"\",商品マスタ!F51)","v":""}]
[{"$nulls":10},{"$f":"IF(商品マスタ!B52=\"\",\"\",商品マスタ!B52)","v":48},{"$f":"IF(商品マスタ!C52=\"\",\"\",商品マスタ!C52)","v":""},{"$f":"IF(商品マスタ!D52=\"\",\"\",商品マスタ!D52)","v":""},{"$f":"IF(商品マスタ!E52=\"\",\"\",商品マスタ!E52)","v":""},{"$f":"IF(商品マスタ!F52=\"\",\"\",商品マスタ!F52)","v":""}]
[{"$nulls":10},{"$f":"IF(商品マスタ!B53=\"\",\"\",商品マスタ!B53)","v":49},{"$f":"IF(商品マスタ!C53=\"\",\"\",商品マスタ!C53)","v":""},{"$f":"IF(商品マスタ!D53=\"\",\"\",商品マスタ!D53)","v":""},{"$f":"IF(商品マスタ!E53=\"\",\"\",商品マスタ!E53)","v":""},{"$f":"IF(商品マスタ!F53=\"\",\"\",商品マスタ!F53)","v":""}]
[{"$nulls":10},{"$f":"IF(商品マスタ!B54=\"\",\"\",商品マスタ!B54)","v":50},{"$f":"IF(商品マスタ!C54=\"\",\"\",商品マスタ!C54)","v":""},{"$f":"IF(商品マスタ!D54=\"\",\"\",商品マスタ!D54)","v":""},{"$f":"IF(商品マスタ!E54=\"\",\"\",商品マスタ!E54)","v":""},{"$f":"IF(商品マスタ!F54=\"\",\"\",商品マスタ!F54)","v":""}]
[{"$nulls":10},{"$f":"IF(商品マスタ!B55=\"\",\"\",商品マスタ!B55)","v":51},{"$f":"IF(商品マスタ!C55=\"\",\"\",商品マスタ!C55)","v":""},{"$f":"IF(商品マスタ!D55=\"\",\"\",商品マスタ!D55)","v":""},{"$f":"IF(商品マスタ!E55=\"\",\"\",商品マスタ!E55)","v":""},{"$f":"IF(商品マスタ!F55=\"\",\"\",商品マスタ!F55)","v":""}]
[{"$nulls":10},{"$f":"IF(商品マスタ!B56=\"\",\"\",商品マスタ!B56)","v":52},{"$f":"IF(商品マスタ!C56=\"\",\"\",商品マスタ!C56)","v":""},{"$f":"IF(商品マスタ!D56=\"\",\"\",商品マスタ!D56)","v":""},{"$f":"IF(商品マスタ!E56=\"\",\"\",商品マスタ!E56)","v":""},{"$f":"IF(商品マスタ!F56=\"\",\"\",商品マスタ!F56)","v":""}]
[{"$nulls":10},{"$f":"IF(商品マスタ!B57=\"\",\"\",商品マスタ!B57)","v":53},{"$f":"IF(商品マスタ!C57=\"\",\"\",商品マスタ!C57)","v":""},{"$f":"IF(商品マスタ!D57=\"\",\"\",商品マスタ!D57)","v":""},{"$f":"IF(商品マスタ!E57=\"\",\"\",商品マスタ!E57)","v":""},{"$f":"IF(商品マスタ!F57=\"\",\"\",商品マスタ!F57)","v":""}]
[{"$nulls":10},{"$f":"IF(商品マスタ!B58=\"\",\"\",商品マスタ!B58)","v":54},{"$f":"IF(商品マスタ!C58=\"\",\"\",商品マスタ!C58)","v":""},{"$f":"IF(商品マスタ!D58=\"\",\"\",商品マスタ!D58)","v":""},{"$f":"IF(商品マスタ!E58=\"\",\"\",商品マスタ!E58)","v":""},{"$f":"IF(商品マスタ!F58=\"\",\"\",商品マスタ!F58)","v":""}]
[{"$nulls":10},{"$f":"IF(商品マスタ!B59=\"\",\"\",商品マスタ!B59)","v":55},{"$f":"IF(商品マスタ!C59=\"\",\"\",商品マスタ!C59)","v":""},{"$f":"IF(商品マスタ!D59=\"\",\"\",商品マスタ!D59)","v":""},{"$f":"IF(商品マスタ!E59=\"\",\"\",商品マスタ!E59)","v":""},{"$f":"IF(商品マスタ!F59=\"\",\"\",商品マスタ!F59)","v":""}]
[{"$nulls":10},{"$f":"IF(商品マスタ!B60=\"\",\"\",商品マスタ!B60)","v":56},{"$f":"IF(商品マスタ!C60=\"\",\"\",商品マスタ!C60)","v":""},{"$f":"IF(商品マスタ!D60=\"\",\"\",商品マスタ!D60)","v":""},{"$f":"IF(商品マスタ!E60=\"\",\"\",商品マスタ!E60)","v":""},{"$f":"IF(商品マスタ!F60=\"\",\"\",商品マスタ!F60)","v":""}]
[{"$nulls":10},{"$f":"IF(商品マスタ!B61=\"\",\"\",商品マスタ!B61)","v":57},{"$f":"IF(商品マスタ!C61=\"\",\"\",商品マスタ!C61)","v":""},{"$f":"IF(商品マスタ!D61=\"\",\"\",商品マスタ!D61)","v":""},{"$f":"IF(商品マスタ!E61=\"\",\"\",商品マスタ!E61)","v":""},{"$f":"IF(商品マスタ!F61=\"\",\"\",商品マスタ!F61)","v":""}]
[{"$nulls":10},{"$f":"IF(商品マスタ!B62=\"\",\"\",商品マスタ!B62)","v":58},{"$f":"IF(商品マスタ!C62=\"\",\"\",商品マスタ!C62)","v":""},{"$f":"IF(商品マスタ!D62=\"\",\"\",商品マスタ!D62)","v":""},{"$f":"IF(商品マスタ!E62=\"\",\"\",商品マスタ!E62)","v":""},{"$f":"IF(商品マスタ!F62=\"\",\"\",商品マスタ!F62)","v":""}]
[{"$nulls":10},{"$f":"IF(商品マスタ!B63=\"\",\"\",商品マスタ!B63)","v":59},{"$f":"IF(商品マスタ!C63=\"\",\"\",商品マスタ!C63)","v":""},{"$f":"IF(商品マスタ!D63=\"\",\"\",商品マスタ!D63)","v":""},{"$f":"IF(商品マスタ!E63=\"\",\"\",商品マスタ!E63)","v":""},{"$f":"IF(商品マスタ!F63=\"\",\"\",商品マスタ!F63)","v":""}]
[{"$nulls":10},{"$f":"IF(商品マスタ!B64=\"\",\"\",商品マスタ!B64)","v":60},{"$f":"IF(商品マスタ!C64=\"\",\"\",商品マスタ!C64)","v":""},{"$f":"IF(商品マスタ!D64=\"\",\"\",商品マスタ!D64)","v":""},{"$f":"IF(商品マスタ!E64=\"\",\"\",商品マスタ!E64)","v":""},{"$f":"IF(商品マスタ!F64=\"\",\"\",商品マスタ!F64)","v":""}]
[{"$nulls":10},{"$f":"IF(商品マスタ!B65=\"\",\"\",商品マスタ!B65)","v":61},{"$f":"IF(商品マスタ!C65=\"\",\"\",商品マスタ!C65)","v":""},{"$f":"IF(商品マスタ!D65=\"\",\"\",商品マスタ!D65)","v":""},{"$f":"IF(商品マスタ!E65=\"\",\"\",商品マスタ!E65)","v":""},{"$f":"IF(商品マスタ!F65=\"\",\"\",商品マスタ!F65)","v":""}]
[{"$nulls":10},{"$f":"IF(商品マスタ!B66=\"\",\"\",商品マスタ!B66)","v":62},{"$f":"IF(商品マスタ!C66=\"\",\"\",商品マスタ!C66)","v":""},{"$f":"IF(商品マスタ!D66=\"\",\"\",商品マスタ!D66)","v":""},{"$f":"IF(商品マスタ!E66=\"\",\"\",商品マスタ!E66)","v":""},{"$f":"IF(商品マスタ!F66=\"\",\"\",商品マスタ!F66)","v":""}]
[{"$nulls":10},{"$f":"IF(商品マスタ!B67=\"\",\"\",商品マスタ!B67)","v":63},{"$f":"IF(商品マスタ!C67=\"\",\"\",商品マスタ!C67)","v":""},{"$f":"IF(商品マスタ!D67=\"\",\"\",商品マスタ!D67)","v":""},{"$f":"IF(商品マスタ!E67=\"\",\"\",商品マスタ!E67)","v":""},{"$f":"IF(商品マスタ!F67=\"\",\"\",商品マスタ!F67)","v":""}]
[{"$nulls":10},{"$f":"IF(商品マスタ!B68=\"\",\"\",商品マスタ!B68)","v":64},{"$f":"IF(商品マスタ!C68=\"\",\"\",商品マスタ!C68)","v":""},{"$f":"IF(商品マスタ!D68=\"\",\"\",商品マスタ!D68)","v":""},{"$f":"IF(商品マスタ!E68=\"\",\"\",商品マスタ!E68)","v":""},{"$f":"IF(商品マスタ!F68=\"\",\"\",商品マスタ!F68)","v":""}]
[{"$nulls":10},{"$f":"IF(商品マスタ!B69=\"\",\"\",商品マスタ!B69)","v":65},{"$f":"IF(商品マスタ!C69=\"\",\"\",商品マスタ!C69)","v":""},{"$f":"IF(商品マスタ!D69=\"\",\"\",商品マスタ!D69)","v":""},{"$f":"IF(商品マスタ!E69=\"\",\"\",商品マスタ!E69)","v":""},{"$f":"IF(商品マスタ!F69=\"\",\"\",商品マスタ!F69)","v":""}]
[{"$nulls":10},{"$f":"IF(商品マスタ!B70=\"\",\"\",商品マスタ!B70)","v":66},{"$f":"IF(商品マスタ!C70=\"\",\"\",商品マスタ!C70)","v":""},{"$f":"IF(商品マスタ!D70=\"\",\"\",商品マスタ!D70)","v":""},{"$f":"IF(商品マスタ!E70=\"\",\"\",商品マスタ!E70)","v":""},{"$f":"IF(商品マスタ!F70=\"\",\"\",商品マスタ!F70)","v":""}]
[{"$nulls":10},{"$f":"IF(商品マスタ!B71=\"\",\"\",商品マスタ!B71)","v":67},{"$f":"IF(商品マスタ!C71=\"\",\"\",商品マスタ!C71)","v":""},{"$f":"IF(商品マスタ!D71=\"\",\"\",商品マスタ!D71)","v":""},{"$f":"IF(商品マスタ!E71=\"\",\"\",商品マスタ!E71)","v":""},{"$f":"IF(商品マスタ!F71=\"\",\"\",商品マスタ!F71)","v":""}]
[{"$nulls":10},{"$f":"IF(商品マスタ!B72=\"\",\"\",商品マスタ!B72)","v":68},{"$f":"IF(商品マスタ!C72=\"\",\"\",商品マスタ!C72)","v":""},{"$f":"IF(商品マスタ!D72=\"\",\"\",商品マスタ!D72)","v":""},{"$f":"IF(商品マスタ!E72=\"\",\"\",商品マスタ!E72)","v":""},{"$f":"IF(商品マスタ!F72=\"\",\"\",商品マスタ!F72)","v":""}]
[{"$nulls":10},{"$f":"IF(商品マスタ!B73=\"\",\"\",商品マスタ!B73)","v":69},{"$f":"IF(商品マスタ!C73=\"\",\"\",商品マスタ!C73)","v":""},{"$f":"IF(商品マスタ!D73=\"\",\"\",商品マスタ!D73)","v":""},{"$f":"IF(商品マスタ!E73=\"\",\"\",商品マスタ!E73)","v":""},{"$f":"IF(商品マスタ!F73=\"\",\"\",商品マスタ!F73)","v":""}]
[{"$nulls":10},{"$f":"IF(商品マスタ!B74=\"\",\"\",商品マスタ!B74)","v":70},{"$f":"IF(商品マスタ!C74=\"\",\"\",商品マスタ!C74)","v":""},{"$f":"IF(商品マスタ!D74=\"\",\"\",商品マスタ!D74)","v":""},{"$f":"IF(商品マスタ!E74=\"\",\"\",商品マスタ!E74)","v":""},{"$f":"IF(商品マスタ!F74=\"\",\"\",商品マスタ!F74)","v":""}]
[{"$nulls":10},{"$f":"IF(商品マスタ!B75=\"\",\"\",商品マスタ!B75)","v":71},{"$f":"IF(商品マスタ!C75=\"\",\"\",商品マスタ!C75)","v":""},{"$f":"IF(商品マスタ!D75=\"\",\"\",商品マスタ!D75)","v":""},{"$f":"IF(商品マスタ!E75=\"\",\"\",商品マスタ!E75)","v":""},{"$f":"IF(商品マスタ!F75=\"\",\"\",商品マスタ!F75)","v":""}]
[{"$nulls":10},{"$f":"IF(商品マスタ!B76=\"\",\"\",商品マスタ!B76)","v":72},{"$f":"IF(商品マスタ!C76=\"\",\"\",商品マスタ!C76)","v":""},{"$f":"IF(商品マスタ!D76=\"\",\"\",商品マスタ!D76)","v":""},{"$f":"IF(商品マスタ!E76=\"\",\"\",商品マスタ!E76)","v":""},{"$f":"IF(商品マスタ!F76=\"\",\"\",商品マスタ!F76)","v":""}]
[{"$nulls":10},{"$f":"IF(商品マスタ!B77=\"\",\"\",商品マスタ!B77)","v":73},{"$f":"IF(商品マスタ!C77=\"\",\"\",商品マスタ!C77)","v":""},{"$f":"IF(商品マスタ!D77=\"\",\"\",商品マスタ!D77)","v":""},{"$f":"IF(商品マスタ!E77=\"\",\"\",商品マスタ!E77)","v":""},{"$f":"IF(商品マスタ!F77=\"\",\"\",商品マスタ!F77)","v":""}]
[{"$nulls":10},{"$f":"IF(商品マスタ!B78=\"\",\"\",商品マスタ!B78)","v":74},{"$f":"IF(商品マスタ!C78=\"\",\"\",商品マスタ!C78)","v":""},{"$f":"IF(商品マスタ!D78=\"\",\"\",商品マスタ!D78)","v":""},{"$f":"IF(商品マスタ!E78=\"\",\"\",商品マスタ!E78)","v":""},{"$f":"IF(商品マスタ!F78=\"\",\"\",商品マスタ!F78)","v":""}]
[{"$nulls":10},{"$f":"IF(商品マスタ!B79=\"\",\"\",商品マスタ!B79)","v":75},{"$f":"IF(商品マスタ!C79=\"\",\"\",商品マスタ!C79)","v":""},{"$f":"IF(商品マスタ!D79=\"\",\"\",商品マスタ!D79)","v":""},{"$f":"IF(商品マスタ!E79=\"\",\"\",商品マスタ!E79)","v":""},{"$f":"IF(商品マスタ!F79=\"\",\"\",商品マスタ!F79)","v":""}]
[{"$nulls":10},{"$f":"IF(商品マスタ!B80=\"\",\"\",商品マスタ!B80)","v":76},{"$f":"IF(商品マスタ!C80=\"\",\"\",商品マスタ!C80)","v":""},{"$f":"IF(商品マスタ!D80=\"\",\"\",商品マスタ!D80)","v":""},{"$f":"IF(商品マスタ!E80=\"\",\"\",商品マスタ!E80)","v":""},{"$f":"IF(商品マスタ!F80=\"\",\"\",商品マスタ!F80)","v":""}]
[{"$nulls":10},{"$f":"IF(商品マスタ!B81=\"\",\"\",商品マスタ!B81)","v":77},{"$f":"IF(商品マスタ!C81=\"\",\"\",商品マスタ!C81)","v":""},{"$f":"IF(商品マスタ!D81=\"\",\"\",商品マスタ!D81)","v":""},{"$f":"IF(商品マスタ!E81=\"\",\"\",商品マスタ!E81)","v":""},{"$f":"IF(商品マスタ!F81=\"\",\"\",商品マスタ!F81)","v":""}]
[{"$nulls":10},{"$f":"IF(商品マスタ!B82=\"\",\"\",商品マスタ!B82)","v":78},{"$f":"IF(商品マスタ!C82=\"\",\"\",商品マスタ!C82)","v":""},{"$f":"IF(商品マスタ!D82=\"\",\"\",商品マスタ!D82)","v":""},{"$f":"IF(商品マスタ!E82=\"\",\"\",商品マスタ!E82)","v":""},{"$f":"IF(商品マスタ!F82=\"\",\"\",商品マスタ!F82)","v":""}]
[{"$nulls":10},{"$f":"IF(商品マスタ!B83=\"\",\"\",商品マスタ!B83)","v":79},{"$f":"IF(商品マスタ!C83=\"\",\"\",商品マスタ!C83)","v":""},{"$f":"IF(商品マスタ!D83=\"\",\"\",商品マスタ!D83)","v":""},{"$f":"IF(商品マスタ!E83=\"\",\"\",商品マスタ!E83)","v":""},{"$f":"IF(商品マスタ!F83=\"\",\"\",商品マスタ!F83)","v":""}]
[{"$nulls":10},{"$f":"IF(商品マスタ!B84=\"\",\"\",商品マスタ!B84)","v":80},{"$f":"IF(商品マスタ!C84=\"\",\"\",商品マスタ!C84)","v":""},{"$f":"IF(商品マスタ!D84=\"\",\"\",商品マスタ!D84)","v":""},{"$f":"IF(商品マスタ!E84=\"\",\"\",商品マスタ!E84)","v":""},{"$f":"IF(商品マスタ!F84=\"\",\"\",商品マスタ!F84)","v":""}]
[{"$nulls":10},{"$f":"IF(商品マスタ!B85=\"\",\"\",商品マスタ!B85)","v":81},{"$f":"IF(商品マスタ!C85=\"\",\"\",商品マスタ!C85)","v":""},{"$f":"IF(商品マスタ!D85=\"\",\"\",商品マスタ!D85)","v":""},{"$f":"IF(商品マスタ!E85=\"\",\"\",商品マスタ!E85)","v":""},{"$f":"IF(商品マスタ!F85=\"\",\"\",商品マスタ!F85)","v":""}]
[{"$nulls":10},{"$f":"IF(商品マスタ!B86=\"\",\"\",商品マスタ!B86)","v":82},{"$f":"IF(商品マスタ!C86=\"\",\"\",商品マスタ!C86)","v":""},{"$f":"IF(商品マスタ!D86=\"\",\"\",商品マスタ!D86)","v":""},{"$f":"IF(商品マスタ!E86=\"\",\"\",商品マスタ!E86)","v":""},{"$f":"IF(商品マスタ!F86=\"\",\"\",商品マスタ!F86)","v":""}]
[{"$nulls":10},{"$f":"IF(商品マスタ!B87=\"\",\"\",商品マスタ!B87)","v":83},{"$f":"IF(商品マスタ!C87=\"\",\"\",商品マスタ!C87)","v":""},{"$f":"IF(商品マスタ!D87=\"\",\"\",商品マスタ!D87)","v":""},{"$f":"IF(商品マスタ!E87=\"\",\"\",商品マスタ!E87)","v":""},{"$f":"IF(商品マスタ!F87=\"\",\"\",商品マスタ!F87)","v":""}]
[{"$nulls":10},{"$f":"IF(商品マスタ!B88=\"\",\"\",商品マスタ!B88)","v":84},{"$f":"IF(商品マスタ!C88=\"\",\"\",商品マスタ!C88)","v":""},{"$f":"IF(商品マスタ!D88=\"\",\"\",商品マスタ!D88)","v":""},{"$f":"IF(商品マスタ!E88=\"\",\"\",商品マスタ!E88)","v":""},{"$f":"IF(商品マスタ!F88=\"\",\"\",商品マスタ!F88)","v":""}]
[{"$nulls":10},{"$f":"IF(商品マスタ!B89=\"\",\"\",商品マスタ!B89)","v":85},{"$f":"IF(商品マスタ!C89=\"\",\"\",商品マスタ!C89)","v":""},{"$f":"IF(商品マスタ!D89=\"\",\"\",商品マスタ!D89)","v":""},{"$f":"IF(商品マスタ!E89=\"\",\"\",商品マスタ!E89)","v":""},{"$f":"IF(商品マスタ!F89=\"\",\"\",商品マスタ!F89)","v":""}]
[{"$nulls":10},{"$f":"IF(商品マスタ!B90=\"\",\"\",商品マスタ!B90)","v":86},{"$f":"IF(商品マスタ!C90=\"\",\"\",商品マスタ!C90)","v":""},{"$f":"IF(商品マスタ!D90=\"\",\"\",商品マスタ!D90)","v":""},{"$f":"IF(商品マスタ!E90=\"\",\"\",商品マスタ!E90)","v":""},{"$f":"IF(商品マスタ!F90=\"\",\"\",商品マスタ!F90)","v":""}]
[{"$nulls":10},{"$f":"IF(商品マスタ!B91=\"\",\"\",商品マスタ!B91)","v":87},{"$f":"IF(商品マスタ!C91=\"\",\"\",商品マスタ!C91)","v":""},{"$f":"IF(商品マスタ!D91=\"\",\"\",商品マスタ!D91)","v":""},{"$f":"IF(商品マスタ!E91=\"\",\"\",商品マスタ!E91)","v":""},{"$f":"IF(商品マスタ!F91=\"\",\"\",商品マスタ!F91)","v":""}]
[{"$nulls":10},{"$f":"IF(商品マスタ!B92=\"\",\"\",商品マスタ!B92)","v":88},{"$f":"IF(商品マスタ!C92=\"\",\"\",商品マスタ!C92)","v":""},{"$f":"IF(商品マスタ!D92=\"\",\"\",商品マスタ!D92)","v":""},{"$f":"IF(商品マスタ!E92=\"\",\"\",商品マスタ!E92)","v":""},{"$f":"IF(商品マスタ!F92=\"\",\"\",商品マスタ!F92)","v":""}]
[{"$nulls":10},{"$f":"IF(商品マスタ!B93=\"\",\"\",商品マスタ!B93)","v":89},{"$f":"IF(商品マスタ!C93=\"\",\"\",商品マスタ!C93)","v":""},{"$f":"IF(商品マスタ!D93=\"\",\"\",商品マスタ!D93)","v":""},{"$f":"IF(商品マスタ!E93=\"\",\"\",商品マスタ!E93)","v":""},{"$f":"IF(商品マスタ!F93=\"\",\"\",商品マスタ!F93)","v":""}]
[{"$nulls":10},{"$f":"IF(商品マスタ!B94=\"\",\"\",商品マスタ!B94)","v":90},{"$f":"IF(商品マスタ!C94=\"\",\"\",商品マスタ!C94)","v":""},{"$f":"IF(商品マスタ!D94=\"\",\"\",商品マスタ!D94)","v":""},{"$f":"IF(商品マスタ!E94=\"\",\"\",商品マスタ!E94)","v":""},{"$f":"IF(商品マスタ!F94=\"\",\"\",商品マスタ!F94)","v":""}]
[{"$nulls":10},{"$f":"IF(商品マスタ!B95=\"\",\"\",商品マスタ!B95)","v":91},{"$f":"IF(商品マスタ!C95=\"\",\"\",商品マスタ!C95)","v":""},{"$f":"IF(商品マスタ!D95=\"\",\"\",商品マスタ!D95)","v":""},{"$f":"IF(商品マスタ!E95=\"\",\"\",商品マスタ!E95)","v":""},{"$f":"IF(商品マスタ!F95=\"\",\"\",商品マスタ!F95)","v":""}]
[{"$nulls":10},{"$f":"IF(商品マスタ!B96=\"\",\"\",商品マスタ!B96)","v":92},{"$f":"IF(商品マスタ!C96=\"\",\"\",商品マスタ!C96)","v":""},{"$f":"IF(商品マスタ!D96=\"\",\"\",商品マスタ!D96)","v":""},{"$f":"IF(商品マスタ!E96=\"\",\"\",商品マスタ!E96)","v":""},{"$f":"IF(商品マスタ!F96=\"\",\"\",商品マスタ!F96)","v":""}]
[{"$nulls":10},{"$f":"IF(商品マスタ!B97=\"\",\"\",商品マスタ!B97)","v":93},{"$f":"IF(商品マスタ!C97=\"\",\"\",商品マスタ!C97)","v":""},{"$f":"IF(商品マスタ!D97=\"\",\"\",商品マスタ!D97)","v":""},{"$f":"IF(商品マスタ!E97=\"\",\"\",商品マスタ!E97)","v":""},{"$f":"IF(商品マスタ!F97=\"\",\"\",商品マスタ!F97)","v":""}]
[{"$nulls":10},{"$f":"IF(商品マスタ!B98=\"\",\"\",商品マスタ!B98)","v":94},{"$f":"IF(商品マスタ!C98=\"\",\"\",商品マスタ!C98)","v":""},{"$f":"IF(商品マスタ!D98=\"\",\"\",商品マスタ!D98)","v":""},{"$f":"IF(商品マスタ!E98=\"\",\"\",商品マスタ!E98)","v":""},{"$f":"IF(商品マスタ!F98=\"\",\"\",商品マスタ!F98)","v":""}]
[{"$nulls":10},{"$f":"IF(商品マスタ!B99=\"\",\"\",商品マスタ!B99)","v":95},{"$f":"IF(商品マスタ!C99=\"\",\"\",商品マスタ!C99)","v":""},{"$f":"IF(商品マスタ!D99=\"\",\"\",商品マスタ!D99)","v":""},{"$f":"IF(商品マスタ!E99=\"\",\"\",商品マスタ!E99)","v":""},{"$f":"IF(商品マスタ!F99=\"\",\"\",商品マスタ!F99)","v":""}]
[{"$nulls":10},{"$f":"IF(商品マスタ!B100=\"\",\"\",商品マスタ!B100)","v":96},{"$f":"IF(商品マスタ!C100=\"\",\"\",商品マスタ!C100)","v":""},{"$f":"IF(商品マスタ!D100=\"\",\"\",商品マスタ!D100)","v":""},{"$f":"IF(商品マスタ!E100=\"\",\"\",商品マスタ!E100)","v":""},{"$f":"IF(商品マスタ!F100=\"\",\"\",商品マスタ!F100)","v":""}]
[{"$nulls":10},{"$f":"IF(商品マスタ!B101=\"\",\"\",商品マスタ!B101)","v":97},{"$f":"IF(商品マスタ!C101=\"\",\"\",商品マスタ!C101)","v":""},{"$f":"IF(商品マスタ!D101=\"\",\"\",商品マスタ!D101)","v":""},{"$f":"IF(商品マスタ!E101=\"\",\"\",商品マスタ!E101)","v":""},{"$f":"IF(商品マスタ!F101=\"\",\"\",商品マスタ!F101)","v":""}]
[{"$nulls":10},{"$f":"IF(商品マスタ!B102=\"\",\"\",商品マスタ!B102)","v":98},{"$f":"IF(商品マスタ!C102=\"\",\"\",商品マスタ!C102)","v":""},{"$f":"IF(商品マスタ!D102=\"\",\"\",商品マスタ!D102)","v":""},{"$f":"IF(商品マスタ!E102=\"\",\"\",商品マスタ!E102)","v":""},{"$f":"IF(商品マスタ!F102=\"\",\"\",商品マスタ!F102)","v":""}]
[{"$nulls":10},{"$f":"IF(商品マスタ!B103=\"\",\"\",商品マスタ!B103)","v":99},{"$f":"IF(商品マスタ!C103=\"\",\"\",商品マスタ!C103)","v":""},{"$f":"IF(商品マスタ!D103=\"\",\"\",商品マスタ!D103)","v":""},{"$f":"IF(商品マスタ!E103=\"\",\"\",商品マスタ!E103)","v":""},{"$f":"IF(商品マスタ!F103=\"\",\"\",商品マスタ!F103)","v":""}]
[{"$nulls":10},{"$f":"IF(商品マスタ!B104=\"\",\"\",商品マスタ!B104)","v":100},{"$f":"IF(商品マスタ!C104=\"\",\"\",商品マスタ!C104)","v":""},{"$f":"IF(商品マスタ!D104=\"\",\"\",商品マスタ!D104)","v":""},{"$f":"IF(商品マスタ!E104=\"\",\"\",商品マスタ!E104)","v":""},{"$f":"IF(商品マスタ!F104=\"\",\"\",商品マスタ!F104)","v":""}]
[{"$nulls":10},{"$f":"IF(商品マスタ!B105=\"\",\"\",商品マスタ!B105)","v":101},{"$f":"IF(商品マスタ!C105=\"\",\"\",商品マスタ!C105)","v":""},{"$f":"IF(商品マスタ!D105=\"\",\"\",商品マスタ!D105)","v":""},{"$f":"IF(商品マスタ!E105=\"\",\"\",商品マスタ!E105)","v":""},{"$f":"IF(商品マスタ!F105=\"\",\"\",商品マスタ!F105)","v":""}]
[{"$nulls":10},{"$f":"IF(商品マスタ!B106=\"\",\"\",商品マスタ!B106)","v":102},{"$f":"IF(商品マスタ!C106=\"\",\"\",商品マスタ!C106)","v":""},{"$f":"IF(商品マスタ!D106=\"\",\"\",商品マスタ!D106)","v":""},{"$f":"IF(商品マスタ!E106=\"\",\"\",商品マスタ!E106)","v":""},{"$f":"IF(商品マスタ!F106=\"\",\"\",商品マスタ!F106)","v":""}]
[{"$nulls":10},{"$f":"IF(商品マスタ!B107=\"\",\"\",商品マスタ!B107)","v":103},{"$f":"IF(商品マスタ!C107=\"\",\"\",商品マスタ!C107)","v":""},{"$f":"IF(商品マスタ!D107=\"\",\"\",商品マスタ!D107)","v":""},{"$f":"IF(商品マスタ!E107=\"\",\"\",商品マスタ!E107)","v":""},{"$f":"IF(商品マスタ!F107=\"\",\"\",商品マスタ!F107)","v":""}]
[{"$nulls":10},{"$f":"IF(商品マスタ!B108=\"\",\"\",商品マスタ!B108)","v":104},{"$f":"IF(商品マスタ!C108=\"\",\"\",商品マスタ!C108)","v":""},{"$f":"IF(商品マスタ!D108=\"\",\"\",商品マスタ!D108)","v":""},{"$f":"IF(商品マスタ!E108=\"\",\"\",商品マスタ!E108)","v":""},{"$f":"IF(商品マスタ!F108=\"\",\"\",商品マスタ!F108)","v":""}]
[{"$nulls":10},{"$f":"IF(商品マスタ!B109=\"\",\"\",商品マスタ!B109)","v":105},{"$f":"IF(商品マスタ!C109=\"\",\"\",商品マスタ!C109)","v":""},{"$f":"IF(商品マスタ!D109=\"\",\"\",商品マスタ!D109)","v":""},{"$f":"IF(商品マスタ!E109=\"\",\"\",商品マスタ!E109)","v":""},{"$f":"IF(商品マスタ!F109=\"\",\"\",商品マスタ!F109)","v":""}]
[{"$nulls":10},{"$f":"IF(商品マスタ!B110=\"\",\"\",商品マスタ!B110)","v":106},{"$f":"IF(商品マスタ!C110=\"\",\"\",商品マスタ!C110)","v":""},{"$f":"IF(商品マスタ!D110=\"\",\"\",商品マスタ!D110)","v":""},{"$f":"IF(商品マスタ!E110=\"\",\"\",商品マスタ!E110)","v":""},{"$f":"IF(商品マスタ!F110=\"\",\"\",商品マスタ!F110)","v":""}]
[{"$nulls":10},{"$f":"IF(商品マスタ!B111=\"\",\"\",商品マスタ!B111)","v":107},{"$f":"IF(商品マスタ!C111=\"\",\"\",商品マスタ!C111)","v":""},{"$f":"IF(商品マスタ!D111=\"\",\"\",商品マスタ!D111)","v":""},{"$f":"IF(商品マスタ!E111=\"\",\"\",商品マスタ!E111)","v":""},{"$f":"IF(商品マスタ!F111=\"\",\"\",商品マスタ!F111)","v":""}]
[{"$nulls":10},{"$f":"IF(商品マスタ!B112=\"\",\"\",商品マスタ!B112)","v":108},{"$f":"IF(商品マスタ!C112=\"\",\"\",商品マスタ!C112)","v":""},{"$f":"IF(商品マスタ!D112=\"\",\"\",商品マスタ!D112)","v":""},{"$f":"IF(商品マスタ!E112=\"\",\"\",商品マスタ!E112)","v":""},{"$f":"IF(商品マスタ!F112=\"\",\"\",商品マスタ!F112)","v":""}]
[{"$nulls":10},{"$f":"IF(商品マスタ!B113=\"\",\"\",商品マスタ!B113)","v":109},{"$f":"IF(商品マスタ!C113=\"\",\"\",商品マスタ!C113)","v":""},{"$f":"IF(商品マスタ!D113=\"\",\"\",商品マスタ!D113)","v":""},{"$f":"IF(商品マスタ!E113=\"\",\"\",商品マスタ!E113)","v":""},{"$f":"IF(商品マスタ!F113=\"\",\"\",商品マスタ!F113)","v":""}]
[{"$nulls":10},{"$f":"IF(商品マスタ!B114=\"\",\"\",商品マスタ!B114)","v":110},{"$f":"IF(商品マスタ!C114=\"\",\"\",商品マスタ!C114)","v":""},{"$f":"IF(商品マスタ!D114=\"\",\"\",商品マスタ!D114)","v":""},{"$f":"IF(商品マスタ!E114=\"\",\"\",商品マスタ!E114)","v":""},{"$f":"IF(商品マスタ!F114=\"\",\"\",商品マスタ!F114)","v":""}]
[{"$nulls":10},{"$f":"IF(商品マスタ!B115=\"\",\"\",商品マスタ!B115)","v":111},{"$f":"IF(商品マスタ!C115=\"\",\"\",商品マスタ!C115)","v":""},{"$f":"IF(商品マスタ!D115=\"\",\"\",商品マスタ!D115)","v":""},{"$f":"IF(商品マスタ!E115=\"\",\"\",商品マスタ!E115)","v":""},{"$f":"IF(商品マスタ!F115=\"\",\"\",商品マスタ!F115)","v":""}]
[{"$nulls":10},{"$f":"IF(商品マスタ!B116=\"\",\"\",商品マスタ!B116)","v":112},{"$f":"IF(商品マスタ!C116=\"\",\"\",商品マスタ!C116)","v":""},{"$f":"IF(商品マスタ!D116=\"\",\"\",商品マスタ!D116)","v":""},{"$f":"IF(商品マスタ!E116=\"\",\"\",商品マスタ!E116)","v":""},{"$f":"IF(商品マスタ!F116=\"\",\"\",商品マスタ!F116)","v":""}]
[{"$nulls":10},{"$f":"IF(商品マスタ!B117=\"\",\"\",商品マスタ!B117)","v":113},{"$f":"IF(商品マスタ!C117=\"\",\"\",商品マスタ!C117)","v":""},{"$f":"IF(商品マスタ!D117=\"\",\"\",商品マスタ!D117)","v":""},{"$f":"IF(商品マスタ!E117=\"\",\"\",商品マスタ!E117)","v":""},{"$f":"IF(商品マスタ!F117=\"\",\"\",商品マスタ!F117)","v":""}]
[{"$nulls":10},{"$f":"IF(商品マスタ!B118=\"\",\"\",商品マスタ!B118)","v":114},{"$f":"IF(商品マスタ!C118=\"\",\"\",商品マスタ!C118)","v":""},{"$f":"IF(商品マスタ!D118=\"\",\"\",商品マスタ!D118)","v":""},{"$f":"IF(商品マスタ!E118=\"\",\"\",商品マスタ!E118)","v":""},{"$f":"IF(商品マスタ!F118=\"\",\"\",商品マスタ!F118)","v":""}]
[{"$nulls":10},{"$f":"IF(商品マスタ!B119=\"\",\"\",商品マスタ!B119)","v":115},{"$f":"IF(商品マスタ!C119=\"\",\"\",商品マスタ!C119)","v":""},{"$f":"IF(商品マスタ!D119=\"\",\"\",商品マスタ!D119)","v":""},{"$f":"IF(商品マスタ!E119=\"\",\"\",商品マスタ!E119)","v":""},{"$f":"IF(商品マスタ!F119=\"\",\"\",商品マスタ!F119)","v":""}]
[{"$nulls":10},{"$f":"IF(商品マスタ!B120=\"\",\"\",商品マスタ!B120)","v":116},{"$f":"IF(商品マスタ!C120=\"\",\"\",商品マスタ!C120)","v":""},{"$f":"IF(商品マスタ!D120=\"\",\"\",商品マスタ!D120)","v":""},{"$f":"IF(商品マスタ!E120=\"\",\"\",商品マスタ!E120)","v":""},{"$f":"IF(商品マスタ!F120=\"\",\"\",商品マスタ!F120)","v":""}]
[{"$nulls":10},{"$f":"IF(商品マスタ!B121=\"\",\"\",商品マスタ!B121)","v":117},{"$f":"IF(商品マスタ!C121=\"\",\"\",商品マスタ!C121)","v":""},{"$f":"IF(商品マスタ!D121=\"\",\"\",商品マスタ!D121)","v":""},{"$f":"IF(商品マスタ!E121=\"\",\"\",商品マスタ!E121)","v":""},{"$f":"IF(商品マスタ!F121=\"\",\"\",商品マスタ!F121)","v":""}]
[{"$nulls":10},{"$f":"IF(商品マスタ!B122=\"\",\"\",商品マスタ!B122)","v":118},{"$f":"IF(商品マスタ!C122=\"\",\"\",商品マスタ!C122)","v":""},{"$f":"IF(商品マスタ!D122=\"\",\"\",商品マスタ!D122)","v":""},{"$f":"IF(商品マスタ!E122=\"\",\"\",商品マスタ!E122)","v":""},{"$f":"IF(商品マスタ!F122=\"\",\"\",商品マスタ!F122)","v":""}]
[{"$nulls":10},{"$f":"IF(商品マスタ!B123=\"\",\"\",商品マスタ!B123)","v":119},{"$f":"IF(商品マスタ!C123=\"\",\"\",商品マスタ!C123)","v":""},{"$f":"IF(商品マスタ!D123=\"\",\"\",商品マスタ!D123)","v":""},{"$f":"IF(商品マスタ!E123=\"\",\"\",商品マスタ!E123)","v":""},{"$f":"IF(商品マスタ!F123=\"\",\"\",商品マスタ!F123)","v":""}]
[{"$nulls":10},{"$f":"IF(商品マスタ!B124=\"\",\"\",商品マスタ!B124)","v":120},{"$f":"IF(商品マスタ!C124=\"\",\"\",商品マスタ!C124)","v":""},{"$f":"IF(商品マスタ!D124=\"\",\"\",商品マスタ!D124)","v":""},{"$f":"IF(商品マスタ!E124=\"\",\"\",商品マスタ!E124)","v":""},{"$f":"IF(商品マスタ!F124=\"\",\"\",商品マスタ!F124)","v":""}]
[{"$nulls":10},{"$f":"IF(商品マスタ!B125=\"\",\"\",商品マスタ!B125)","v":121},{"$f":"IF(商品マスタ!C125=\"\",\"\",商品マスタ!C125)","v":""},{"$f":"IF(商品マスタ!D125=\"\",\"\",商品マスタ!D125)","v":""},{"$f":"IF(商品マスタ!E125=\"\",\"\",商品マスタ!E125)","v":""},{"$f":"IF(商品マスタ!F125=\"\",\"\",商品マスタ!F125)","v":""}]
[{"$nulls":10},{"$f":"IF(商品マスタ!B126=\"\",\"\",商品マスタ!B126)","v":122},{"$f":"IF(商品マスタ!C126=\"\",\"\",商品マスタ!C126)","v":""},{"$f":"IF(商品マスタ!D126=\"\",\"\",商品マスタ!D126)","v":""},{"$f":"IF(商品マスタ!E126=\"\",\"\",商品マスタ!E126)","v":""},{"$f":"IF(商品マスタ!F126=\"\",\"\",商品マスタ!F126)","v":""}]
[{"$nulls":10},{"$f":"IF(商品マスタ!B127=\"\",\"\",商品マスタ!B127)","v":123},{"$f":"IF(商品マスタ!C127=\"\",\"\",商品マスタ!C127)","v":""},{"$f":"IF(商品マスタ!D127=\"\",\"\",商品マスタ!D127)","v":""},{"$f":"IF(商品マスタ!E127=\"\",\"\",商品マスタ!E127)","v":""},{"$f":"IF(商品マスタ!F127=\"\",\"\",商品マスタ!F127)","v":""}]
[{"$nulls":10},{"$f":"IF(商品マスタ!B128=\"\",\"\",商品マスタ!B128)","v":124},{"$f":"IF(商品マスタ!C128=\"\",\"\",商品マスタ!C128)","v":""},{"$f":"IF(商品マスタ!D128=\"\",\"\",商品マスタ!D128)","v":""},{"$f":"IF(商品マスタ!E128=\"\",\"\",商品マスタ!E128)","v":""},{"$f":"IF(商品マスタ!F128=\"\",\"\",商品マスタ!F128)","v":""}]
[{"$nulls":10},{"$f":"IF(商品マスタ!B129=\"\",\"\",商品マスタ!B129)","v":125},{"$f":"IF(商品マスタ!C129=\"\",\"\",商品マスタ!C129)","v":""},{"$f":"IF(商品マスタ!D129=\"\",\"\",商品マスタ!D129)","v":""},{"$f":"IF(商品マスタ!E129=\"\",\"\",商品マスタ!E129)","v":""},{"$f":"IF(商品マスタ!F129=\"\",\"\",商品マスタ!F129)","v":""}]
[{"$nulls":10},{"$f":"IF(商品マスタ!B130=\"\",\"\",商品マスタ!B130)","v":126},{"$f":"IF(商品マスタ!C130=\"\",\"\",商品マスタ!C130)","v":""},{"$f":"IF(商品マスタ!D130=\"\",\"\",商品マスタ!D130)","v":""},{"$f":"IF(商品マスタ!E130=\"\",\"\",商品マスタ!E130)","v":""},{"$f":"IF(商品マスタ!F130=\"\",\"\",商品マスタ!F130)","v":""}]
[{"$nulls":10},{"$f":"IF(商品マスタ!B131=\"\",\"\",商品マスタ!B131)","v":127},{"$f":"IF(商品マスタ!C131=\"\",\"\",商品マスタ!C131)","v":""},{"$f":"IF(商品マスタ!D131=\"\",\"\",商品マスタ!D131)","v":""},{"$f":"IF(商品マスタ!E131=\"\",\"\",商品マスタ!E131)","v":""},{"$f":"IF(商品マスタ!F131=\"\",\"\",商品マスタ!F131)","v":""}]
[{"$nulls":10},{"$f":"IF(商品マスタ!B132=\"\",\"\",商品マスタ!B132)","v":128},{"$f":"IF(商品マスタ!C132=\"\",\"\",商品マスタ!C132)","v":""},{"$f":"IF(商品マスタ!D132=\"\",\"\",商品マスタ!D132)","v":""},{"$f":"IF(商品マスタ!E132=\"\",\"\",商品マスタ!E132)","v":""},{"$f":"IF(商品マスタ!F132=\"\",\"\",商品マスタ!F132)","v":""}]
[{"$nulls":10},{"$f":"IF(商品マスタ!B133=\"\",\"\",商品マスタ!B133)","v":129},{"$f":"IF(商品マスタ!C133=\"\",\"\",商品マスタ!C133)","v":""},{"$f":"IF(商品マスタ!D133=\"\",\"\",商品マスタ!D133)","v":""},{"$f":"IF(商品マスタ!E133=\"\",\"\",商品マスタ!E133)","v":""},{"$f":"IF(商品マスタ!F133=\"\",\"\",商品マスタ!F133)","v":""}]
[{"$nulls":10},{"$f":"IF(商品マスタ!B134=\"\",\"\",商品マスタ!B134)","v":130},{"$f":"IF(商品マスタ!C134=\"\",\"\",商品マスタ!C134)","v":""},{"$f":"IF(商品マスタ!D134=\"\",\"\",商品マスタ!D134)","v":""},{"$f":"IF(商品マスタ!E134=\"\",\"\",商品マスタ!E134)","v":""},{"$f":"IF(商品マスタ!F134=\"\",\"\",商品マスタ!F134)","v":""}]
[{"$nulls":10},{"$f":"IF(商品マスタ!B135=\"\",\"\",商品マスタ!B135)","v":131},{"$f":"IF(商品マスタ!C135=\"\",\"\",商品マスタ!C135)","v":""},{"$f":"IF(商品マスタ!D135=\"\",\"\",商品マスタ!D135)","v":""},{"$f":"IF(商品マスタ!E135=\"\",\"\",商品マスタ!E135)","v":""},{"$f":"IF(商品マスタ!F135=\"\",\"\",商品マスタ!F135)","v":""}]
[{"$nulls":10},{"$f":"IF(商品マスタ!B136=\"\",\"\",商品マスタ!B136)","v":132},{"$f":"IF(商品マスタ!C136=\"\",\"\",商品マスタ!C136)","v":""},{"$f":"IF(商品マスタ!D136=\"\",\"\",商品マスタ!D136)","v":""},{"$f":"IF(商品マスタ!E136=\"\",\"\",商品マスタ!E136)","v":""},{"$f":"IF(商品マスタ!F136=\"\",\"\",商品マスタ!F136)","v":""}]
[{"$nulls":10},{"$f":"IF(商品マスタ!B137=\"\",\"\",商品マスタ!B137)","v":133},{"$f":"IF(商品マスタ!C137=\"\",\"\",商品マスタ!C137)","v":""},{"$f":"IF(商品マスタ!D137=\"\",\"\",商品マスタ!D137)","v":""},{"$f":"IF(商品マスタ!E137=\"\",\"\",商品マスタ!E137)","v":""},{"$f":"IF(商品マスタ!F137=\"\",\"\",商品マスタ!F137)","v":""}]
[{"$nulls":10},{"$f":"IF(商品マスタ!B138=\"\",\"\",商品マスタ!B138)","v":134},{"$f":"IF(商品マスタ!C138=\"\",\"\",商品マスタ!C138)","v":""},{"$f":"IF(商品マスタ!D138=\"\",\"\",商品マスタ!D138)","v":""},{"$f":"IF(商品マスタ!E138=\"\",\"\",商品マスタ!E138)","v":""},{"$f":"IF(商品マスタ!F138=\"\",\"\",商品マスタ!F138)","v":""}]
[{"$nulls":10},{"$f":"IF(商品マスタ!B139=\"\",\"\",商品マスタ!B139)","v":135},{"$f":"IF(商品マスタ!C139=\"\",\"\",商品マスタ!C139)","v":""},{"$f":"IF(商品マスタ!D139=\"\",\"\",商品マスタ!D139)","v":""},{"$f":"IF(商品マスタ!E139=\"\",\"\",商品マスタ!E139)","v":""},{"$f":"IF(商品マスタ!F139=\"\",\"\",商品マスタ!F139)","v":""}]
[{"$nulls":10},{"$f":"IF(商品マスタ!B140=\"\",\"\",商品マスタ!B140)","v":136},{"$f":"IF(商品マスタ!C140=\"\",\"\",商品マスタ!C140)","v":""},{"$f":"IF(商品マスタ!D140=\"\",\"\",商品マスタ!D140)","v":""},{"$f":"IF(商品マスタ!E140=\"\",\"\",商品マスタ!E140)","v":""},{"$f":"IF(商品マスタ!F140=\"\",\"\",商品マスタ!F140)","v":""}]
[{"$nulls":10},{"$f":"IF(商品マスタ!B141=\"\",\"\",商品マスタ!B141)","v":137},{"$f":"IF(商品マスタ!C141=\"\",\"\",商品マスタ!C141)","v":""},{"$f":"IF(商品マスタ!D141=\"\",\"\",商品マスタ!D141)","v":""},{"$f":"IF(商品マスタ!E141=\"\",\"\",商品マスタ!E141)","v":""},{"$f":"IF(商品マスタ!F141=\"\",\"\",商品マスタ!F141)","v":""}]
[{"$nulls":10},{"$f":"IF(商品マスタ!B142=\"\",\"\",商品マスタ!B142)","v":138},{"$f":"IF(商品マスタ!C142=\"\",\"\",商品マスタ!C142)","v":""},{"$f":"IF(商品マスタ!D142=\"\",\"\",商品マスタ!D142)","v":""},{"$f":"IF(商品マスタ!E142=\"\",\"\",商品マスタ!E142)","v":""},{"$f":"IF(商品マスタ!F142=\"\",\"\",商品マスタ!F142)","v":""}]
[{"$nulls":10},{"$f":"IF(商品マスタ!B143=\"\",\"\",商品マスタ!B143)","v":139},{"$f":"IF(商品マスタ!C143=\"\",\"\",商品マスタ!C143)","v":""},{"$f":"IF(商品マスタ!D143=\"\",\"\",商品マスタ!D143)","v":""},{"$f":"IF(商品マスタ!E143=\"\",\"\",商品マスタ!E143)","v":""},{"$f":"IF(商品マスタ!F143=\"\",\"\",商品マスタ!F143)","v":""}]
[{"$nulls":10},{"$f":"IF(商品マスタ!B144=\"\",\"\",商品マスタ!B144)","v":140},{"$f":"IF(商品マスタ!C144=\"\",\"\",商品マスタ!C144)","v":""},{"$f":"IF(商品マスタ!D144=\"\",\"\",商品マスタ!D144)","v":""},{"$f":"IF(商品マスタ!E144=\"\",\"\",商品マスタ!E144)","v":""},{"$f":"IF(商品マスタ!F144=\"\",\"\",商品マスタ!F144)","v":""}]
[{"$nulls":10},{"$f":"IF(商品マスタ!B145=\"\",\"\",商品マスタ!B145)","v":141},{"$f":"IF(商品マスタ!C145=\"\",\"\",商品マスタ!C145)","v":""},{"$f":"IF(商品マスタ!D145=\"\",\"\",商品マスタ!D145)","v":""},{"$f":"IF(商品マスタ!E145=\"\",\"\",商品マスタ!E145)","v":""},{"$f":"IF(商品マスタ!F145=\"\",\"\",商品マスタ!F145)","v":""}]
[{"$nulls":10},{"$f":"IF(商品マスタ!B146=\"\",\"\",商品マスタ!B146)","v":142},{"$f":"IF(商品マスタ!C146=\"\",\"\",商品マスタ!C146)","v":""},{"$f":"IF(商品マスタ!D146=\"\",\"\",商品マスタ!D146)","v":""},{"$f":"IF(商品マスタ!E146=\"\",\"\",商品マスタ!E146)","v":""},{"$f":"IF(商品マスタ!F146=\"\",\"\",商品マスタ!F146)","v":""}]
[{"$nulls":10},{"$f":"IF(商品マスタ!B147=\"\",\"\",商品マスタ!B147)","v":143},{"$f":"IF(商品マスタ!C147=\"\",\"\",商品マスタ!C147)","v":""},{"$f":"IF(商品マスタ!D147=\"\",\"\",商品マスタ!D147)","v":""},{"$f":"IF(商品マスタ!E147=\"\",\"\",商品マスタ!E147)","v":""},{"$f":"IF(商品マスタ!F147=\"\",\"\",商品マスタ!F147)","v":""}]
[{"$nulls":10},{"$f":"IF(商品マスタ!B148=\"\",\"\",商品マスタ!B148)","v":144},{"$f":"IF(商品マスタ!C148=\"\",\"\",商品マスタ!C148)","v":""},{"$f":"IF(商品マスタ!D148=\"\",\"\",商品マスタ!D148)","v":""},{"$f":"IF(商品マスタ!E148=\"\",\"\",商品マスタ!E148)","v":""},{"$f":"IF(商品マスタ!F148=\"\",\"\",商品マスタ!F148)","v":""}]
[{"$nulls":10},{"$f":"IF(商品マスタ!B149=\"\",\"\",商品マスタ!B149)","v":145},{"$f":"IF(商品マスタ!C149=\"\",\"\",商品マスタ!C149)","v":""},{"$f":"IF(商品マスタ!D149=\"\",\"\",商品マスタ!D149)","v":""},{"$f":"IF(商品マスタ!E149=\"\",\"\",商品マスタ!E149)","v":""},{"$f":"IF(商品マスタ!F149=\"\",\"\",商品マスタ!F149)","v":""}]
[{"$nulls":10},{"$f":"IF(商品マスタ!B150=\"\",\"\",商品マスタ!B150)","v":146},{"$f":"IF(商品マスタ!C150=\"\",\"\",商品マスタ!C150)","v":""},{"$f":"IF(商品マスタ!D150=\"\",\"\",商品マスタ!D150)","v":""},{"$f":"IF(商品マスタ!E150=\"\",\"\",商品マスタ!E150)","v":""},{"$f":"IF(商品マスタ!F150=\"\",\"\",商品マスタ!F150)","v":""}]
[{"$nulls":10},{"$f":"IF(商品マスタ!B151=\"\",\"\",商品マスタ!B151)","v":147},{"$f":"IF(商品マスタ!C151=\"\",\"\",商品マスタ!C151)","v":""},{"$f":"IF(商品マスタ!D151=\"\",\"\",商品マスタ!D151)","v":""},{"$f":"IF(商品マスタ!E151=\"\",\"\",商品マスタ!E151)","v":""},{"$f":"IF(商品マスタ!F151=\"\",\"\",商品マスタ!F151)","v":""}]
[{"$nulls":10},{"$f":"IF(商品マスタ!B152=\"\",\"\",商品マスタ!B152)","v":148},{"$f":"IF(商品マスタ!C152=\"\",\"\",商品マスタ!C152)","v":""},{"$f":"IF(商品マスタ!D152=\"\",\"\",商品マスタ!D152)","v":""},{"$f":"IF(商品マスタ!E152=\"\",\"\",商品マスタ!E152)","v":""},{"$f":"IF(商品マスタ!F152=\"\",\"\",商品マスタ!F152)","v":""}]
[{"$nulls":10},{"$f":"IF(商品マスタ!B153=\"\",\"\",商品マスタ!B153)","v":149},{"$f":"IF(商品マスタ!C153=\"\",\"\",商品マスタ!C153)","v":""},{"$f":"IF(商品マスタ!D153=\"\",\"\",商品マスタ!D153)","v":""},{"$f":"IF(商品マスタ!E153=\"\",\"\",商品マスタ!E153)","v":""},{"$f":"IF(商品マスタ!F153=\"\",\"\",商品マスタ!F153)","v":""}]
[{"$nulls":10},{"$f":"IF(商品マスタ!B154=\"\",\"\",商品マスタ!B154)","v":150},{"$f":"IF(商品マスタ!C154=\"\",\"\",商品マスタ!C154)","v":""},{"$f":"IF(商品マスタ!D154=\"\",\"\",商品マスタ!D154)","v":""},{"$f":"IF(商品マスタ!E154=\"\",\"\",商品マスタ!E154)","v":""},{"$f":"IF(商品マスタ!F154=\"\",\"\",商品マスタ!F154)","v":""}]
[{"$nulls":10},{"$f":"IF(商品マスタ!B155=\"\",\"\",商品マスタ!B155)","v":151},{"$f":"IF(商品マスタ!C155=\"\",\"\",商品マスタ!C155)","v":""},{"$f":"IF(商品マスタ!D155=\"\",\"\",商品マスタ!D155)","v":""},{"$f":"IF(商品マスタ!E155=\"\",\"\",商品マスタ!E155)","v":""},{"$f":"IF(商品マスタ!F155=\"\",\"\",商品マスタ!F155)","v":""}]
[{"$nulls":10},{"$f":"IF(商品マスタ!B156=\"\",\"\",商品マスタ!B156)","v":152},{"$f":"IF(商品マスタ!C156=\"\",\"\",商品マスタ!C156)","v":""},{"$f":"IF(商品マスタ!D156=\"\",\"\",商品マスタ!D156)","v":""},{"$f":"IF(商品マスタ!E156=\"\",\"\",商品マスタ!E156)","v":""},{"$f":"IF(商品マスタ!F156=\"\",\"\",商品マスタ!F156)","v":""}]
[{"$nulls":10},{"$f":"IF(商品マスタ!B157=\"\",\"\",商品マスタ!B157)","v":153},{"$f":"IF(商品マスタ!C157=\"\",\"\",商品マスタ!C157)","v":""},{"$f":"IF(商品マスタ!D157=\"\",\"\",商品マスタ!D157)","v":""},{"$f":"IF(商品マスタ!E157=\"\",\"\",商品マスタ!E157)","v":""},{"$f":"IF(商品マスタ!F157=\"\",\"\",商品マスタ!F157)","v":""}]
[{"$nulls":10},{"$f":"IF(商品マスタ!B158=\"\",\"\",商品マスタ!B158)","v":154},{"$f":"IF(商品マスタ!C158=\"\",\"\",商品マスタ!C158)","v":""},{"$f":"IF(商品マスタ!D158=\"\",\"\",商品マスタ!D158)","v":""},{"$f":"IF(商品マスタ!E158=\"\",\"\",商品マスタ!E158)","v":""},{"$f":"IF(商品マスタ!F158=\"\",\"\",商品マスタ!F158)","v":""}]
[{"$nulls":10},{"$f":"IF(商品マスタ!B159=\"\",\"\",商品マスタ!B159)","v":155},{"$f":"IF(商品マスタ!C159=\"\",\"\",商品マスタ!C159)","v":""},{"$f":"IF(商品マスタ!D159=\"\",\"\",商品マスタ!D159)","v":""},{"$f":"IF(商品マスタ!E159=\"\",\"\",商品マスタ!E159)","v":""},{"$f":"IF(商品マスタ!F159=\"\",\"\",商品マスタ!F159)","v":""}]
[{"$nulls":10},{"$f":"IF(商品マスタ!B160=\"\",\"\",商品マスタ!B160)","v":156},{"$f":"IF(商品マスタ!C160=\"\",\"\",商品マスタ!C160)","v":""},{"$f":"IF(商品マスタ!D160=\"\",\"\",商品マスタ!D160)","v":""},{"$f":"IF(商品マスタ!E160=\"\",\"\",商品マスタ!E160)","v":""},{"$f":"IF(商品マスタ!F160=\"\",\"\",商品マスタ!F160)","v":""}]
[{"$nulls":10},{"$f":"IF(商品マスタ!B161=\"\",\"\",商品マスタ!B161)","v":157},{"$f":"IF(商品マスタ!C161=\"\",\"\",商品マスタ!C161)","v":""},{"$f":"IF(商品マスタ!D161=\"\",\"\",商品マスタ!D161)","v":""},{"$f":"IF(商品マスタ!E161=\"\",\"\",商品マスタ!E161)","v":""},{"$f":"IF(商品マスタ!F161=\"\",\"\",商品マスタ!F161)","v":""}]
[{"$nulls":10},{"$f":"IF(商品マスタ!B162=\"\",\"\",商品マスタ!B162)","v":158},{"$f":"IF(商品マスタ!C162=\"\",\"\",商品マスタ!C162)","v":""},{"$f":"IF(商品マスタ!D162=\"\",\"\",商品マスタ!D162)","v":""},{"$f":"IF(商品マスタ!E162=\"\",\"\",商品マスタ!E162)","v":""},{"$f":"IF(商品マスタ!F162=\"\",\"\",商品マスタ!F162)","v":""}]
[{"$nulls":10},{"$f":"IF(商品マスタ!B163=\"\",\"\",商品マスタ!B163)","v":159},{"$f":"IF(商品マスタ!C163=\"\",\"\",商品マスタ!C163)","v":""},{"$f":"IF(商品マスタ!D163=\"\",\"\",商品マスタ!D163)","v":""},{"$f":"IF(商品マスタ!E163=\"\",\"\",商品マスタ!E163)","v":""},{"$f":"IF(商品マスタ!F163=\"\",\"\",商品マスタ!F163)","v":""}]
[{"$nulls":10},{"$f":"IF(商品マスタ!B164=\"\",\"\",商品マスタ!B164)","v":160},{"$f":"IF(商品マスタ!C164=\"\",\"\",商品マスタ!C164)","v":""},{"$f":"IF(商品マスタ!D164=\"\",\"\",商品マスタ!D164)","v":""},{"$f":"IF(商品マスタ!E164=\"\",\"\",商品マスタ!E164)","v":""},{"$f":"IF(商品マスタ!F164=\"\",\"\",商品マスタ!F164)","v":""}]
[{"$nulls":10},{"$f":"IF(商品マスタ!B165=\"\",\"\",商品マスタ!B165)","v":161},{"$f":"IF(商品マスタ!C165=\"\",\"\",商品マスタ!C165)","v":""},{"$f":"IF(商品マスタ!D165=\"\",\"\",商品マスタ!D165)","v":""},{"$f":"IF(商品マスタ!E165=\"\",\"\",商品マスタ!E165)","v":""},{"$f":"IF(商品マスタ!F165=\"\",\"\",商品マスタ!F165)","v":""}]
[{"$nulls":10},{"$f":"IF(商品マスタ!B166=\"\",\"\",商品マスタ!B166)","v":162},{"$f":"IF(商品マスタ!C166=\"\",\"\",商品マスタ!C166)","v":""},{"$f":"IF(商品マスタ!D166=\"\",\"\",商品マスタ!D166)","v":""},{"$f":"IF(商品マスタ!E166=\"\",\"\",商品マスタ!E166)","v":""},{"$f":"IF(商品マスタ!F166=\"\",\"\",商品マスタ!F166)","v":""}]
[{"$nulls":10},{"$f":"IF(商品マスタ!B167=\"\",\"\",商品マスタ!B167)","v":163},{"$f":"IF(商品マスタ!C167=\"\",\"\",商品マスタ!C167)","v":""},{"$f":"IF(商品マスタ!D167=\"\",\"\",商品マスタ!D167)","v":""},{"$f":"IF(商品マスタ!E167=\"\",\"\",商品マスタ!E167)","v":""},{"$f":"IF(商品マスタ!F167=\"\",\"\",商品マスタ!F167)","v":""}]
[{"$nulls":10},{"$f":"IF(商品マスタ!B168=\"\",\"\",商品マスタ!B168)","v":164},{"$f":"IF(商品マスタ!C168=\"\",\"\",商品マスタ!C168)","v":""},{"$f":"IF(商品マスタ!D168=\"\",\"\",商品マスタ!D168)","v":""},{"$f":"IF(商品マスタ!E168=\"\",\"\",商品マスタ!E168)","v":""},{"$f":"IF(商品マスタ!F168=\"\",\"\",商品マスタ!F168)","v":""}]
[{"$nulls":10},{"$f":"IF(商品マスタ!B169=\"\",\"\",商品マスタ!B169)","v":165},{"$f":"IF(商品マスタ!C169=\"\",\"\",商品マスタ!C169)","v":""},{"$f":"IF(商品マスタ!D169=\"\",\"\",商品マスタ!D169)","v":""},{"$f":"IF(商品マスタ!E169=\"\",\"\",商品マスタ!E169)","v":""},{"$f":"IF(商品マスタ!F169=\"\",\"\",商品マスタ!F169)","v":""}]
[{"$nulls":10},{"$f":"IF(商品マスタ!B170=\"\",\"\",商品マスタ!B170)","v":166},{"$f":"IF(商品マスタ!C170=\"\",\"\",商品マスタ!C170)","v":""},{"$f":"IF(商品マスタ!D170=\"\",\"\",商品マスタ!D170)","v":""},{"$f":"IF(商品マスタ!E170=\"\",\"\",商品マスタ!E170)","v":""},{"$f":"IF(商品マスタ!F170=\"\",\"\",商品マスタ!F170)","v":""}]
[{"$nulls":10},{"$f":"IF(商品マスタ!B171=\"\",\"\",商品マスタ!B171)","v":167},{"$f":"IF(商品マスタ!C171=\"\",\"\",商品マスタ!C171)","v":""},{"$f":"IF(商品マスタ!D171=\"\",\"\",商品マスタ!D171)","v":""},{"$f":"IF(商品マスタ!E171=\"\",\"\",商品マスタ!E171)","v":""},{"$f":"IF(商品マスタ!F171=\"\",\"\",商品マスタ!F171)","v":""}]
[{"$nulls":10},{"$f":"IF(商品マスタ!B172=\"\",\"\",商品マスタ!B172)","v":168},{"$f":"IF(商品マスタ!C172=\"\",\"\",商品マスタ!C172)","v":""},{"$f":"IF(商品マスタ!D172=\"\",\"\",商品マスタ!D172)","v":""},{"$f":"IF(商品マスタ!E172=\"\",\"\",商品マスタ!E172)","v":""},{"$f":"IF(商品マスタ!F172=\"\",\"\",商品マスタ!F172)","v":""}]
[{"$nulls":10},{"$f":"IF(商品マスタ!B173=\"\",\"\",商品マスタ!B173)","v":169},{"$f":"IF(商品マスタ!C173=\"\",\"\",商品マスタ!C173)","v":""},{"$f":"IF(商品マスタ!D173=\"\",\"\",商品マスタ!D173)","v":""},{"$f":"IF(商品マスタ!E173=\"\",\"\",商品マスタ!E173)","v":""},{"$f":"IF(商品マスタ!F173=\"\",\"\",商品マスタ!F173)","v":""}]
[{"$nulls":10},{"$f":"IF(商品マスタ!B174=\"\",\"\",商品マスタ!B174)","v":170},{"$f":"IF(商品マスタ!C174=\"\",\"\",商品マスタ!C174)","v":""},{"$f":"IF(商品マスタ!D174=\"\",\"\",商品マスタ!D174)","v":""},{"$f":"IF(商品マスタ!E174=\"\",\"\",商品マスタ!E174)","v":""},{"$f":"IF(商品マスタ!F174=\"\",\"\",商品マスタ!F174)","v":""}]
[{"$nulls":10},{"$f":"IF(商品マスタ!B175=\"\",\"\",商品マスタ!B175)","v":171},{"$f":"IF(商品マスタ!C175=\"\",\"\",商品マスタ!C175)","v":""},{"$f":"IF(商品マスタ!D175=\"\",\"\",商品マスタ!D175)","v":""},{"$f":"IF(商品マスタ!E175=\"\",\"\",商品マスタ!E175)","v":""},{"$f":"IF(商品マスタ!F175=\"\",\"\",商品マスタ!F175)","v":""}]
[{"$nulls":10},{"$f":"IF(商品マスタ!B176=\"\",\"\",商品マスタ!B176)","v":172},{"$f":"IF(商品マスタ!C176=\"\",\"\",商品マスタ!C176)","v":""},{"$f":"IF(商品マスタ!D176=\"\",\"\",商品マスタ!D176)","v":""},{"$f":"IF(商品マスタ!E176=\"\",\"\",商品マスタ!E176)","v":""},{"$f":"IF(商品マスタ!F176=\"\",\"\",商品マスタ!F176)","v":""}]
[{"$nulls":10},{"$f":"IF(商品マスタ!B177=\"\",\"\",商品マスタ!B177)","v":173},{"$f":"IF(商品マスタ!C177=\"\",\"\",商品マスタ!C177)","v":""},{"$f":"IF(商品マスタ!D177=\"\",\"\",商品マスタ!D177)","v":""},{"$f":"IF(商品マスタ!E177=\"\",\"\",商品マスタ!E177)","v":""},{"$f":"IF(商品マスタ!F177=\"\",\"\",商品マスタ!F177)","v":""}]
[{"$nulls":10},{"$f":"IF(商品マスタ!B178=\"\",\"\",商品マスタ!B178)","v":174},{"$f":"IF(商品マスタ!C178=\"\",\"\",商品マスタ!C178)","v":""},{"$f":"IF(商品マスタ!D178=\"\",\"\",商品マスタ!D178)","v":""},{"$f":"IF(商品マスタ!E178=\"\",\"\",商品マスタ!E178)","v":""},{"$f":"IF(商品マスタ!F178=\"\",\"\",商品マスタ!F178)","v":""}]
[{"$nulls":10},{"$f":"IF(商品マスタ!B179=\"\",\"\",商品マスタ!B179)","v":175},{"$f":"IF(商品マスタ!C179=\"\",\"\",商品マスタ!C179)","v":""},{"$f":"IF(商品マスタ!D179=\"\",\"\",商品マスタ!D179)","v":""},{"$f":"IF(商品マスタ!E179=\"\",\"\",商品マスタ!E179)","v":""},{"$f":"IF(商品マスタ!F179=\"\",\"\",商品マスタ!F179)","v":""}]
[{"$nulls":10},{"$f":"IF(商品マスタ!B180=\"\",\"\",商品マスタ!B180)","v":176},{"$f":"IF(商品マスタ!C180=\"\",\"\",商品マスタ!C180)","v":""},{"$f":"IF(商品マスタ!D180=\"\",\"\",商品マスタ!D180)","v":""},{"$f":"IF(商品マスタ!E180=\"\",\"\",商品マスタ!E180)","v":""},{"$f":"IF(商品マスタ!F180=\"\",\"\",商品マスタ!F180)","v":""}]
[{"$nulls":10},{"$f":"IF(商品マスタ!B181=\"\",\"\",商品マスタ!B181)","v":177},{"$f":"IF(商品マスタ!C181=\"\",\"\",商品マスタ!C181)","v":""},{"$f":"IF(商品マスタ!D181=\"\",\"\",商品マスタ!D181)","v":""},{"$f":"IF(商品マスタ!E181=\"\",\"\",商品マスタ!E181)","v":""},{"$f":"IF(商品マスタ!F181=\"\",\"\",商品マスタ!F181)","v":""}]
[{"$nulls":10},{"$f":"IF(商品マスタ!B182=\"\",\"\",商品マスタ!B182)","v":178},{"$f":"IF(商品マスタ!C182=\"\",\"\",商品マスタ!C182)","v":""},{"$f":"IF(商品マスタ!D182=\"\",\"\",商品マスタ!D182)","v":""},{"$f":"IF(商品マスタ!E182=\"\",\"\",商品マスタ!E182)","v":""},{"$f":"IF(商品マスタ!F182=\"\",\"\",商品マスタ!F182)","v":""}]
[{"$nulls":10},{"$f":"IF(商品マスタ!B183=\"\",\"\",商品マスタ!B183)","v":179},{"$f":"IF(商品マスタ!C183=\"\",\"\",商品マスタ!C183)","v":""},{"$f":"IF(商品マスタ!D183=\"\",\"\",商品マスタ!D183)","v":""},{"$f":"IF(商品マスタ!E183=\"\",\"\",商品マスタ!E183)","v":""},{"$f":"IF(商品マスタ!F183=\"\",\"\",商品マスタ!F183)","v":""}]
[{"$nulls":10},{"$f":"IF(商品マスタ!B184=\"\",\"\",商品マスタ!B184)","v":180},{"$f":"IF(商品マスタ!C184=\"\",\"\",商品マスタ!C184)","v":""},{"$f":"IF(商品マスタ!D184=\"\",\"\",商品マスタ!D184)","v":""},{"$f":"IF(商品マスタ!E184=\"\",\"\",商品マスタ!E184)","v":""},{"$f":"IF(商品マスタ!F184=\"\",\"\",商品マスタ!F184)","v":""}]
[{"$nulls":10},{"$f":"IF(商品マスタ!B185=\"\",\"\",商品マスタ!B185)","v":181},{"$f":"IF(商品マスタ!C185=\"\",\"\",商品マスタ!C185)","v":""},{"$f":"IF(商品マスタ!D185=\"\",\"\",商品マスタ!D185)","v":""},{"$f":"IF(商品マスタ!E185=\"\",\"\",商品マスタ!E185)","v":""},{"$f":"IF(商品マスタ!F185=\"\",\"\",商品マスタ!F185)","v":""}]
[{"$nulls":10},{"$f":"IF(商品マスタ!B186=\"\",\"\",商品マスタ!B186)","v":182},{"$f":"IF(商品マスタ!C186=\"\",\"\",商品マスタ!C186)","v":""},{"$f":"IF(商品マスタ!D186=\"\",\"\",商品マスタ!D186)","v":""},{"$f":"IF(商品マスタ!E186=\"\",\"\",商品マスタ!E186)","v":""},{"$f":"IF(商品マスタ!F186=\"\",\"\",商品マスタ!F186)","v":""}]
[{"$nulls":10},{"$f":"IF(商品マスタ!B187=\"\",\"\",商品マスタ!B187)","v":183},{"$f":"IF(商品マスタ!C187=\"\",\"\",商品マスタ!C187)","v":""},{"$f":"IF(商品マスタ!D187=\"\",\"\",商品マスタ!D187)","v":""},{"$f":"IF(商品マスタ!E187=\"\",\"\",商品マスタ!E187)","v":""},{"$f":"IF(商品マスタ!F187=\"\",\"\",商品マスタ!F187)","v":""}]
[{"$nulls":10},{"$f":"IF(商品マスタ!B188=\"\",\"\",商品マスタ!B188)","v":184},{"$f":"IF(商品マスタ!C188=\"\",\"\",商品マスタ!C188)","v":""},{"$f":"IF(商品マスタ!D188=\"\",\"\",商品マスタ!D188)","v":""},{"$f":"IF(商品マスタ!E188=\"\",\"\",商品マスタ!E188)","v":""},{"$f":"IF(商品マスタ!F188=\"\",\"\",商品マスタ!F188)","v":""}]
[{"$nulls":10},{"$f":"IF(商品マスタ!B189=\"\",\"\",商品マスタ!B189)","v":185},{"$f":"IF(商品マスタ!C189=\"\",\"\",商品マスタ!C189)","v":""},{"$f":"IF(商品マスタ!D189=\"\",\"\",商品マスタ!D189)","v":""},{"$f":"IF(商品マスタ!E189=\"\",\"\",商品マスタ!E189)","v":""},{"$f":"IF(商品マスタ!F189=\"\",\"\",商品マスタ!F189)","v":""}]
[{"$nulls":10},{"$f":"IF(商品マスタ!B190=\"\",\"\",商品マスタ!B190)","v":186},{"$f":"IF(商品マスタ!C190=\"\",\"\",商品マスタ!C190)","v":""},{"$f":"IF(商品マスタ!D190=\"\",\"\",商品マスタ!D190)","v":""},{"$f":"IF(商品マスタ!E190=\"\",\"\",商品マスタ!E190)","v":""},{"$f":"IF(商品マスタ!F190=\"\",\"\",商品マスタ!F190)","v":""}]
[{"$nulls":10},{"$f":"IF(商品マスタ!B191=\"\",\"\",商品マスタ!B191)","v":187},{"$f":"IF(商品マスタ!C191=\"\",\"\",商品マスタ!C191)","v":""},{"$f":"IF(商品マスタ!D191=\"\",\"\",商品マスタ!D191)","v":""},{"$f":"IF(商品マスタ!E191=\"\",\"\",商品マスタ!E191)","v":""},{"$f":"IF(商品マスタ!F191=\"\",\"\",商品マスタ!F191)","v":""}]
[{"$nulls":10},{"$f":"IF(商品マスタ!B192=\"\",\"\",商品マスタ!B192)","v":188},{"$f":"IF(商品マスタ!C192=\"\",\"\",商品マスタ!C192)","v":""},{"$f":"IF(商品マスタ!D192=\"\",\"\",商品マスタ!D192)","v":""},{"$f":"IF(商品マスタ!E192=\"\",\"\",商品マスタ!E192)","v":""},{"$f":"IF(商品マスタ!F192=\"\",\"\",商品マスタ!F192)","v":""}]
[{"$nulls":10},{"$f":"IF(商品マスタ!B193=\"\",\"\",商品マスタ!B193)","v":189},{"$f":"IF(商品マスタ!C193=\"\",\"\",商品マスタ!C193)","v":""},{"$f":"IF(商品マスタ!D193=\"\",\"\",商品マスタ!D193)","v":""},{"$f":"IF(商品マスタ!E193=\"\",\"\",商品マスタ!E193)","v":""},{"$f":"IF(商品マスタ!F193=\"\",\"\",商品マスタ!F193)","v":""}]
[{"$nulls":10},{"$f":"IF(商品マスタ!B194=\"\",\"\",商品マスタ!B194)","v":190},{"$f":"IF(商品マスタ!C194=\"\",\"\",商品マスタ!C194)","v":""},{"$f":"IF(商品マスタ!D194=\"\",\"\",商品マスタ!D194)","v":""},{"$f":"IF(商品マスタ!E194=\"\",\"\",商品マスタ!E194)","v":""},{"$f":"IF(商品マスタ!F194=\"\",\"\",商品マスタ!F194)","v":""}]
[{"$nulls":10},{"$f":"IF(商品マスタ!B195=\"\",\"\",商品マスタ!B195)","v":191},{"$f":"IF(商品マスタ!C195=\"\",\"\",商品マスタ!C195)","v":""},{"$f":"IF(商品マスタ!D195=\"\",\"\",商品マスタ!D195)","v":""},{"$f":"IF(商品マスタ!E195=\"\",\"\",商品マスタ!E195)","v":""},{"$f":"IF(商品マスタ!F195=\"\",\"\",商品マスタ!F195)","v":""}]
[{"$nulls":10},{"$f":"IF(商品マスタ!B196=\"\",\"\",商品マスタ!B196)","v":192},{"$f":"IF(商品マスタ!C196=\"\",\"\",商品マスタ!C196)","v":""},{"$f":"IF(商品マスタ!D196=\"\",\"\",商品マスタ!D196)","v":""},{"$f":"IF(商品マスタ!E196=\"\",\"\",商品マスタ!E196)","v":""},{"$f":"IF(商品マスタ!F196=\"\",\"\",商品マスタ!F196)","v":""}]
[{"$nulls":10},{"$f":"IF(商品マスタ!B197=\"\",\"\",商品マスタ!B197)","v":193},{"$f":"IF(商品マスタ!C197=\"\",\"\",商品マスタ!C197)","v":""},{"$f":"IF(商品マスタ!D197=\"\",\"\",商品マスタ!D197)","v":""},{"$f":"IF(商品マスタ!E197=\"\",\"\",商品マスタ!E197)","v":""},{"$f":"IF(商品マスタ!F197=\"\",\"\",商品マスタ!F197)","v":""}]
[{"$nulls":10},{"$f":"IF(商品マスタ!B198=\"\",\"\",商品マスタ!B198)","v":194},{"$f":"IF(商品マスタ!C198=\"\",\"\",商品マスタ!C198)","v":""},{"$f":"IF(商品マスタ!D198=\"\",\"\",商品マスタ!D198)","v":""},{"$f":"IF(商品マスタ!E198=\"\",\"\",商品マスタ!E198)","v":""},{"$f":"IF(商品マスタ!F198=\"\",\"\",商品マスタ!F198)","v":""}]
[{"$nulls":10},{"$f":"IF(商品マスタ!B199=\"\",\"\",商品マスタ!B199)","v":195},{"$f":"IF(商品マスタ!C199=\"\",\"\",商品マスタ!C199)","v":""},{"$f":"IF(商品マスタ!D199=\"\",\"\",商品マスタ!D199)","v":""},{"$f":"IF(商品マスタ!E199=\"\",\"\",商品マスタ!E199)","v":""},{"$f":"IF(商品マスタ!F199=\"\",\"\",商品マスタ!F199)","v":""}]
[{"$nulls":10},{"$f":"IF(商品マスタ!B200=\"\",\"\",商品マスタ!B200)","v":196},{"$f":"IF(商品マスタ!C200=\"\",\"\",商品マスタ!C200)","v":""},{"$f":"IF(商品マスタ!D200=\"\",\"\",商品マスタ!D200)","v":""},{"$f":"IF(商品マスタ!E200=\"\",\"\",商品マスタ!E200)","v":""},{"$f":"IF(商品マスタ!F200=\"\",\"\",商品マスタ!F200)","v":""}]
[{"$nulls":10},{"$f":"IF(商品マスタ!B201=\"\",\"\",商品マスタ!B201)","v":197},{"$f":"IF(商品マスタ!C201=\"\",\"\",商品マスタ!C201)","v":""},{"$f":"IF(商品マスタ!D201=\"\",\"\",商品マスタ!D201)","v":""},{"$f":"IF(商品マスタ!E201=\"\",\"\",商品マスタ!E201)","v":""},{"$f":"IF(商品マスタ!F201=\"\",\"\",商品マスタ!F201)","v":""}]
[{"$nulls":10},{"$f":"IF(商品マスタ!B202=\"\",\"\",商品マスタ!B202)","v":198},{"$f":"IF(商品マスタ!C202=\"\",\"\",商品マスタ!C202)","v":""},{"$f":"IF(商品マスタ!D202=\"\",\"\",商品マスタ!D202)","v":""},{"$f":"IF(商品マスタ!E202=\"\",\"\",商品マスタ!E202)","v":""},{"$f":"IF(商品マスタ!F202=\"\",\"\",商品マスタ!F202)","v":""}]
[{"$nulls":10},{"$f":"IF(商品マスタ!B203=\"\",\"\",商品マスタ!B203)","v":199},{"$f":"IF(商品マスタ!C203=\"\",\"\",商品マスタ!C203)","v":""},{"$f":"IF(商品マスタ!D203=\"\",\"\",商品マスタ!D203)","v":""},{"$f":"IF(商品マスタ!E203=\"\",\"\",商品マスタ!E203)","v":""},{"$f":"IF(商品マスタ!F203=\"\",\"\",商品マスタ!F203)","v":""}]
[{"$nulls":10},{"$f":"IF(商品マスタ!B204=\"\",\"\",商品マスタ!B204)","v":200},{"$f":"IF(商品マスタ!C204=\"\",\"\",商品マスタ!C204)","v":""},{"$f":"IF(商品マスタ!D204=\"\",\"\",商品マスタ!D204)","v":""},{"$f":"IF(商品マスタ!E204=\"\",\"\",商品マスタ!E204)","v":""},{"$f":"IF(商品マスタ!F204=\"\",\"\",商品マスタ!F204)","v":""}]

{"sheet":"選択リスト","index":2,"n_rows":210,"n_cols":6,"rows_kept":210,"hidden":true}
[]
[]
[]
[]
[]
[null,"教材番号選択"]
[{"$nulls":3},"名称の一部"]
[]
[{"$nulls":3},1,null,{"$f":"MAX(F11:F210)","v":200}]
[null,"教材番号→教材名検索",null,"選択教材リスト","教材番号抽出"]
[null,{"$f":"IFERROR(INDEX(商品マスタ!$C$5:$C$204,MATCH(商品番号選択,商品マスタ!$B$5:$B$204,0)),\"\")","v":""},1,{"$f":"IFERROR(INDEX(商品マスタ!$C$5:$C$204,MATCH(E11,商品マスタ!$B$5:$B$204,0)),\"\")","v":"LIFESPAN（ライフスパン）―老いなき世界"},{"$f":"IFERROR(MATCH($C11,F$11:F$210,0),\"\")","v":1},{"$f":"IF(ISERROR(FIND($E$7,商品マスタ!C5)),F10,F10+1)","v":1}]
[null,null,2,{"$f":"IFERROR(INDEX(商品マスタ!$C$5:$C$204,MATCH(E12,商品マスタ!$B$5:$B$204,0)),\"\")","v":"WHAT IS LIFE？（ホワット・イズ・ライフ？）生命とは何か"},2,{"$f":"IF(ISERROR(FIND($E$7,商品マスタ!C6)),F11,F11+1)","v":2}]
[null,null,3,{"$f":"IFERROR(INDEX(商品マスタ!$C$5:$C$204,MATCH(E13,商品マスタ!$B$5:$B$204,0)),\"\")","v":"科学的とはどういう意味か"},3,{"$f":"IF(ISERROR(FIND($E$7,商品マスタ!C7)),F12,F12+1)","v":3}]
[null,null,4,{"$f":"IFERROR(INDEX(商品マスタ!$C$5:$C$204,MATCH(E14,商品マスタ!$B$5:$B$204,0)),\"\")","v":"コトPOP（R）を書いたら あっ、売れちゃった！"},4,{"$f":"IF(ISERROR(FIND($E$7,商品マスタ!C8)),F13,F13+1)","v":4}]
[null,null,5,{"$f":"IFERROR(INDEX(商品マスタ!$C$5:$C$204,MATCH(E15,商品マスタ!$B$5:$B$204,0)),\"\")","v":"鉄腕アトム 地球最大の冒険"},5,{"$f":"IF(ISERROR(FIND($E$7,商品マスタ!C9)),F14,F14+1)","v":5}]
[null,null,6,{"$f":"IFERROR(INDEX(商品マスタ!$C$5:$C$204,MATCH(E16,商品マスタ!$B$5:$B$204,0)),\"\")","v":"鉄腕アトム 地球防衛隊"},6,{"$f":"IF(ISERROR(FIND($E$7,商品マスタ!C10)),F15,F15+1)","v":6}]
[null,null,7,{"$f":"IFERROR(INDEX(商品マスタ!$C$5:$C$204,MATCH(E17,商品マスタ!$B$5:$B$204,0)),\"\")","v":"どうする？デザイン クライアントとのやりとりでよくわかる！デザインの決め方、伝え方"},7,{"$f":"IF(ISERROR(FIND($E$7,商品マスタ!C11)),F16,F16+1)","v":7}]
[null,null,8,{"$f":"IFERROR(INDEX(商品マスタ!$C$5:$C$204,MATCH(E18,商品マスタ!$B$5:$B$204,0)),\"\")","v":"ハッブル宇宙望遠鏡が見た絶景宇宙 SELECT 10 Vol.1"},8,{"$f":"IF(ISERROR(FIND($E$7,商品マスタ!C12)),F17,F17+1)","v":8}]
[null,null,9,{"$f":"IFERROR(INDEX(商品マスタ!$C$5:$C$204,MATCH(E19,商品マスタ!$B$5:$B$204,0)),\"\")","v":"ハムスターがおうちにやってきた！"},9,{"$f":"IF(ISERROR(FIND($E$7,商品マスタ!C13)),F18,F18+1)","v":9}]
[null,null,10,{"$f":"IFERROR(INDEX(商品マスタ!$C$5:$C$204,MATCH(E20,商品マスタ!$B$5:$B$204,0)),\"\")","v":"ビーカーくんのゆかいな化学実験"},10,{"$f":"IF(ISERROR(FIND($E$7,商品マスタ!C14)),F19,F19+1)","v":10}]
[null,null,11,{"$f":"IFERROR(INDEX(商品マスタ!$C$5:$C$204,MATCH(E21,商品マスタ!$B$5:$B$204,0)),\"\")","v":"ヒトを理解するための 生物学"},11,{"$f":"IF(ISERROR(FIND($E$7,商品マスタ!C15)),F20,F20+1)","v":11}]
[null,null,12,{"$f":"IFERROR(INDEX(商品マスタ!$C$5:$C$204,MATCH(E22,商品マスタ!$B$5:$B$204,0)),\"\")","v":"富士山はどうしてそこにあるのか 地形から見る日本列島史"},12,{"$f":"IF(ISERROR(FIND($E$7,商品マスタ!C16)),F21,F21+1)","v":12}]
[null,null,13,{"$f":"IFERROR(INDEX(商品マスタ!$C$5:$C$204,MATCH(E23,商品マスタ!$B$5:$B$204,0)),\"\")","v":"宇宙の「果て」になにがあるのか 最新天文学が描く、時間と空間の終わり"},13,{"$f":"IF(ISERROR(FIND($E$7,商品マスタ!C17)),F22,F22+1)","v":13}]
[null,null,14,{"$f":"IFERROR(INDEX(商品マスタ!$C$5:$C$204,MATCH(E24,商品マスタ!$B$5:$B$204,0)),\"\")","v":"宇宙は本当にひとつなのか―最新宇宙論入門"},14,{"$f":"IF(ISERROR(FIND($E$7,商品マスタ!C18)),F23,F23+1)","v":14}]
[null,null,15,{"$f":"IFERROR(INDEX(商品マスタ!$C$5:$C$204,MATCH(E25,商品マスタ!$B$5:$B$204,0)),\"\")","v":"宇宙創成（上）"},15,{"$f":"IF(ISERROR(FIND($E$7,商品マスタ!C19)),F24,F24+1)","v":15}]
[null,null,16,{"$f":"IFERROR(INDEX(商品マスタ!$C$5:$C$204,MATCH(E26,商品マスタ!$B$5:$B$204,0)),\"\")","v":"宇宙望遠鏡がとらえた 銀河（ブックブライト）"},16,{"$f":"IF(ISERROR(FIND($E$7,商品マスタ!C20)),F25,F25+1)","v":16}]
[null,null,17,{"$f":"IFERROR(INDEX(商品マスタ!$C$5:$C$204,MATCH(E27,商品マスタ!$B$5:$B$204,0)),\"\")","v":"見てわかる、迷わず決まる配色アイデア 3色だけでセンスのいい色"},17,{"$f":"IF(ISERROR(FIND($E$7,商品マスタ!C21)),F26,F26+1)","v":17}]
[null,null,18,{"$f":"IFERROR(INDEX(商品マスタ!$C$5:$C$204,MATCH(E28,商品マスタ!$B$5:$B$204,0)),\"\")","v":"写真加工で作る風景イラスト 神技作画シリーズ"},18,{"$f":"IF(ISERROR(FIND($E$7,商品マスタ!C22)),F27,F27+1)","v":18}]
[null,null,19,{"$f":"IFERROR(INDEX(商品マスタ!$C$5:$C$204,MATCH(E29,商品マスタ!$B$5:$B$204,0)),\"\")","v":"写真加工で作る風景イラスト 神技作画シリーズ"},19,{"$f":"IF(ISERROR(FIND($E$7,商品マスタ!C23)),F28,F28+1)","v":19}]
[null,null,20,{"$f":"IFERROR(INDEX(商品マスタ!$C$5:$C$204,MATCH(E30,商品マスタ!$B$5:$B$204,0)),\"\")","v":"重力とは何か アインシュタインから超弦理論へ、宇宙の謎に迫る"},20,{"$f":"IF(ISERROR(FIND($E$7,商品マスタ!C24)),F29,F29+1)","v":20}]
[null,null,21,{"$f":"IFERROR(INDEX(商品マスタ!$C$5:$C$204,MATCH(E31,商品マスタ!$B$5:$B$204,0)),\"\")","v":"図説 メイドインアビス 探窟記録【電子特典付き】"},21,{"$f":"IF(ISERROR(FIND($E$7,商品マスタ!C25)),F30,F30+1)","v":21}]
[null,null,22,{"$f":"IFERROR(INDEX(商品マスタ!$C$5:$C$204,MATCH(E32,商品マスタ!$B$5:$B$204,0)),\"\")","v":"成功の秘密にアクセスできるギャラクシー・コード"},22,{"$f":"IF(ISERROR(FIND($E$7,商品マスタ!C26)),F31,F31+1)","v":22}]
[null,null,23,{"$f":"IFERROR(INDEX(商品マスタ!$C$5:$C$204,MATCH(E33,商品マスタ!$B$5:$B$204,0)),\"\")","v":"太陽系 絶景画像50"},23,{"$f":"IF(ISERROR(FIND($E$7,商品マスタ!C27)),F32,F32+1)","v":23}]
[null,null,24,{"$f":"IFERROR(INDEX(商品マスタ!$C$5:$C$204,MATCH(E34,商品マスタ!$B$5:$B$204,0)),\"\")","v":"踊りませんか？ 社交ダンスの世界"},24,{"$f":"IF(ISERROR(FIND($E$7,商品マスタ!C28)),F33,F33+1)","v":24}]
[null,null,25,{"$f":"IFERROR(INDEX(商品マスタ!$C$5:$C$204,MATCH(E35,商品マスタ!$B$5:$B$204,0)),\"\")","v":0},25,{"$f":"IF(ISERROR(FIND($E$7,商品マスタ!C29)),F34,F34+1)","v":25}]
[null,null,26,{"$f":"IFERROR(INDEX(商品マスタ!$C$5:$C$204,MATCH(E36,商品マスタ!$B$5:$B$204,0)),\"\")","v":0},26,{"$f":"IF(ISERROR(FIND($E$7,商品マスタ!C30)),F35,F35+1)","v":26}]
[null,null,27,{"$f":"IFERROR(INDEX(商品マスタ!$C$5:$C$204,MATCH(E37,商品マスタ!$B$5:$B$204,0)),\"\")","v":0},27,{"$f":"IF(ISERROR(FIND($E$7,商品マスタ!C31)),F36,F36+1)","v":27}]
[null,null,28,{"$f":"IFERROR(INDEX(商品マスタ!$C$5:$C$204,MATCH(E38,商品マスタ!$B$5:$B$204,0)),\"\")","v":0},28,{"$f":"IF(ISERROR(FIND($E$7,商品マスタ!C32)),F37,F37+1)","v":28}]
[null,null,29,{"$f":"IFERROR(INDEX(商品マスタ!$C$5:$C$204,MATCH(E39,商品マスタ!$B$5:$B$204,0)),\"\")","v":0},29,{"$f":"IF(ISERROR(FIND($E$7,商品マスタ!C33)),F38,F38+1)","v":29}]
[null,null,30,{"$f":"IFERROR(INDEX(商品マスタ!$C$5:$C$204,MATCH(E40,商品マスタ!$B$5:$B$204,0)),\"\")","v":0},30,{"$f":"IF(ISERROR(FIND($E$7,商品マスタ!C34)),F39,F39+1)","v":30}]
[null,null,31,{"$f":"IFERROR(INDEX(商品マスタ!$C$5:$C$204,MATCH(E41,商品マスタ!$B$5:$B$204,0)),\"\")","v":0},31,{"$f":"IF(ISERROR(FIND($E$7,商品マスタ!C35)),F40,F40+1)","v":31}]
[null,null,32,{"$f":"IFERROR(INDEX(商品マスタ!$C$5:$C$204,MATCH(E42,商品マスタ!$B$5:$B$204,0)),\"\")","v":0},32,{"$f":"IF(ISERROR(FIND($E$7,商品マスタ!C36)),F41,F41+1)","v":32}]
[null,null,33,{"$f":"IFERROR(INDEX(商品マスタ!$C$5:$C$204,MATCH(E43,商品マスタ!$B$5:$B$204,0)),\"\")","v":0},{"$f":"IFERROR(MATCH($C43,F$11:F$210,0),\"\")","v":33},{"$f":"IF(ISERROR(FIND($E$7,商品マスタ!C37)),F42,F42+1)","v":33}]
[null,null,34,{"$f":"IFERROR(INDEX(商品マスタ!$C$5:$C$204,MATCH(E44,商品マスタ!$B$5:$B$204,0)),\"\")","v":0},34,{"$f":"IF(ISERROR(FIND($E$7,商品マスタ!C38)),F43,F43+1)","v":34}]
[null,null,35,{"$f":"IFERROR(INDEX(商品マスタ!$C$5:$C$204,MATCH(E45,商品マスタ!$B$5:$B$204,0)),\"\")","v":0},35,{"$f":"IF(ISERROR(FIND($E$7,商品マスタ!C39)),F44,F44+1)","v":35}]
[null,null,36,{"$f":"IFERROR(INDEX(商品マスタ!$C$5:$C$204,MATCH(E46,商品マスタ!$B$5:$B$204,0)),\"\")","v":0},36,{"$f":"IF(ISERROR(FIND($E$7,商品マスタ!C40)),F45,F45+1)","v":36}]
[null,null,37,{"$f":"IFERROR(INDEX(商品マスタ!$C$5:$C$204,MATCH(E47,商品マスタ!$B$5:$B$204,0)),\"\")","v":0},37,{"$f":"IF(ISERROR(FIND($E$7,商品マスタ!C41)),F46,F46+1)","v":37}]
[null,null,38,{"$f":"IFERROR(INDEX(商品マスタ!$C$5:$C$204,MATCH(E48,商品マスタ!$B$5:$B$204,0)),\"\")","v":0},38,{"$f":"IF(ISERROR(FIND($E$7,商品マスタ!C42)),F47,F47+1)","v":38}]
[null,null,39,{"$f":"IFERROR(INDEX(商品マスタ!$C$5:$C$204,MATCH(E49,商品マスタ!$B$5:$B$204,0)),\"\")","v":0},39,{"$f":"IF(ISERROR(FIND($E$7,商品マスタ!C43)),F48,F48+1)","v":39}]
[null,null,40,{"$f":"IFERROR(INDEX(商品マスタ!$C$5:$C$204,MATCH(E50,商品マスタ!$B$5:$B$204,0)),\"\")","v":0},40,{"$f":"IF(ISERROR(FIND($E$7,商品マスタ!C44)),F49,F49+1)","v":40}]
[null,null,41,{"$f":"IFERROR(INDEX(商品マスタ!$C$5:$C$204,MATCH(E51,商品マスタ!$B$5:$B$204,0)),\"\")","v":0},41,{"$f":"IF(ISERROR(FIND($E$7,商品マスタ!C45)),F50,F50+1)","v":41}]
[null,null,42,{"$f":"IFERROR(INDEX(商品マスタ!$C$5:$C$204,MATCH(E52,商品マスタ!$B$5:$B$204,0)),\"\")","v":0},42,{"$f":"IF(ISERROR(FIND($E$7,商品マスタ!C46)),F51,F51+1)","v":42}]
[null,null,43,{"$f":"IFERROR(INDEX(商品マスタ!$C$5:$C$204,MATCH(E53,商品マスタ!$B$5:$B$204,0)),\"\")","v":0},43,{"$f":"IF(ISERROR(FIND($E$7,商品マスタ!C47)),F52,F52+1)","v":43}]
[null,null,44,{"$f":"IFERROR(INDEX(商品マスタ!$C$5:$C$204,MATCH(E54,商品マスタ!$B$5:$B$204,0)),\"\")","v":0},44,{"$f":"IF(ISERROR(FIND($E$7,商品マスタ!C48)),F53,F53+1)","v":44}]
[null,null,45,{"$f":"IFERROR(INDEX(商品マスタ!$C$5:$C$204,MATCH(E55,商品マスタ!$B$5:$B$204,0)),\"\")","v":0},45,{"$f":"IF(ISERROR(FIND($E$7,商品マスタ!C49)),F54,F54+1)","v":45}]
[null,null,46,{"$f":"IFERROR(INDEX(商品マスタ!$C$5:$C$204,MATCH(E56,商品マスタ!$B$5:$B$204,0)),\"\")","v":0},46,{"$f":"IF(ISERROR(FIND($E$7,商品マスタ!C50)),F55,F55+1)","v":46}]
[null,null,47,{"$f":"IFERROR(INDEX(商品マスタ!$C$5:$C$204,MATCH(E57,商品マスタ!$B$5:$B$204,0)),\"\")","v":0},47,{"$f":"IF(ISERROR(FIND($E$7,商品マスタ!C51)),F56,F56+1)","v":47}]
[null,null,48,{"$f":"IFERROR(INDEX(商品マスタ!$C$5:$C$204,MATCH(E58,商品マスタ!$B$5:$B$204,0)),\"\")","v":0},48,{"$f":"IF(ISERROR(FIND($E$7,商品マスタ!C52)),F57,F57+1)","v":48}]
[null,null,49,{"$f":"IFERROR(INDEX(商品マスタ!$C$5:$C$204,MATCH(E59,商品マスタ!$B$5:$B$204,0)),\"\")","v":0},49,{"$f":"IF(ISERROR(FIND($E$7,商品マスタ!C53)),F58,F58+1)","v":49}]
[null,null,50,{"$f":"IFERROR(INDEX(商品マスタ!$C$5:$C$204,MATCH(E60,商品マスタ!$B$5:$B$204,0)),\"\")","v":0},50,{"$f":"IF(ISERROR(FIND($E$7,商品マスタ!C54)),F59,F59+1)","v":50}]
[null,null,51,{"$f":"IFERROR(INDEX(商品マスタ!$C$5:$C$204,MATCH(E61,商品マスタ!$B$5:$B$204,0)),\"\")","v":0},51,{"$f":"IF(ISERROR(FIND($E$7,商品マスタ!C55)),F60,F60+1)","v":51}]
[null,null,52,{"$f":"IFERROR(INDEX(商品マスタ!$C$5:$C$204,MATCH(E62,商品マスタ!$B$5:$B$204,0)),\"\")","v":0},52,{"$f":"IF(ISERROR(FIND($E$7,商品マスタ!C56)),F61,F61+1)","v":52}]
[null,null,53,{"$f":"IFERROR(INDEX(商品マスタ!$C$5:$C$204,MATCH(E63,商品マスタ!$B$5:$B$204,0)),\"\")","v":0},53,{"$f":"IF(ISERROR(FIND($E$7,商品マスタ!C57)),F62,F62+1)","v":53}]
[null,null,54,{"$f":"IFERROR(INDEX(商品マスタ!$C$5:$C$204,MATCH(E64,商品マスタ!$B$5:$B$204,0)),\"\")","v":0},54,{"$f":"IF(ISERROR(FIND($E$7,商品マスタ!C58)),F63,F63+1)","v":54}]
[null,null,55,{"$f":"IFERROR(INDEX(商品マスタ!$C$5:$C$204,MATCH(E65,商品マスタ!$B$5:$B$204,0)),\"\")","v":0},55,{"$f":"IF(ISERROR(FIND($E$7,商品マスタ!C59)),F64,F64+1)","v":55}]
[null,null,56,{"$f":"IFERROR(INDEX(商品マスタ!$C$5:$C$204,MATCH(E66,商品マスタ!$B$5:$B$204,0)),\"\")","v":0},56,{"$f":"IF(ISERROR(FIND($E$7,商品マスタ!C60)),F65,F65+1)","v":56}]
[null,null,57,{"$f":"IFERROR(INDEX(商品マスタ!$C$5:$C$204,MATCH(E67,商品マスタ!$B$5:$B$204,0)),\"\")","v":0},57,{"$f":"IF(ISERROR(FIND($E$7,商品マスタ!C61)),F66,F66+1)","v":57}]
[null,null,58,{"$f":"IFERROR(INDEX(商品マスタ!$C$5:$C$204,MATCH(E68,商品マスタ!$B$5:$B$204,0)),\"\")","v":0},58,{"$f":"IF(ISERROR(FIND($E$7,商品マスタ!C62)),F67,F67+1)","v":58}]
[null,null,59,{"$f":"IFERROR(INDEX(商品マスタ!$C$5:$C$204,MATCH(E69,商品マスタ!$B$5:$B$204,0)),\"\")","v":0},59,{"$f":"IF(ISERROR(FIND($E$7,商品マスタ!C63)),F68,F68+1)","v":59}]
[null,null,60,{"$f":"IFERROR(INDEX(商品マスタ!$C$5:$C$204,MATCH(E70,商品マスタ!$B$5:$B$204,0)),\"\")","v":0},60,{"$f":"IF(ISERROR(FIND($E$7,商品マスタ!C64)),F69,F69+1)","v":60}]
[null,null,61,{"$f":"IFERROR(INDEX(商品マスタ!$C$5:$C$204,MATCH(E71,商品マスタ!$B$5:$B$204,0)),\"\")","v":0},61,{"$f":"IF(ISERROR(FIND($E$7,商品マスタ!C65)),F70,F70+1)","v":61}]
[null,null,62,{"$f":"IFERROR(INDEX(商品マスタ!$C$5:$C$204,MATCH(E72,商品マスタ!$B$5:$B$204,0)),\"\")","v":0},62,{"$f":"IF(ISERROR(FIND($E$7,商品マスタ!C66)),F71,F71+1)","v":62}]
[null,null,63,{"$f":"IFERROR(INDEX(商品マスタ!$C$5:$C$204,MATCH(E73,商品マスタ!$B$5:$B$204,0)),\"\")","v":0},63,{"$f":"IF(ISERROR(FIND($E$7,商品マスタ!C67)),F72,F72+1)","v":63}]
[null,null,64,{"$f":"IFERROR(INDEX(商品マスタ!$C$5:$C$204,MATCH(E74,商品マスタ!$B$5:$B$204,0)),\"\")","v":0},64,{"$f":"IF(ISERROR(FIND($E$7,商品マスタ!C68)),F73,F73+1)","v":64}]
[null,null,65,{"$f":"IFERROR(INDEX(商品マスタ!$C$5:$C$204,MATCH(E75,商品マスタ!$B$5:$B$204,0)),\"\")","v":0},{"$f":"IFERROR(MATCH($C75,F$11:F$210,0),\"\")","v":65},{"$f":"IF(ISERROR(FIND($E$7,商品マスタ!C69)),F74,F74+1)","v":65}]
[null,null,66,{"$f":"IFERROR(INDEX(商品マスタ!$C$5:$C$204,MATCH(E76,商品マスタ!$B$5:$B$204,0)),\"\")","v":0},66,{"$f":"IF(ISERROR(FIND($E$7,商品マスタ!C70)),F75,F75+1)","v":66}]
[null,null,67,{"$f":"IFERROR(INDEX(商品マスタ!$C$5:$C$204,MATCH(E77,商品マスタ!$B$5:$B$204,0)),\"\")","v":0},67,{"$f":"IF(ISERROR(FIND($E$7,商品マスタ!C71)),F76,F76+1)","v":67}]
[null,null,68,{"$f":"IFERROR(INDEX(商品マスタ!$C$5:$C$204,MATCH(E78,商品マスタ!$B$5:$B$204,0)),\"\")","v":0},68,{"$f":"IF(ISERROR(FIND($E$7,商品マスタ!C72)),F77,F77+1)","v":68}]
[null,null,69,{"$f":"IFERROR(INDEX(商品マスタ!$C$5:$C$204,MATCH(E79,商品マスタ!$B$5:$B$204,0)),\"\")","v":0},69,{"$f":"IF(ISERROR(FIND($E$7,商品マスタ!C73)),F78,F78+1)","v":69}]
[null,null,70,{"$f":"IFERROR(INDEX(商品マスタ!$C$5:$C$204,MATCH(E80,商品マスタ!$B$5:$B$204,0)),\"\")","v":0},70,{"$f":"IF(ISERROR(FIND($E$7,商品マスタ!C74)),F79,F79+1)","v":70}]
[null,null,71,{"$f":"IFERROR(INDEX(商品マスタ!$C$5:$C$204,MATCH(E81,商品マスタ!$B$5:$B$204,0)),\"\")","v":0},71,{"$f":"IF(ISERROR(FIND($E$7,商品マスタ!C75)),F80,F80+1)","v":71}]
[null,null,72,{"$f":"IFERROR(INDEX(商品マスタ!$C$5:$C$204,MATCH(E82,商品マスタ!$B$5:$B$204,0)),\"\")","v":0},72,{"$f":"IF(ISERROR(FIND($E$7,商品マスタ!C76)),F81,F81+1)","v":72}]
[null,null,73,{"$f":"IFERROR(INDEX(商品マスタ!$C$5:$C$204,MATCH(E83,商品マスタ!$B$5:$B$204,0)),\"\")","v":0},73,{"$f":"IF(ISERROR(FIND($E$7,商品マスタ!C77)),F82,F82+1)","v":73}]
[null,null,74,{"$f":"IFERROR(INDEX(商品マスタ!$C$5:$C$204,MATCH(E84,商品マスタ!$B$5:$B$204,0)),\"\")","v":0},74,{"$f":"IF(ISERROR(FIND($E$7,商品マスタ!C78)),F83,F83+1)","v":74}]
[null,null,75,{"$f":"IFERROR(INDEX(商品マスタ!$C$5:$C$204,MATCH(E85,商品マスタ!$B$5:$B$204,0)),\"\")","v":0},75,{"$f":"IF(ISERROR(FIND($E$7,商品マスタ!C79)),F84,F84+1)","v":75}]
[null,null,76,{"$f":"IFERROR(INDEX(商品マスタ!$C$5:$C$204,MATCH(E86,商品マスタ!$B$5:$B$204,0)),\"\")","v":0},76,{"$f":"IF(ISERROR(FIND($E$7,商品マスタ!C80)),F85,F85+1)","v":76}]
[null,null,77,{"$f":"IFERROR(INDEX(商品マスタ!$C$5:$C$204,MATCH(E87,商品マスタ!$B$5:$B$204,0)),\"\")","v":0},77,{"$f":"IF(ISERROR(FIND($E$7,商品マスタ!C81)),F86,F86+1)","v":77}]
[null,null,78,{"$f":"IFERROR(INDEX(商品マスタ!$C$5:$C$204,MATCH(E88,商品マスタ!$B$5:$B$204,0)),\"\")","v":0},78,{"$f":"IF(ISERROR(FIND($E$7,商品マスタ!C82)),F87,F87+1)","v":78}]
[null,null,79,{"$f":"IFERROR(INDEX(商品マスタ!$C$5:$C$204,MATCH(E89,商品マスタ!$B$5:$B$204,0)),\"\")","v":0},79,{"$f":"IF(ISERROR(FIND($E$7,商品マスタ!C83)),F88,F88+1)","v":79}]
[null,null,80,{"$f":"IFERROR(INDEX(商品マスタ!$C$5:$C$204,MATCH(E90,商品マスタ!$B$5:$B$204,0)),\"\")","v":0},80,{"$f":"IF(ISERROR(FIND($E$7,商品マスタ!C84)),F89,F89+1)","v":80}]
[null,null,81,{"$f":"IFERROR(INDEX(商品マスタ!$C$5:$C$204,MATCH(E91,商品マスタ!$B$5:$B$204,0)),\"\")","v":0},81,{"$f":"IF(ISERROR(FIND($E$7,商品マスタ!C85)),F90,F90+1)","v":81}]
[null,null,82,{"$f":"IFERROR(INDEX(商品マスタ!$C$5:$C$204,MATCH(E92,商品マスタ!$B$5:$B$204,0)),\"\")","v":0},82,{"$f":"IF(ISERROR(FIND($E$7,商品マスタ!C86)),F91,F91+1)","v":82}]
[null,null,83,{"$f":"IFERROR(INDEX(商品マスタ!$C$5:$C$204,MATCH(E93,商品マスタ!$B$5:$B$204,0)),\"\")","v":0},83,{"$f":"IF(ISERROR(FIND($E$7,商品マスタ!C87)),F92,F92+1)","v":83}]
[null,null,84,{"$f":"IFERROR(INDEX(商品マスタ!$C$5:$C$204,MATCH(E94,商品マスタ!$B$5:$B$204,0)),\"\")","v":0},84,{"$f":"IF(ISERROR(FIND($E$7,商品マスタ!C88)),F93,F93+1)","v":84}]
[null,null,85,{"$f":"IFERROR(INDEX(商品マスタ!$C$5:$C$204,MATCH(E95,商品マスタ!$B$5:$B$204,0)),\"\")","v":0},85,{"$f":"IF(ISERROR(FIND($E$7,商品マスタ!C89)),F94,F94+1)","v":85}]
[null,null,86,{"$f":"IFERROR(INDEX(商品マスタ!$C$5:$C$204,MATCH(E96,商品マスタ!$B$5:$B$204,0)),\"\")","v":0},86,{"$f":"IF(ISERROR(FIND($E$7,商品マスタ!C90)),F95,F95+1)","v":86}]
[null,null,87,{"$f":"IFERROR(INDEX(商品マスタ!$C$5:$C$204,MATCH(E97,商品マスタ!$B$5:$B$204,0)),\"\")","v":0},87,{"$f":"IF(ISERROR(FIND($E$7,商品マスタ!C91)),F96,F96+1)","v":87}]
[null,null,88,{"$f":"IFERROR(INDEX(商品マスタ!$C$5:$C$204,MATCH(E98,商品マスタ!$B$5:$B$204,0)),\"\")","v":0},88,{"$f":"IF(ISERROR(FIND($E$7,商品マスタ!C92)),F97,F97+1)","v":88}]
[null,null,89,{"$f":"IFERROR(INDEX(商品マスタ!$C$5:$C$204,MATCH(E99,商品マスタ!$B$5:$B$204,0)),\"\")","v":0},89,{"$f":"IF(ISERROR(FIND($E$7,商品マスタ!C93)),F98,F98+1)","v":89}]
[null,null,90,{"$f":"IFERROR(INDEX(商品マスタ!$C$5:$C$204,MATCH(E100,商品マスタ!$B$5:$B$204,0)),\"\")","v":0},90,{"$f":"IF(ISERROR(FIND($E$7,商品マスタ!C94)),F99,F99+1)","v":90}]
[null,null,91,{"$f":"IFERROR(INDEX(商品マスタ!$C$5:$C$204,MATCH(E101,商品マスタ!$B$5:$B$204,0)),\"\")","v":0},91,{"$f":"IF(ISERROR(FIND($E$7,商品マスタ!C95)),F100,F100+1)","v":91}]
[null,null,92,{"$f":"IFERROR(INDEX(商品マスタ!$C$5:$C$204,MATCH(E102,商品マスタ!$B$5:$B$204,0)),\"\")","v":0},92,{"$f":"IF(ISERROR(FIND($E$7,商品マスタ!C96)),F101,F101+1)","v":92}]
[null,null,93,{"$f":"IFERROR(INDEX(商品マスタ!$C$5:$C$204,MATCH(E103,商品マスタ!$B$5:$B$204,0)),\"\")","v":0},93,{"$f":"IF(ISERROR(FIND($E$7,商品マスタ!C97)),F102,F102+1)","v":93}]
[null,null,94,{"$f":"IFERROR(INDEX(商品マスタ!$C$5:$C$204,MATCH(E104,商品マスタ!$B$5:$B$204,0)),\"\")","v":0},94,{"$f":"IF(ISERROR(FIND($E$7,商品マスタ!C98)),F103,F103+1)","v":94}]
[null,null,95,{"$f":"IFERROR(INDEX(商品マスタ!$C$5:$C$204,MATCH(E105,商品マスタ!$B$5:$B$204,0)),\"\")","v":0},95,{"$f":"IF(ISERROR(FIND($E$7,商品マスタ!C99)),F104,F104+1)","v":95}]
[null,null,96,{"$f":"IFERROR(INDEX(商品マスタ!$C$5:$C$204,MATCH(E106,商品マスタ!$B$5:$B$204,0)),\"\")","v":0},96,{"$f":"IF(ISERROR(FIND($E$7,商品マスタ!C100)),F105,F105+1)","v":96}]
[null,null,97,{"$f":"IFERROR(INDEX(商品マスタ!$C$5:$C$204,MATCH(E107,商品マスタ!$B$5:$B$204,0)),\"\")","v":0},{"$f":"IFERROR(MATCH($C107,F$11:F$210,0),\"\")","v":97},{"$f":"IF(ISERROR(FIND($E$7,商品マスタ!C101)),F106,F106+1)","v":97}]
[null,null,98,{"$f":"IFERROR(INDEX(商品マスタ!$C$5:$C$204,MATCH(E108,商品マスタ!$B$5:$B$204,0)),\"\")","v":0},98,{"$f":"IF(ISERROR(FIND($E$7,商品マスタ!C102)),F107,F107+1)","v":98}]
[null,null,99,{"$f":"IFERROR(INDEX(商品マスタ!$C$5:$C$204,MATCH(E109,商品マスタ!$B$5:$B$204,0)),\"\")","v":0},99,{"$f":"IF(ISERROR(FIND($E$7,商品マスタ!C103)),F108,F108+1)","v":99}]
[null,null,100,{"$f":"IFERROR(INDEX(商品マスタ!$C$5:$C$204,MATCH(E110,商品マスタ!$B$5:$B$204,0)),\"\")","v":0},100,{"$f":"IF(ISERROR(FIND($E$7,商品マスタ!C104)),F109,F109+1)","v":100}]
[null,null,101,{"$f":"IFERROR(INDEX(商品マスタ!$C$5:$C$204,MATCH(E111,商品マスタ!$B$5:$B$204,0)),\"\")","v":0},101,{"$f":"IF(ISERROR(FIND($E$7,商品マスタ!C105)),F110,F110+1)","v":101}]
[null,null,102,{"$f":"IFERROR(INDEX(商品マスタ!$C$5:$C$204,MATCH(E112,商品マスタ!$B$5:$B$204,0)),\"\")","v":0},102,{"$f":"IF(ISERROR(FIND($E$7,商品マスタ!C106)),F111,F111+1)","v":102}]
[null,null,103,{"$f":"IFERROR(INDEX(商品マスタ!$C$5:$C$204,MATCH(E113,商品マスタ!$B$5:$B$204,0)),\"\")","v":0},103,{"$f":"IF(ISERROR(FIND($E$7,商品マスタ!C107)),F112,F112+1)","v":103}]
[null,null,104,{"$f":"IFERROR(INDEX(商品マスタ!$C$5:$C$204,MATCH(E114,商品マスタ!$B$5:$B$204,0)),\"\")","v":0},104,{"$f":"IF(ISERROR(FIND($E$7,商品マスタ!C108)),F113,F113+1)","v":104}]
[null,null,105,{"$f":"IFERROR(INDEX(商品マスタ!$C$5:$C$204,MATCH(E115,商品マスタ!$B$5:$B$204,0)),\"\")","v":0},105,{"$f":"IF(ISERROR(FIND($E$7,商品マスタ!C109)),F114,F114+1)","v":105}]
[null,null,106,{"$f":"IFERROR(INDEX(商品マスタ!$C$5:$C$204,MATCH(E116,商品マスタ!$B$5:$B$204,0)),\"\")","v":0},106,{"$f":"IF(ISERROR(FIND($E$7,商品マスタ!C110)),F115,F115+1)","v":106}]
[null,null,107,{"$f":"IFERROR(INDEX(商品マスタ!$C$5:$C$204,MATCH(E117,商品マスタ!$B$5:$B$204,0)),\"\")","v":0},107,{"$f":"IF(ISERROR(FIND($E$7,商品マスタ!C111)),F116,F116+1)","v":107}]
[null,null,108,{"$f":"IFERROR(INDEX(商品マスタ!$C$5:$C$204,MATCH(E118,商品マスタ!$B$5:$B$204,0)),\"\")","v":0},108,{"$f":"IF(ISERROR(FIND($E$7,商品マスタ!C112)),F117,F117+1)","v":108}]
[null,null,109,{"$f":"IFERROR(INDEX(商品マスタ!$C$5:$C$204,MATCH(E119,商品マスタ!$B$5:$B$204,0)),\"\")","v":0},109,{"$f":"IF(ISERROR(FIND($E$7,商品マスタ!C113)),F118,F118+1)","v":109}]
[null,null,110,{"$f":"IFERROR(INDEX(商品マスタ!$C$5:$C$204,MATCH(E120,商品マスタ!$B$5:$B$204,0)),\"\")","v":0},110,{"$f":"IF(ISERROR(FIND($E$7,商品マスタ!C114)),F119,F119+1)","v":110}]
[null,null,111,{"$f":"IFERROR(INDEX(商品マスタ!$C$5:$C$204,MATCH(E121,商品マスタ!$B$5:$B$204,0)),\"\")","v":0},111,{"$f":"IF(ISERROR(FIND($E$7,商品マスタ!C115)),F120,F120+1)","v":111}]
[null,null,112,{"$f":"IFERROR(INDEX(商品マスタ!$C$5:$C$204,MATCH(E122,商品マスタ!$B$5:$B$204,0)),\"\")","v":0},112,{"$f":"IF(ISERROR(FIND($E$7,商品マスタ!C116)),F121,F121+1)","v":112}]
[null,null,113,{"$f":"IFERROR(INDEX(商品マスタ!$C$5:$C$204,MATCH(E123,商品マスタ!$B$5:$B$204,0)),\"\")","v":0},113,{"$f":"IF(ISERROR(FIND($E$7,商品マスタ!C117)),F122,F122+1)","v":113}]
[null,null,114,{"$f":"IFERROR(INDEX(商品マスタ!$C$5:$C$204,MATCH(E124,商品マスタ!$B$5:$B$204,0)),\"\")","v":0},114,{"$f":"IF(ISERROR(FIND($E$7,商品マスタ!C118)),F123,F123+1)","v":114}]
[null,null,115,{"$f":"IFERROR(INDEX(商品マスタ!$C$5:$C$204,MATCH(E125,商品マスタ!$B$5:$B$204,0)),\"\")","v":0},115,{"$f":"IF(ISERROR(FIND($E$7,商品マスタ!C119)),F124,F124+1)","v":115}]
[null,null,116,{"$f":"IFERROR(INDEX(商品マスタ!$C$5:$C$204,MATCH(E126,商品マスタ!$B$5:$B$204,0)),\"\")","v":0},116,{"$f":"IF(ISERROR(FIND($E$7,商品マスタ!C120)),F125,F125+1)","v":116}]
[null,null,117,{"$f":"IFERROR(INDEX(商品マスタ!$C$5:$C$204,MATCH(E127,商品マスタ!$B$5:$B$204,0)),\"\")","v":0},117,{"$f":"IF(ISERROR(FIND($E$7,商品マスタ!C121)),F126,F126+1)","v":117}]
[null,null,118,{"$f":"IFERROR(INDEX(商品マスタ!$C$5:$C$204,MATCH(E128,商品マスタ!$B$5:$B$204,0)),\"\")","v":0},118,{"$f":"IF(ISERROR(FIND($E$7,商品マスタ!C122)),F127,F127+1)","v":118}]
[null,null,119,{"$f":"IFERROR(INDEX(商品マスタ!$C$5:$C$204,MATCH(E129,商品マスタ!$B$5:$B$204,0)),\"\")","v":0},119,{"$f":"IF(ISERROR(FIND($E$7,商品マスタ!C123)),F128,F128+1)","v":119}]
[null,null,120,{"$f":"IFERROR(INDEX(商品マスタ!$C$5:$C$204,MATCH(E130,商品マスタ!$B$5:$B$204,0)),\"\")","v":0},120,{"$f":"IF(ISERROR(FIND($E$7,商品マスタ!C124)),F129,F129+1)","v":120}]
[null,null,121,{"$f":"IFERROR(INDEX(商品マスタ!$C$5:$C$204,MATCH(E131,商品マスタ!$B$5:$B$204,0)),\"\")","v":0},121,{"$f":"IF(ISERROR(FIND($E$7,商品マスタ!C125)),F130,F130+1)","v":121}]
[null,null,122,{"$f":"IFERROR(INDEX(商品マスタ!$C$5:$C$204,MATCH(E132,商品マスタ!$B$5:$B$204,0)),\"\")","v":0},122,{"$f":"IF(ISERROR(FIND($E$7,商品マスタ!C126)),F131,F131+1)","v":122}]
[null,null,123,{"$f":"IFERROR(INDEX(商品マスタ!$C$5:$C$204,MATCH(E133,商品マスタ!$B$5:$B$204,0)),\"\")","v":0},123,{"$f":"IF(ISERROR(FIND($E$7,商品マスタ!C127)),F132,F132+1)","v":123}]
[null,null,124,{"$f":"IFERROR(INDEX(商品マスタ!$C$5:$C$204,MATCH(E134,商品マスタ!$B$5:$B$204,0)),\"\")","v":0},124,{"$f":"IF(ISERROR(FIND($E$7,商品マスタ!C128)),F133,F133+1)","v":124}]
[null,null,125,{"$f":"IFERROR(INDEX(商品マスタ!$C$5:$C$204,MATCH(E135,商品マスタ!$B$5:$B$204,0)),\"\")","v":0},125,{"$f":"IF(ISERROR(FIND($E$7,商品マスタ!C129)),F134,F134+1)","v":125}]
[null,null,126,{"$f":"IFERROR(INDEX(商品マスタ!$C$5:$C$204,MATCH(E136,商品マスタ!$B$5:$B$204,0)),\"\")","v":0},126,{"$f":"IF(ISERROR(FIND($E$7,商品マスタ!C130)),F135,F135+1)","v":126}]
[null,null,127,{"$f":"IFERROR(INDEX(商品マスタ!$C$5:$C$204,MATCH(E137,商品マスタ!$B$5:$B$204,0)),\"\")","v":0},127,{"$f":"IF(ISERROR(FIND($E$7,商品マスタ!C131)),F136,F136+1)","v":127}]
[null,null,128,{"$f":"IFERROR(INDEX(商品マスタ!$C$5:$C$204,MATCH(E138,商品マスタ!$B$5:$B$204,0)),\"\")","v":0},128,{"$f":"IF(ISERROR(FIND($E$7,商品マスタ!C132)),F137,F137+1)","v":128}]
[null,null,129,{"$f":"IFERROR(INDEX(商品マスタ!$C$5:$C$204,MATCH(E139,商品マスタ!$B$5:$B$204,0)),\"\")","v":0},{"$f":"IFERROR(MATCH($C139,F$11:F$210,0),\"\")","v":129},{"$f":"IF(ISERROR(FIND($E$7,商品マスタ!C133)),F138,F138+1)","v":129}]
[null,null,130,{"$f":"IFERROR(INDEX(商品マスタ!$C$5:$C$204,MATCH(E140,商品マスタ!$B$5:$B$204,0)),\"\")","v":0},130,{"$f":"IF(ISERROR(FIND($E$7,商品マスタ!C134)),F139,F139+1)","v":130}]
[null,null,131,{"$f":"IFERROR(INDEX(商品マスタ!$C$5:$C$204,MATCH(E141,商品マスタ!$B$5:$B$204,0)),\"\")","v":0},131,{"$f":"IF(ISERROR(FIND($E$7,商品マスタ!C135)),F140,F140+1)","v":131}]
[null,null,132,{"$f":"IFERROR(INDEX(商品マスタ!$C$5:$C$204,MATCH(E142,商品マスタ!$B$5:$B$204,0)),\"\")","v":0},132,{"$f":"IF(ISERROR(FIND($E$7,商品マスタ!C136)),F141,F141+1)","v":132}]
[null,null,133,{"$f":"IFERROR(INDEX(商品マスタ!$C$5:$C$204,MATCH(E143,商品マスタ!$B$5:$B$204,0)),\"\")","v":0},133,{"$f":"IF(ISERROR(FIND($E$7,商品マスタ!C137)),F142,F142+1)","v":133}]
[null,null,134,{"$f":"IFERROR(INDEX(商品マスタ!$C$5:$C$204,MATCH(E144,商品マスタ!$B$5:$B$204,0)),\"\")","v":0},134,{"$f":"IF(ISERROR(FIND($E$7,商品マスタ!C138)),F143,F143+1)","v":134}]
[null,null,135,{"$f":"IFERROR(INDEX(商品マスタ!$C$5:$C$204,MATCH(E145,商品マスタ!$B$5:$B$204,0)),\"\")","v":0},135,{"$f":"IF(ISERROR(FIND($E$7,商品マスタ!C139)),F144,F144+1)","v":135}]
[null,null,136,{"$f":"IFERROR(INDEX(商品マスタ!$C$5:$C$204,MATCH(E146,商品マスタ!$B$5:$B$204,0)),\"\")","v":0},136,{"$f":"IF(ISERROR(FIND($E$7,商品マスタ!C140)),F145,F145+1)","v":136}]
[null,null,137,{"$f":"IFERROR(INDEX(商品マスタ!$C$5:$C$204,MATCH(E147,商品マスタ!$B$5:$B$204,0)),\"\")","v":0},137,{"$f":"IF(ISERROR(FIND($E$7,商品マスタ!C141)),F146,F146+1)","v":137}]
[null,null,138,{"$f":"IFERROR(INDEX(商品マスタ!$C$5:$C$204,MATCH(E148,商品マスタ!$B$5:$B$204,0)),\"\")","v":0},138,{"$f":"IF(ISERROR(FIND($E$7,商品マスタ!C142)),F147,F147+1)","v":138}]
[null,null,139,{"$f":"IFERROR(INDEX(商品マスタ!$C$5:$C$204,MATCH(E149,商品マスタ!$B$5:$B$204,0)),\"\")","v":0},139,{"$f":"IF(ISERROR(FIND($E$7,商品マスタ!C143)),F148,F148+1)","v":139}]
[null,null,140,{"$f":"IFERROR(INDEX(商品マスタ!$C$5:$C$204,MATCH(E150,商品マスタ!$B$5:$B$204,0)),\"\")","v":0},140,{"$f":"IF(ISERROR(FIND($E$7,商品マスタ!C144)),F149,F149+1)","v":140}]
[null,null,141,{"$f":"IFERROR(INDEX(商品マスタ!$C$5:$C$204,MATCH(E151,商品マスタ!$B$5:$B$204,0)),\"\")","v":0},141,{"$f":"IF(ISERROR(FIND($E$7,商品マスタ!C145)),F150,F150+1)","v":141}]
[null,null,142,{"$f":"IFERROR(INDEX(商品マスタ!$C$5:$C$204,MATCH(E152,商品マスタ!$B$5:$B$204,0)),\"\")","v":0},142,{"$f":"IF(ISERROR(FIND($E$7,商品マスタ!C146)),F151,F151+1)","v":142}]
[null,null,143,{"$f":"IFERROR(INDEX(商品マスタ!$C$5:$C$204,MATCH(E153,商品マスタ!$B$5:$B$204,0)),\"\")","v":0},143,{"$f":"IF(ISERROR(FIND($E$7,商品マスタ!C147)),F152,F152+1)","v":143}]
[null,null,144,{"$f":"IFERROR(INDEX(商品マスタ!$C$5:$C$204,MATCH(E154,商品マスタ!$B$5:$B$204,0)),\"\")","v":0},144,{"$f":"IF(ISERROR(FIND($E$7,商品マスタ!C148)),F153,F153+1)","v":144}]
[null,null,145,{"$f":"IFERROR(INDEX(商品マスタ!$C$5:$C$204,MATCH(E155,商品マスタ!$B$5:$B$204,0)),\"\")","v":0},145,{"$f":"IF(ISERROR(FIND($E$7,商品マスタ!C149)),F154,F154+1)","v":145}]
[null,null,146,{"$f":"IFERROR(INDEX(商品マスタ!$C$5:$C$204,MATCH(E156,商品マスタ!$B$5:$B$204,0)),\"\")","v":0},146,{"$f":"IF(ISERROR(FIND($E$7,商品マスタ!C150)),F155,F155+1)","v":146}]
[null,null,147,{"$f":"IFERROR(INDEX(商品マスタ!$C$5:$C$204,MATCH(E157,商品マスタ!$B$5:$B$204,0)),\"\")","v":0},147,{"$f":"IF(ISERROR(FIND($E$7,商品マスタ!C151)),F156,F156+1)","v":147}]
[null,null,148,{"$f":"IFERROR(INDEX(商品マスタ!$C$5:$C$204,MATCH(E158,商品マスタ!$B$5:$B$204,0)),\"\")","v":0},148,{"$f":"IF(ISERROR(FIND($E$7,商品マスタ!C152)),F157,F157+1)","v":148}]
[null,null,149,{"$f":"IFERROR(INDEX(商品マスタ!$C$5:$C$204,MATCH(E159,商品マスタ!$B$5:$B$204,0)),\"\")","v":0},149,{"$f":"IF(ISERROR(FIND($E$7,商品マスタ!C153)),F158,F158+1)","v":149}]
[null,null,150,{"$f":"IFERROR(INDEX(商品マスタ!$C$5:$C$204,MATCH(E160,商品マスタ!$B$5:$B$204,0)),\"\")","v":0},150,{"$f":"IF(ISERROR(FIND($E$7,商品マスタ!C154)),F159,F159+1)","v":150}]
[null,null,151,{"$f":"IFERROR(INDEX(商品マスタ!$C$5:$C$204,MATCH(E161,商品マスタ!$B$5:$B$204,0)),\"\")","v":0},151,{"$f":"IF(ISERROR(FIND($E$7,商品マスタ!C155)),F160,F160+1)","v":151}]
[null,null,152,{"$f":"IFERROR(INDEX(商品マスタ!$C$5:$C$204,MATCH(E162,商品マスタ!$B$5:$B$204,0)),\"\")","v":0},152,{"$f":"IF(ISERROR(FIND($E$7,商品マスタ!C156)),F161,F161+1)","v":152}]
[null,null,153,{"$f":"IFERROR(INDEX(商品マスタ!$C$5:$C$204,MATCH(E163,商品マスタ!$B$5:$B$204,0)),\"\")","v":0},153,{"$f":"IF(ISERROR(FIND($E$7,商品マスタ!C157)),F162,F162+1)","v":153}]
[null,null,154,{"$f":"IFERROR(INDEX(商品マスタ!$C$5:$C$204,MATCH(E164,商品マスタ!$B$5:$B$204,0)),\"\")","v":0},154,{"$f":"IF(ISERROR(FIND($E$7,商品マスタ!C158)),F163,F163+1)","v":154}]
[null,null,155,{"$f":"IFERROR(INDEX(商品マスタ!$C$5:$C$204,MATCH(E165,商品マスタ!$B$5:$B$204,0)),\"\")","v":0},155,{"$f":"IF(ISERROR(FIND($E$7,商品マスタ!C159)),F164,F164+1)","v":155}]
[null,null,156,{"$f":"IFERROR(INDEX(商品マスタ!$C$5:$C$204,MATCH(E166,商品マスタ!$B$5:$B$204,0)),\"\")","v":0},156,{"$f":"IF(ISERROR(FIND($E$7,商品マスタ!C160)),F165,F165+1)","v":156}]
[null,null,157,{"$f":"IFERROR(INDEX(商品マスタ!$C$5:$C$204,MATCH(E167,商品マスタ!$B$5:$B$204,0)),\"\")","v":0},157,{"$f":"IF(ISERROR(FIND($E$7,商品マスタ!C161)),F166,F166+1)","v":157}]
[null,null,158,{"$f":"IFERROR(INDEX(商品マスタ!$C$5:$C$204,MATCH(E168,商品マスタ!$B$5:$B$204,0)),\"\")","v":0},158,{"$f":"IF(ISERROR(FIND($E$7,商品マスタ!C162)),F167,F167+1)","v":158}]
[null,null,159,{"$f":"IFERROR(INDEX(商品マスタ!$C$5:$C$204,MATCH(E169,商品マスタ!$B$5:$B$204,0)),\"\")","v":0},159,{"$f":"IF(ISERROR(FIND($E$7,商品マスタ!C163)),F168,F168+1)","v":159}]
[null,null,160,{"$f":"IFERROR(INDEX(商品マスタ!$C$5:$C$204,MATCH(E170,商品マスタ!$B$5:$B$204,0)),\"\")","v":0},160,{"$f":"IF(ISERROR(FIND($E$7,商品マスタ!C164)),F169,F169+1)","v":160}]
[null,null,161,{"$f":"IFERROR(INDEX(商品マスタ!$C$5:$C$204,MATCH(E171,商品マスタ!$B$5:$B$204,0)),\"\")","v":0},{"$f":"IFERROR(MATCH($C171,F$11:F$210,0),\"\")","v":161},{"$f":"IF(ISERROR(FIND($E$7,商品マスタ!C165)),F170,F170+1)","v":161}]
[null,null,162,{"$f":"IFERROR(INDEX(商品マスタ!$C$5:$C$204,MATCH(E172,商品マスタ!$B$5:$B$204,0)),\"\")","v":0},162,{"$f":"IF(ISERROR(FIND($E$7,商品マスタ!C166)),F171,F171+1)","v":162}]
[null,null,163,{"$f":"IFERROR(INDEX(商品マスタ!$C$5:$C$204,MATCH(E173,商品マスタ!$B$5:$B$204,0)),\"\")","v":0},163,{"$f":"IF(ISERROR(FIND($E$7,商品マスタ!C167)),F172,F172+1)","v":163}]
[null,null,164,{"$f":"IFERROR(INDEX(商品マスタ!$C$5:$C$204,MATCH(E174,商品マスタ!$B$5:$B$204,0)),\"\")","v":0},164,{"$f":"IF(ISERROR(FIND($E$7,商品マスタ!C168)),F173,F173+1)","v":164}]
[null,null,165,{"$f":"IFERROR(INDEX(商品マスタ!$C$5:$C$204,MATCH(E175,商品マスタ!$B$5:$B$204,0)),\"\")","v":0},165,{"$f":"IF(ISERROR(FIND($E$7,商品マスタ!C169)),F174,F174+1)","v":165}]
[null,null,166,{"$f":"IFERROR(INDEX(商品マスタ!$C$5:$C$204,MATCH(E176,商品マスタ!$B$5:$B$204,0)),\"\")","v":0},166,{"$f":"IF(ISERROR(FIND($E$7,商品マスタ!C170)),F175,F175+1)","v":166}]
[null,null,167,{"$f":"IFERROR(INDEX(商品マスタ!$C$5:$C$204,MATCH(E177,商品マスタ!$B$5:$B$204,0)),\"\")","v":0},167,{"$f":"IF(ISERROR(FIND($E$7,商品マスタ!C171)),F176,F176+1)","v":167}]
[null,null,168,{"$f":"IFERROR(INDEX(商品マスタ!$C$5:$C$204,MATCH(E178,商品マスタ!$B$5:$B$204,0)),\"\")","v":0},168,{"$f":"IF(ISERROR(FIND($E$7,商品マスタ!C172)),F177,F177+1)","v":168}]
[null,null,169,{"$f":"IFERROR(INDEX(商品マスタ!$C$5:$C$204,MATCH(E179,商品マスタ!$B$5:$B$204,0)),\"\")","v":0},169,{"$f":"IF(ISERROR(FIND($E$7,商品マスタ!C173)),F178,F178+1)","v":169}]
[null,null,170,{"$f":"IFERROR(INDEX(商品マスタ!$C$5:$C$204,MATCH(E180,商品マスタ!$B$5:$B$204,0)),\"\")","v":0},170,{"$f":"IF(ISERROR(FIND($E$7,商品マスタ!C174)),F179,F179+1)","v":170}]
[null,null,171,{"$f":"IFERROR(INDEX(商品マスタ!$C$5:$C$204,MATCH(E181,商品マスタ!$B$5:$B$204,0)),\"\")","v":0},171,{"$f":"IF(ISERROR(FIND($E$7,商品マスタ!C175)),F180,F180+1)","v":171}]
[null,null,172,{"$f":"IFERROR(INDEX(商品マスタ!$C$5:$C$204,MATCH(E182,商品マスタ!$B$5:$B$204,0)),\"\")","v":0},172,{"$f":"IF(ISERROR(FIND($E$7,商品マスタ!C176)),F181,F181+1)","v":172}]
[null,null,173,{"$f":"IFERROR(INDEX(商品マスタ!$C$5:$C$204,MATCH(E183,商品マスタ!$B$5:$B$204,0)),\"\")","v":0},173,{"$f":"IF(ISERROR(FIND($E$7,商品マスタ!C177)),F182,F182+1)","v":173}]
[null,null,174,{"$f":"IFERROR(INDEX(商品マスタ!$C$5:$C$204,MATCH(E184,商品マスタ!$B$5:$B$204,0)),\"\")","v":0},174,{"$f":"IF(ISERROR(FIND($E$7,商品マスタ!C178)),F183,F183+1)","v":174}]
[null,null,175,{"$f":"IFERROR(INDEX(商品マスタ!$C$5:$C$204,MATCH(E185,商品マスタ!$B$5:$B$204,0)),\"\")","v":0},175,{"$f":"IF(ISERROR(FIND($E$7,商品マスタ!C179)),F184,F184+1)","v":175}]
[null,null,176,{"$f":"IFERROR(INDEX(商品マスタ!$C$5:$C$204,MATCH(E186,商品マスタ!$B$5:$B$204,0)),\"\")","v":0},176,{"$f":"IF(ISERROR(FIND($E$7,商品マスタ!C180)),F185,F185+1)","v":176}]
[null,null,177,{"$f":"IFERROR(INDEX(商品マスタ!$C$5:$C$204,MATCH(E187,商品マスタ!$B$5:$B$204,0)),\"\")","v":0},177,{"$f":"IF(ISERROR(FIND($E$7,商品マスタ!C181)),F186,F186+1)","v":177}]
[null,null,178,{"$f":"IFERROR(INDEX(商品マスタ!$C$5:$C$204,MATCH(E188,商品マスタ!$B$5:$B$204,0)),\"\")","v":0},178,{"$f":"IF(ISERROR(FIND($E$7,商品マスタ!C182)),F187,F187+1)","v":178}]
[null,null,179,{"$f":"IFERROR(INDEX(商品マスタ!$C$5:$C$204,MATCH(E189,商品マスタ!$B$5:$B$204,0)),\"\")","v":0},179,{"$f":"IF(ISERROR(FIND($E$7,商品マスタ!C183)),F188,F188+1)","v":179}]
[null,null,180,{"$f":"IFERROR(INDEX(商品マスタ!$C$5:$C$204,MATCH(E190,商品マスタ!$B$5:$B$204,0)),\"\")","v":0},180,{"$f":"IF(ISERROR(FIND($E$7,商品マスタ!C184)),F189,F189+1)","v":180}]
[null,null,181,{"$f":"IFERROR(INDEX(商品マスタ!$C$5:$C$204,MATCH(E191,商品マスタ!$B$5:$B$204,0)),\"\")","v":0},181,{"$f":"IF(ISERROR(FIND($E$7,商品マスタ!C185)),F190,F190+1)","v":181}]
[null,null,182,{"$f":"IFERROR(INDEX(商品マスタ!$C$5:$C$204,MATCH(E192,商品マスタ!$B$5:$B$204,0)),\"\")","v":0},182,{"$f":"IF(ISERROR(FIND($E$7,商品マスタ!C186)),F191,F191+1)","v":182}]
[null,null,183,{"$f":"IFERROR(INDEX(商品マスタ!$C$5:$C$204,MATCH(E193,商品マスタ!$B$5:$B$204,0)),\"\")","v":0},183,{"$f":"IF(ISERROR(FIND($E$7,商品マスタ!C187)),F192,F192+1)","v":183}]
[null,null,184,{"$f":"IFERROR(INDEX(商品マスタ!$C$5:$C$204,MATCH(E194,商品マスタ!$B$5:$B$204,0)),\"\")","v":0},184,{"$f":"IF(ISERROR(FIND($E$7,商品マスタ!C188)),F193,F193+1)","v":184}]
[null,null,185,{"$f":"IFERROR(INDEX(商品マスタ!$C$5:$C$204,MATCH(E195,商品マスタ!$B$5:$B$204,0)),\"\")","v":0},185,{"$f":"IF(ISERROR(FIND($E$7,商品マスタ!C189)),F194,F194+1)","v":185}]
[null,null,186,{"$f":"IFERROR(INDEX(商品マスタ!$C$5:$C$204,MATCH(E196,商品マスタ!$B$5:$B$204,0)),\"\")","v":0},186,{"$f":"IF(ISERROR(FIND($E$7,商品マスタ!C190)),F195,F195+1)","v":186}]
[null,null,187,{"$f":"IFERROR(INDEX(商品マスタ!$C$5:$C$204,MATCH(E197,商品マスタ!$B$5:$B$204,0)),\"\")","v":0},187,{"$f":"IF(ISERROR(FIND($E$7,商品マスタ!C191)),F196,F196+1)","v":187}]
[null,null,188,{"$f":"IFERROR(INDEX(商品マスタ!$C$5:$C$204,MATCH(E198,商品マスタ!$B$5:$B$204,0)),\"\")","v":0},188,{"$f":"IF(ISERROR(FIND($E$7,商品マスタ!C192)),F197,F197+1)","v":188}]
[null,null,189,{"$f":"IFERROR(INDEX(商品マスタ!$C$5:$C$204,MATCH(E199,商品マスタ!$B$5:$B$204,0)),\"\")","v":0},189,{"$f":"IF(ISERROR(FIND($E$7,商品マスタ!C193)),F198,F198+1)","v":189}]
[null,null,190,{"$f":"IFERROR(INDEX(商品マスタ!$C$5:$C$204,MATCH(E200,商品マスタ!$B$5:$B$204,0)),\"\")","v":0},190,{"$f":"IF(ISERROR(FIND($E$7,商品マスタ!C194)),F199,F199+1)","v":190}]
[null,null,191,{"$f":"IFERROR(INDEX(商品マスタ!$C$5:$C$204,MATCH(E201,商品マスタ!$B$5:$B$204,0)),\"\")","v":0},191,{"$f":"IF(ISERROR(FIND($E$7,商品マスタ!C195)),F200,F200+1)","v":191}]
[null,null,192,{"$f":"IFERROR(INDEX(商品マスタ!$C$5:$C$204,MATCH(E202,商品マスタ!$B$5:$B$204,0)),\"\")","v":0},192,{"$f":"IF(ISERROR(FIND($E$7,商品マスタ!C196)),F201,F201+1)","v":192}]
[null,null,193,{"$f":"IFERROR(INDEX(商品マスタ!$C$5:$C$204,MATCH(E203,商品マスタ!$B$5:$B$204,0)),\"\")","v":0},{"$f":"IFERROR(MATCH($C203,F$11:F$210,0),\"\")","v":193},{"$f":"IF(ISERROR(FIND($E$7,商品マスタ!C197)),F202,F202+1)","v":193}]
[null,null,194,{"$f":"IFERROR(INDEX(商品マスタ!$C$5:$C$204,MATCH(E204,商品マスタ!$B$5:$B$204,0)),\"\")","v":0},194,{"$f":"IF(ISERROR(FIND($E$7,商品マスタ!C198)),F203,F203+1)","v":194}]
[null,null,195,{"$f":"IFERROR(INDEX(商品マスタ!$C$5:$C$204,MATCH(E205,商品マスタ!$B$5:$B$204,0)),\"\")","v":0},195,{"$f":"IF(ISERROR(FIND($E$7,商品マスタ!C199)),F204,F204+1)","v":195}]
[null,null,196,{"$f":"IFERROR(INDEX(商品マスタ!$C$5:$C$204,MATCH(E206,商品マスタ!$B$5:$B$204,0)),\"\")","v":0},196,{"$f":"IF(ISERROR(FIND($E$7,商品マスタ!C200)),F205,F205+1)","v":196}]
[null,null,197,{"$f":"IFERROR(INDEX(商品マスタ!$C$5:$C$204,MATCH(E207,商品マスタ!$B$5:$B$204,0)),\"\")","v":0},197,{"$f":"IF(ISERROR(FIND($E$7,商品マスタ!C201)),F206,F206+1)","v":197}]
[null,null,198,{"$f":"IFERROR(INDEX(商品マスタ!$C$5:$C$204,MATCH(E208,商品マスタ!$B$5:$B$204,0)),\"\")","v":0},198,{"$f":"IF(ISERROR(FIND($E$7,商品マスタ!C202)),F207,F207+1)","v":198}]
[null,null,199,{"$f":"IFERROR(INDEX(商品マスタ!$C$5:$C$204,MATCH(E209,商品マスタ!$B$5:$B$204,0)),\"\")","v":0},199,{"$f":"IF(ISERROR(FIND($E$7,商品マスタ!C203)),F208,F208+1)","v":199}]
[null,null,200,{"$f":"IFERROR(INDEX(商品マスタ!$C$5:$C$204,MATCH(E210,商品マスタ!$B$5:$B$204,0)),\"\")","v":0},200,{"$f":"IF(ISERROR(FIND($E$7,商品マスタ!C204)),F209,F209+1)","v":200}]

{"sheet":"納品書印刷","index":3,"n_rows":44,"n_cols":15,"rows_kept":44,"merged":[[1,5,1,6],[4,9,5,11],[5,1,5,2],[9,2,9,3],[40,1,40,5],[41,1,41,5],[42,1,42,5]]}
[]
[{"$nulls":5},{"$f":"IFERROR(INDEX(在庫変更全履歴!$N$2:$N$1048576,$O$11),\"\")","v":""}]
[{"$nulls":3},"納 品 書 兼 請 求 書"]
[]
[{"$nulls":9},"下の番号で指定した納品書を表示します。\nエクセルの印刷メニューで印刷して下さい。"]
[null,{"$f":"IFERROR(INDEX(在庫変更全履歴!$C$2:$C$1048576,$O$11),\"\")","v":""},null,"様"]
[{"$nulls":9},"納品書番号指定"]
[null,"　№",{"$f":"TEXT(VALUE(J8),\"000000\")","v":"000000"}]
[]
[null,"番号","商品名称",null,"数量","単価","金額",{"$nulls":5},"番号",null,"マスター内先頭行"]
[null,{"$f":"IFERROR(IF(INDEX(在庫変更全履歴!$D$2:$D$1048576,$O$11+M11-1)=$J$8,M11,\"\"),\"\")","v":""},{"$f":"IF(B11<>\"\",INDEX(在庫変更全履歴!$I$2:$I$1048576,$O$11+B11-1),\"\")","v":""},null,{"$f":"IF($B11<>\"\",-INDEX(在庫変更全履歴!J$2:J$1048576,$O$11+$B11-1),\"\")","v":""},{"$f":"IF($B11<>\"\",-INDEX(在庫変更全履歴!K$2:K$1048576,$O$11+$B11-1),\"\")","v":""},{"$f":"IF($B11<>\"\",-INDEX(在庫変更全履歴!L$2:L$1048576,$O$11+$B11-1),\"\")","v":""},{"$nulls":5},1,null,{"$f":"MATCH(J8,在庫変更全履歴!$D$2:$D$1048576,0)","v":{"$error":"#N/A"}}]
[null,{"$f":"IFERROR(IF(INDEX(在庫変更全履歴!$D$2:$D$1048576,$O$11+M12-1)=$J$8,M12,\"\"),\"\")","v":""},{"$f":"IF(B12<>\"\",INDEX(在庫変更全履歴!$I$2:$I$1048576,$O$11+B12-1),\"\")","v":""},null,{"$f":"IF($B12<>\"\",-INDEX(在庫変更全履歴!J$2:J$1048576,$O$11+$B12-1),\"\")","v":""},{"$f":"IF($B12<>\"\",-INDEX(在庫変更全履歴!K$2:K$1048576,$O$11+$B12-1),\"\")","v":""},{"$f":"IF($B12<>\"\",-INDEX(在庫変更全履歴!L$2:L$1048576,$O$11+$B12-1),\"\")","v":""},{"$nulls":5},2]
[null,{"$f":"IFERROR(IF(INDEX(在庫変更全履歴!$D$2:$D$1048576,$O$11+M13-1)=$J$8,M13,\"\"),\"\")","v":""},{"$f":"IF(B13<>\"\",INDEX(在庫変更全履歴!$I$2:$I$1048576,$O$11+B13-1),\"\")","v":""},null,{"$f":"IF($B13<>\"\",-INDEX(在庫変更全履歴!J$2:J$1048576,$O$11+$B13-1),\"\")","v":""},{"$f":"IF($B13<>\"\",-INDEX(在庫変更全履歴!K$2:K$1048576,$O$11+$B13-1),\"\")","v":""},{"$f":"IF($B13<>\"\",-INDEX(在庫変更全履歴!L$2:L$1048576,$O$11+$B13-1),\"\")","v":""},{"$nulls":5},3]
[null,{"$f":"IFERROR(IF(INDEX(在庫変更全履歴!$D$2:$D$1048576,$O$11+M14-1)=$J$8,M14,\"\"),\"\")","v":""},{"$f":"IF(B14<>\"\",INDEX(在庫変更全履歴!$I$2:$I$1048576,$O$11+B14-1),\"\")","v":""},null,{"$f":"IF($B14<>\"\",-INDEX(在庫変更全履歴!J$2:J$1048576,$O$11+$B14-1),\"\")","v":""},{"$f":"IF($B14<>\"\",-INDEX(在庫変更全履歴!K$2:K$1048576,$O$11+$B14-1),\"\")","v":""},{"$f":"IF($B14<>\"\",-INDEX(在庫変更全履歴!L$2:L$1048576,$O$11+$B14-1),\"\")","v":""},{"$nulls":5},4]
[null,{"$f":"IFERROR(IF(INDEX(在庫変更全履歴!$D$2:$D$1048576,$O$11+M15-1)=$J$8,M15,\"\"),\"\")","v":""},{"$f":"IF(B15<>\"\",INDEX(在庫変更全履歴!$I$2:$I$1048576,$O$11+B15-1),\"\")","v":""},null,{"$f":"IF($B15<>\"\",-INDEX(在庫変更全履歴!J$2:J$1048576,$O$11+$B15-1),\"\")","v":""},{"$f":"IF($B15<>\"\",-INDEX(在庫変更全履歴!K$2:K$1048576,$O$11+$B15-1),\"\")","v":""},{"$f":"IF($B15<>\"\",-INDEX(在庫変更全履歴!L$2:L$1048576,$O$11+$B15-1),\"\")","v":""},{"$nulls":5},5]
[null,{"$f":"IFERROR(IF(INDEX(在庫変更全履歴!$D$2:$D$1048576,$O$11+M16-1)=$J$8,M16,\"\"),\"\")","v":""},{"$f":"IF(B16<>\"\",INDEX(在庫変更全履歴!$I$2:$I$1048576,$O$11+B16-1),\"\")","v":""},null,{"$f":"IF($B16<>\"\",-INDEX(在庫変更全履歴!J$2:J$1048576,$O$11+$B16-1),\"\")","v":""},{"$f":"IF($B16<>\"\",-INDEX(在庫変更全履歴!K$2:K$1048576,$O$11+$B16-1),\"\")","v":""},{"$f":"IF($B16<>\"\",-INDEX(在庫変更全履歴!L$2:L$1048576,$O$11+$B16-1),\"\")","v":""},{"$nulls":5},6]
[null,{"$f":"IFERROR(IF(INDEX(在庫変更全履歴!$D$2:$D$1048576,$O$11+M17-1)=$J$8,M17,\"\"),\"\")","v":""},{"$f":"IF(B17<>\"\",INDEX(在庫変更全履歴!$I$2:$I$1048576,$O$11+B17-1),\"\")","v":""},null,{"$f":"IF($B17<>\"\",-INDEX(在庫変更全履歴!J$2:J$1048576,$O$11+$B17-1),\"\")","v":""},{"$f":"IF($B17<>\"\",-INDEX(在庫変更全履歴!K$2:K$1048576,$O$11+$B17-1),\"\")","v":""},{"$f":"IF($B17<>\"\",-INDEX(在庫変更全履歴!L$2:L$1048576,$O$11+$B17-1),\"\")","v":""},{"$nulls":5},7]
[null,{"$f":"IFERROR(IF(INDEX(在庫変更全履歴!$D$2:$D$1048576,$O$11+M18-1)=$J$8,M18,\"\"),\"\")","v":""},{"$f":"IF(B18<>\"\",INDEX(在庫変更全履歴!$I$2:$I$1048576,$O$11+B18-1),\"\")","v":""},null,{"$f":"IF($B18<>\"\",-INDEX(在庫変更全履歴!J$2:J$1048576,$O$11+$B18-1),\"\")","v":""},{"$f":"IF($B18<>\"\",-INDEX(在庫変更全履歴!K$2:K$1048576,$O$11+$B18-1),\"\")","v":""},{"$f":"IF($B18<>\"\",-INDEX(在庫変更全履歴!L$2:L$1048576,$O$11+$B18-1),\"\")","v":""},{"$nulls":5},8]
[null,{"$f":"IFERROR(IF(INDEX(在庫変更全履歴!$D$2:$D$1048576,$O$11+M19-1)=$J$8,M19,\"\"),\"\")","v":""},{"$f":"IF(B19<>\"\",INDEX(在庫変更全履歴!$I$2:$I$1048576,$O$11+B19-1),\"\")","v":""},null,{"$f":"IF($B19<>\"\",-INDEX(在庫変更全履歴!J$2:J$1048576,$O$11+$B19-1),\"\")","v":""},{"$f":"IF($B19<>\"\",-INDEX(在庫変更全履歴!K$2:K$1048576,$O$11+$B19-1),\"\")","v":""},{"$f":"IF($B19<>\"\",-INDEX(在庫変更全履歴!L$2:L$1048576,$O$11+$B19-1),\"\")","v":""},{"$nulls":5},9]
[null,{"$f":"IFERROR(IF(INDEX(在庫変更全履歴!$D$2:$D$1048576,$O$11+M20-1)=$J$8,M20,\"\"),\"\")","v":""},{"$f":"IF(B20<>\"\",INDEX(在庫変更全履歴!$I$2:$I$1048576,$O$11+B20-1),\"\")","v":""},null,{"$f":"IF($B20<>\"\",-INDEX(在庫変更全履歴!J$2:J$1048576,$O$11+$B20-1),\"\")","v":""},{"$f":"IF($B20<>\"\",-INDEX(在庫変更全履歴!K$2:K$1048576,$O$11+$B20-1),\"\")","v":""},{"$f":"IF($B20<>\"\",-INDEX(在庫変更全履歴!L$2:L$1048576,$O$11+$B20-1),\"\")","v":""},{"$nulls":5},10]
[null,{"$f":"IFERROR(IF(INDEX(在庫変更全履歴!$D$2:$D$1048576,$O$11+M21-1)=$J$8,M21,\"\"),\"\")","v":""},{"$f":"IF(B21<>\"\",INDEX(在庫変更全履歴!$I$2:$I$1048576,$O$11+B21-1),\"\")","v":""},null,{"$f":"IF($B21<>\"\",-INDEX(在庫変更全履歴!J$2:J$1048576,$O$11+$B21-1),\"\")","v":""},{"$f":"IF($B21<>\"\",-INDEX(在庫変更全履歴!K$2:K$1048576,$O$11+$B21-1),\"\")","v":""},{"$f":"IF($B21<>\"\",-INDEX(在庫変更全履歴!L$2:L$1048576,$O$11+$B21-1),\"\")","v":""},{"$nulls":5},11]
[null,{"$f":"IFERROR(IF(INDEX(在庫変更全履歴!$D$2:$D$1048576,$O$11+M22-1)=$J$8,M22,\"\"),\"\")","v":""},{"$f":"IF(B22<>\"\",INDEX(在庫変更全履歴!$I$2:$I$1048576,$O$11+B22-1),\"\")","v":""},null,{"$f":"IF($B22<>\"\",-INDEX(在庫変更全履歴!J$2:J$1048576,$O$11+$B22-1),\"\")","v":""},{"$f":"IF($B22<>\"\",-INDEX(在庫変更全履歴!K$2:K$1048576,$O$11+$B22-1),\"\")","v":""},{"$f":"IF($B22<>\"\",-INDEX(在庫変更全履歴!L$2:L$1048576,$O$11+$B22-1),\"\")","v":""},{"$nulls":5},12]
[null,{"$f":"IFERROR(IF(INDEX(在庫変更全履歴!$D$2:$D$1048576,$O$11+M23-1)=$J$8,M23,\"\"),\"\")","v":""},{"$f":"IF(B23<>\"\",INDEX(在庫変更全履歴!$I$2:$I$1048576,$O$11+B23-1),\"\")","v":""},null,{"$f":"IF($B23<>\"\",-INDEX(在庫変更全履歴!J$2:J$1048576,$O$11+$B23-1),\"\")","v":""},{"$f":"IF($B23<>\"\",-INDEX(在庫変更全履歴!K$2:K$1048576,$O$11+$B23-1),\"\")","v":""},{"$f":"IF($B23<>\"\",-INDEX(在庫変更全履歴!L$2:L$1048576,$O$11+$B23-1),\"\")","v":""},{"$nulls":5},13]
[null,{"$f":"IFERROR(IF(INDEX(在庫変更全履歴!$D$2:$D$1048576,$O$11+M24-1)=$J$8,M24,\"\"),\"\")","v":""},{"$f":"IF(B24<>\"\",INDEX(在庫変更全履歴!$I$2:$I$1048576,$O$11+B24-1),\"\")","v":""},null,{"$f":"IF($B24<>\"\",-INDEX(在庫変更全履歴!J$2:J$1048576,$O$11+$B24-1),\"\")","v":""},{"$f":"IF($B24<>\"\",-INDEX(在庫変更全履歴!K$2:K$1048576,$O$11+$B24-1),\"\")","v":""},{"$f":"IF($B24<>\"\",-INDEX(在庫変更全履歴!L$2:L$1048576,$O$11+$B24-1),\"\")","v":""},{"$nulls":5},14]
[null,{"$f":"IFERROR(IF(INDEX(在庫変更全履歴!$D$2:$D$1048576,$O$11+M25-1)=$J$8,M25,\"\"),\"\")","v":""},{"$f":"IF(B25<>\"\",INDEX(在庫変更全履歴!$I$2:$I$1048576,$O$11+B25-1),\"\")","v":""},null,{"$f":"IF($B25<>\"\",-INDEX(在庫変更全履歴!J$2:J$1048576,$O$11+$B25-1),\"\")","v":""},{"$f":"IF($B25<>\"\",-INDEX(在庫変更全履歴!K$2:K$1048576,$O$11+$B25-1),\"\")","v":""},{"$f":"IF($B25<>\"\",-INDEX(在庫変更全履歴!L$2:L$1048576,$O$11+$B25-1),\"\")","v":""},{"$nulls":5},15]
[null,{"$f":"IFERROR(IF(INDEX(在庫変更全履歴!$D$2:$D$1048576,$O$11+M26-1)=$J$8,M26,\"\"),\"\")","v":""},{"$f":"IF(B26<>\"\",INDEX(在庫変更全履歴!$I$2:$I$1048576,$O$11+B26-1),\"\")","v":""},null,{"$f":"IF($B26<>\"\",-INDEX(在庫変更全履歴!J$2:J$1048576,$O$11+$B26-1),\"\")","v":""},{"$f":"IF($B26<>\"\",-INDEX(在庫変更全履歴!K$2:K$1048576,$O$11+$B26-1),\"\")","v":""},{"$f":"IF($B26<>\"\",-INDEX(在庫変更全履歴!L$2:L$1048576,$O$11+$B26-1),\"\")","v":""},{"$nulls":5},16]
[null,{"$f":"IFERROR(IF(INDEX(在庫変更全履歴!$D$2:$D$1048576,$O$11+M27-1)=$J$8,M27,\"\"),\"\")","v":""},{"$f":"IF(B27<>\"\",INDEX(在庫変更全履歴!$I$2:$I$1048576,$O$11+B27-1),\"\")","v":""},null,{"$f":"IF($B27<>\"\",-INDEX(在庫変更全履歴!J$2:J$1048576,$O$11+$B27-1),\"\")","v":""},{"$f":"IF($B27<>\"\",-INDEX(在庫変更全履歴!K$2:K$1048576,$O$11+$B27-1),\"\")","v":""},{"$f":"IF($B27<>\"\",-INDEX(在庫変更全履歴!L$2:L$1048576,$O$11+$B27-1),\"\")","v":""},{"$nulls":5},17]
[null,{"$f":"IFERROR(IF(INDEX(在庫変更全履歴!$D$2:$D$1048576,$O$11+M28-1)=$J$8,M28,\"\"),\"\")","v":""},{"$f":"IF(B28<>\"\",INDEX(在庫変更全履歴!$I$2:$I$1048576,$O$11+B28-1),\"\")","v":""},null,{"$f":"IF($B28<>\"\",-INDEX(在庫変更全履歴!J$2:J$1048576,$O$11+$B28-1),\"\")","v":""},{"$f":"IF($B28<>\"\",-INDEX(在庫変更全履歴!K$2:K$1048576,$O$11+$B28-1),\"\")","v":""},{"$f":"IF($B28<>\"\",-INDEX(在庫変更全履歴!L$2:L$1048576,$O$11+$B28-1),\"\")","v":""},{"$nulls":5},18]
[null,{"$f":"IFERROR(IF(INDEX(在庫変更全履歴!$D$2:$D$1048576,$O$11+M29-1)=$J$8,M29,\"\"),\"\")","v":""},{"$f":"IF(B29<>\"\",INDEX(在庫変更全履歴!$I$2:$I$1048576,$O$11+B29-1),\"\")","v":""},null,{"$f":"IF($B29<>\"\",-INDEX(在庫変更全履歴!J$2:J$1048576,$O$11+$B29-1),\"\")","v":""},{"$f":"IF($B29<>\"\",-INDEX(在庫変更全履歴!K$2:K$1048576,$O$11+$B29-1),\"\")","v":""},{"$f":"IF($B29<>\"\",-INDEX(在庫変更全履歴!L$2:L$1048576,$O$11+$B29-1),\"\")","v":""},{"$nulls":5},19]
[null,{"$f":"IFERROR(IF(INDEX(在庫変更全履歴!$D$2:$D$1048576,$O$11+M30-1)=$J$8,M30,\"\"),\"\")","v":""},{"$f":"IF(B30<>\"\",INDEX(在庫変更全履歴!$I$2:$I$1048576,$O$11+B30-1),\"\")","v":""},null,{"$f":"IF($B30<>\"\",-INDEX(在庫変更全履歴!J$2:J$1048576,$O$11+$B30-1),\"\")","v":""},{"$f":"IF($B30<>\"\",-INDEX(在庫変更全履歴!K$2:K$1048576,$O$11+$B30-1),\"\")","v":""},{"$f":"IF($B30<>\"\",-INDEX(在庫変更全履歴!L$2:L$1048576,$O$11+$B30-1),\"\")","v":""},{"$nulls":5},20]
[null,{"$f":"IFERROR(IF(INDEX(在庫変更全履歴!$D$2:$D$1048576,$O$11+M31-1)=$J$8,M31,\"\"),\"\")","v":""},{"$f":"IF(B31<>\"\",INDEX(在庫変更全履歴!$I$2:$I$1048576,$O$11+B31-1),\"\")","v":""},null,{"$f":"IF($B31<>\"\",-INDEX(在庫変更全履歴!J$2:J$1048576,$O$11+$B31-1),\"\")","v":""},{"$f":"IF($B31<>\"\",-INDEX(在庫変更全履歴!K$2:K$1048576,$O$11+$B31-1),\"\")","v":""},{"$f":"IF($B31<>\"\",-INDEX(在庫変更全履歴!L$2:L$1048576,$O$11+$B31-1),\"\")","v":""},{"$nulls":5},21]
[null,{"$f":"IFERROR(IF(INDEX(在庫変更全履歴!$D$2:$D$1048576,$O$11+M32-1)=$J$8,M32,\"\"),\"\")","v":""},{"$f":"IF(B32<>\"\",INDEX(在庫変更全履歴!$I$2:$I$1048576,$O$11+B32-1),\"\")","v":""},null,{"$f":"IF($B32<>\"\",-INDEX(在庫変更全履歴!J$2:J$1048576,$O$11+$B32-1),\"\")","v":""},{"$f":"IF($B32<>\"\",-INDEX(在庫変更全履歴!K$2:K$1048576,$O$11+$B32-1),\"\")","v":""},{"$f":"IF($B32<>\"\",-INDEX(在庫変更全履歴!L$2:L$1048576,$O$11+$B32-1),\"\")","v":""},{"$nulls":5},22]
[null,{"$f":"IFERROR(IF(INDEX(在庫変更全履歴!$D$2:$D$1048576,$O$11+M33-1)=$J$8,M33,\"\"),\"\")","v":""},{"$f":"IF(B33<>\"\",INDEX(在庫変更全履歴!$I$2:$I$1048576,$O$11+B33-1),\"\")","v":""},null,{"$f":"IF($B33<>\"\",-INDEX(在庫変更全履歴!J$2:J$1048576,$O$11+$B33-1),\"\")","v":""},{"$f":"IF($B33<>\"\",-INDEX(在庫変更全履歴!K$2:K$1048576,$O$11+$B33-1),\"\")","v":""},{"$f":"IF($B33<>\"\",-INDEX(在庫変更全履歴!L$2:L$1048576,$O$11+$B33-1),\"\")","v":""},{"$nulls":5},23]
[null,{"$f":"IFERROR(IF(INDEX(在庫変更全履歴!$D$2:$D$1048576,$O$11+M34-1)=$J$8,M34,\"\"),\"\")","v":""},{"$f":"IF(B34<>\"\",INDEX(在庫変更全履歴!$I$2:$I$1048576,$O$11+B34-1),\"\")","v":""},null,{"$f":"IF($B34<>\"\",-INDEX(在庫変更全履歴!J$2:J$1048576,$O$11+$B34-1),\"\")","v":""},{"$f":"IF($B34<>\"\",-INDEX(在庫変更全履歴!K$2:K$1048576,$O$11+$B34-1),\"\")","v":""},{"$f":"IF($B34<>\"\",-INDEX(在庫変更全履歴!L$2:L$1048576,$O$11+$B34-1),\"\")","v":""},{"$nulls":5},24]
[null,{"$f":"IFERROR(IF(INDEX(在庫変更全履歴!$D$2:$D$1048576,$O$11+M35-1)=$J$8,M35,\"\"),\"\")","v":""},{"$f":"IF(B35<>\"\",INDEX(在庫変更全履歴!$I$2:$I$1048576,$O$11+B35-1),\"\")","v":""},null,{"$f":"IF($B35<>\"\",-INDEX(在庫変更全履歴!J$2:J$1048576,$O$11+$B35-1),\"\")","v":""},{"$f":"IF($B35<>\"\",-INDEX(在庫変更全履歴!K$2:K$1048576,$O$11+$B35-1),\"\")","v":""},{"$f":"IF($B35<>\"\",-INDEX(在庫変更全履歴!L$2:L$1048576,$O$11+$B35-1),\"\")","v":""},{"$nulls":5},25]
[null,{"$f":"IFERROR(IF(INDEX(在庫変更全履歴!$D$2:$D$1048576,$O$11+M36-1)=$J$8,M36,\"\"),\"\")","v":""},{"$f":"IF(B36<>\"\",INDEX(在庫変更全履歴!$I$2:$I$1048576,$O$11+B36-1),\"\")","v":""},null,{"$f":"IF($B36<>\"\",-INDEX(在庫変更全履歴!J$2:J$1048576,$O$11+$B36-1),\"\")","v":""},{"$f":"IF($B36<>\"\",-INDEX(在庫変更全履歴!K$2:K$1048576,$O$11+$B36-1),\"\")","v":""},{"$f":"IF($B36<>\"\",-INDEX(在庫変更全履歴!L$2:L$1048576,$O$11+$B36-1),\"\")","v":""},{"$nulls":5},26]
[null,{"$f":"IFERROR(IF(INDEX(在庫変更全履歴!$D$2:$D$1048576,$O$11+M37-1)=$J$8,M37,\"\"),\"\")","v":""},{"$f":"IF(B37<>\"\",INDEX(在庫変更全履歴!$I$2:$I$1048576,$O$11+B37-1),\"\")","v":""},null,{"$f":"IF($B37<>\"\",-INDEX(在庫変更全履歴!J$2:J$1048576,$O$11+$B37-1),\"\")","v":""},{"$f":"IF($B37<>\"\",-INDEX(在庫変更全履歴!K$2:K$1048576,$O$11+$B37-1),\"\")","v":""},{"$f":"IF($B37<>\"\",-INDEX(在庫変更全履歴!L$2:L$1048576,$O$11+$B37-1),\"\")","v":""},{"$nulls":5},27]
[null,{"$f":"IFERROR(IF(INDEX(在庫変更全履歴!$D$2:$D$1048576,$O$11+M38-1)=$J$8,M38,\"\"),\"\")","v":""},{"$f":"IF(B38<>\"\",INDEX(在庫変更全履歴!$I$2:$I$1048576,$O$11+B38-1),\"\")","v":""},null,{"$f":"IF($B38<>\"\",-INDEX(在庫変更全履歴!J$2:J$1048576,$O$11+$B38-1),\"\")","v":""},{"$f":"IF($B38<>\"\",-INDEX(在庫変更全履歴!K$2:K$1048576,$O$11+$B38-1),\"\")","v":""},{"$f":"IF($B38<>\"\",-INDEX(在庫変更全履歴!L$2:L$1048576,$O$11+$B38-1),\"\")","v":""},{"$nulls":5},28]
[null,{"$f":"IFERROR(IF(INDEX(在庫変更全履歴!$D$2:$D$1048576,$O$11+M39-1)=$J$8,M39,\"\"),\"\")","v":""},{"$f":"IF(B39<>\"\",INDEX(在庫変更全履歴!$I$2:$I$1048576,$O$11+B39-1),\"\")","v":""},null,{"$f":"IF($B39<>\"\",-INDEX(在庫変更全履歴!J$2:J$1048576,$O$11+$B39-1),\"\")","v":""},{"$f":"IF($B39<>\"\",-INDEX(在庫変更全履歴!K$2:K$1048576,$O$11+$B39-1),\"\")","v":""},{"$f":"IF($B39<>\"\",-INDEX(在庫変更全履歴!L$2:L$1048576,$O$11+$B39-1),\"\")","v":""},{"$nulls":5},29]
[null,{"$f":"IFERROR(IF(INDEX(在庫変更全履歴!$D$2:$D$1048576,$O$11+M40-1)=$J$8,M40,\"\"),\"\")","v":""},{"$f":"IF(B40<>\"\",INDEX(在庫変更全履歴!$I$2:$I$1048576,$O$11+B40-1),\"\")","v":""},null,{"$f":"IF($B40<>\"\",-INDEX(在庫変更全履歴!J$2:J$1048576,$O$11+$B40-1),\"\")","v":""},{"$f":"IF($B40<>\"\",-INDEX(在庫変更全履歴!K$2:K$1048576,$O$11+$B40-1),\"\")","v":""},{"$f":"IF($B40<>\"\",-INDEX(在庫変更全履歴!L$2:L$1048576,$O$11+$B40-1),\"\")","v":""},{"$nulls":5},30]
[null,"合計金額",{"$nulls":4},{"$f":"SUM(G11:G40)","v":{"v":0,"d":"¥0"}}]
[null,"消費税",{"$nulls":4},{"$f":"ROUNDDOWN(G41*0.1,0)","v":{"v":0,"d":"¥0"}}]
[null,"ご請求金額",{"$nulls":4},{"$f":"G41+G42","v":{"v":0,"d":"¥0"}}]
[null,"※お客様都合による返品・交換はご容赦願います。"]

{"sheet":"入庫入力","index":4,"n_rows":210,"n_cols":13,"rows_kept":210,"merged":[[2,3,2,4],[2,9,2,10],[3,10,5,12],[4,1,4,3],[5,6,5,7],[6,1,6,3],[8,10,8,11]]}
[]
[]
[{"$nulls":3},"入庫入力"]
[null,"発注先",{"$nulls":8},{"$f":"\"１．① 発注先 ② 入荷伝票番号 ③ 入荷日 ④商品番号　⑤ 数量を記入して下さい。\n\n２．　「記録」ボタンをクリックすると、入庫内容を「\"&目次!Y12&\"」シート（棚卸後の在庫変更履歴）及び「\"&目次!Y13&\"」シート（当初からの全履歴）に記録し、「\"&目次!Y10&\"」シートの在庫数を更新します。\"","v":"１．① 発注先 ② 入荷伝票番号 ③ 入荷日 ④商品番号　⑤ 数量を記入して下さい。\n\n２．　「記録」ボタンをクリックすると、入庫内容を「棚卸後在庫変更履歴」シート（棚卸後の在庫変更履歴）及び「在庫変更全履歴」シート（当初からの全履歴）に記録し、「在庫表示」シートの在庫数を更新します。"}]
[]
[null,"入荷伝票番号",{"$nulls":3},"入荷日","2021-07-27"]
[]
[null,null,"※「商品番号」を記入すると、「商品名称」、「単価」を自動表示します。"]
[null,null,"※「名称の一部」を記入すると、それを含む商品名称をプルダウン表示しますので、該当するものをクリックしてください。",{"$nulls":7},"商品番号－商品名対照表"]
[null,"番号","商品番号","名称の一部","商品名称","数量","単価","金額","（在庫残）",null,"商品番号","商品名","購入価格"]
[null,1,{"$nulls":4},{"$f":"IFERROR(VALUE(INDEX($M$11:$M$210,MATCH($C11,$K$11:$K$210,0))),0)","v":0},{"$f":"IFERROR(F11*G11,0)","v":0},{"$f":"IFERROR(INDEX(在庫表示!$F$11:$F$210,MATCH(C11,在庫表示!$B$11:$B$210,0))+F11,\"\")","v":""},null,{"$f":"IF(商品マスタ!$B5=\"\",\"\",商品マスタ!$B5)","v":1},{"$f":"IF(商品マスタ!$C5=\"\",\"\",商品マスタ!$C5)","v":"LIFESPAN（ライフスパン）―老いなき世界"},{"$f":"IF(商品マスタ!G5=\"\",\"\",商品マスタ!G5)","v":{"v":1170,"d":"1,170 "}}]
[null,2,{"$nulls":4},{"$f":"IFERROR(VALUE(INDEX($M$11:$M$210,MATCH($C12,$K$11:$K$210,0))),0)","v":0},{"$f":"IFERROR(F12*G12,0)","v":0},{"$f":"IFERROR(INDEX(在庫表示!$F$11:$F$210,MATCH(C12,在庫表示!$B$11:$B$210,0))+F12,\"\")","v":""},null,{"$f":"IF(商品マスタ!$B6=\"\",\"\",商品マスタ!$B6)","v":2},{"$f":"IF(商品マスタ!$C6=\"\",\"\",商品マスタ!$C6)","v":"WHAT IS LIFE？（ホワット・イズ・ライフ？）生命とは何か"},{"$f":"IF(商品マスタ!G6=\"\",\"\",商品マスタ!G6)","v":{"v":810,"d":"810 "}}]
[null,3,{"$nulls":4},0,0,{"$f":"IFERROR(INDEX(在庫表示!$F$11:$F$210,MATCH(C13,在庫表示!$B$11:$B$210,0))+F13,\"\")","v":""},null,{"$f":"IF(商品マスタ!$B7=\"\",\"\",商品マスタ!$B7)","v":3},{"$f":"IF(商品マスタ!$C7=\"\",\"\",商品マスタ!$C7)","v":"科学的とはどういう意味か"},{"$f":"IF(商品マスタ!G7=\"\",\"\",商品マスタ!G7)","v":{"v":270,"d":"270 "}}]
[null,4,{"$nulls":4},0,0,{"$f":"IFERROR(INDEX(在庫表示!$F$11:$F$210,MATCH(C14,在庫表示!$B$11:$B$210,0))+F14,\"\")","v":""},null,{"$f":"IF(商品マスタ!$B8=\"\",\"\",商品マスタ!$B8)","v":4},{"$f":"IF(商品マスタ!$C8=\"\",\"\",商品マスタ!$C8)","v":"コトPOP（R）を書いたら あっ、売れちゃった！"},{"$f":"IF(商品マスタ!G8=\"\",\"\",商品マスタ!G8)","v":{"v":720,"d":"720 "}}]
[null,5,{"$nulls":4},0,0,{"$f":"IFERROR(INDEX(在庫表示!$F$11:$F$210,MATCH(C15,在庫表示!$B$11:$B$210,0))+F15,\"\")","v":""},null,{"$f":"IF(商品マスタ!$B9=\"\",\"\",商品マスタ!$B9)","v":5},{"$f":"IF(商品マスタ!$C9=\"\",\"\",商品マスタ!$C9)","v":"鉄腕アトム 地球最大の冒険"},{"$f":"IF(商品マスタ!G9=\"\",\"\",商品マスタ!G9)","v":{"v":680,"d":"680 "}}]
[null,6,{"$nulls":4},0,0,{"$f":"IFERROR(INDEX(在庫表示!$F$11:$F$210,MATCH(C16,在庫表示!$B$11:$B$210,0))+F16,\"\")","v":""},null,{"$f":"IF(商品マスタ!$B10=\"\",\"\",商品マスタ!$B10)","v":6},{"$f":"IF(商品マスタ!$C10=\"\",\"\",商品マスタ!$C10)","v":"鉄腕アトム 地球防衛隊"},{"$f":"IF(商品マスタ!G10=\"\",\"\",商品マスタ!G10)","v":{"v":630,"d":"630 "}}]
[null,7,{"$nulls":4},0,0,{"$f":"IFERROR(INDEX(在庫表示!$F$11:$F$210,MATCH(C17,在庫表示!$B$11:$B$210,0))+F17,\"\")","v":""},null,{"$f":"IF(商品マスタ!$B11=\"\",\"\",商品マスタ!$B11)","v":7},{"$f":"IF(商品マスタ!$C11=\"\",\"\",商品マスタ!$C11)","v":"どうする？デザイン クライアントとのやりとりでよくわかる！デザインの決め方、伝え方"},{"$f":"IF(商品マスタ!G11=\"\",\"\",商品マスタ!G11)","v":{"v":990,"d":"990 "}}]
[null,8,{"$nulls":4},0,0,{"$f":"IFERROR(INDEX(在庫表示!$F$11:$F$210,MATCH(C18,在庫表示!$B$11:$B$210,0))+F18,\"\")","v":""},null,{"$f":"IF(商品マスタ!$B12=\"\",\"\",商品マスタ!$B12)","v":8},{"$f":"IF(商品マスタ!$C12=\"\",\"\",商品マスタ!$C12)","v":"ハッブル宇宙望遠鏡が見た絶景宇宙 SELECT 10 Vol.1"},{"$f":"IF(商品マスタ!G12=\"\",\"\",商品マスタ!G12)","v":{"v":50,"d":"50 "}}]
[null,9,{"$nulls":4},0,0,{"$f":"IFERROR(INDEX(在庫表示!$F$11:$F$210,MATCH(C19,在庫表示!$B$11:$B$210,0))+F19,\"\")","v":""},null,{"$f":"IF(商品マスタ!$B13=\"\",\"\",商品マスタ!$B13)","v":9},{"$f":"IF(商品マスタ!$C13=\"\",\"\",商品マスタ!$C13)","v":"ハムスターがおうちにやってきた！"},{"$f":"IF(商品マスタ!G13=\"\",\"\",商品マスタ!G13)","v":{"v":270,"d":"270 "}}]
[null,10,{"$nulls":4},0,0,{"$f":"IFERROR(INDEX(在庫表示!$F$11:$F$210,MATCH(C20,在庫表示!$B$11:$B$210,0))+F20,\"\")","v":""},null,{"$f":"IF(商品マスタ!$B14=\"\",\"\",商品マスタ!$B14)","v":10},{"$f":"IF(商品マスタ!$C14=\"\",\"\",商品マスタ!$C14)","v":"ビーカーくんのゆかいな化学実験"},{"$f":"IF(商品マスタ!G14=\"\",\"\",商品マスタ!G14)","v":{"v":720,"d":"720 "}}]
[null,11,{"$nulls":4},0,0,{"$f":"IFERROR(INDEX(在庫表示!$F$11:$F$210,MATCH(C21,在庫表示!$B$11:$B$210,0))+F21,\"\")","v":""},null,{"$f":"IF(商品マスタ!$B15=\"\",\"\",商品マスタ!$B15)","v":11},{"$f":"IF(商品マスタ!$C15=\"\",\"\",商品マスタ!$C15)","v":"ヒトを理解するための 生物学"},{"$f":"IF(商品マスタ!G15=\"\",\"\",商品マスタ!G15)","v":{"v":1080,"d":"1,080 "}}]
[null,12,{"$nulls":4},0,0,{"$f":"IFERROR(INDEX(在庫表示!$F$11:$F$210,MATCH(C22,在庫表示!$B$11:$B$210,0))+F22,\"\")","v":""},null,{"$f":"IF(商品マスタ!$B16=\"\",\"\",商品マスタ!$B16)","v":12},{"$f":"IF(商品マスタ!$C16=\"\",\"\",商品マスタ!$C16)","v":"富士山はどうしてそこにあるのか 地形から見る日本列島史"},{"$f":"IF(商品マスタ!G16=\"\",\"\",商品マスタ!G16)","v":{"v":410,"d":"410 "}}]
[null,13,{"$nulls":4},0,0,{"$f":"IFERROR(INDEX(在庫表示!$F$11:$F$210,MATCH(C23,在庫表示!$B$11:$B$210,0))+F23,\"\")","v":""},null,{"$f":"IF(商品マスタ!$B17=\"\",\"\",商品マスタ!$B17)","v":13},{"$f":"IF(商品マスタ!$C17=\"\",\"\",商品マスタ!$C17)","v":"宇宙の「果て」になにがあるのか 最新天文学が描く、時間と空間の終わり"},{"$f":"IF(商品マスタ!G17=\"\",\"\",商品マスタ!G17)","v":{"v":450,"d":"450 "}}]
[null,14,{"$nulls":4},0,0,{"$f":"IFERROR(INDEX(在庫表示!$F$11:$F$210,MATCH(C24,在庫表示!$B$11:$B$210,0))+F24,\"\")","v":""},null,{"$f":"IF(商品マスタ!$B18=\"\",\"\",商品マスタ!$B18)","v":14},{"$f":"IF(商品マスタ!$C18=\"\",\"\",商品マスタ!$C18)","v":"宇宙は本当にひとつなのか―最新宇宙論入門"},{"$f":"IF(商品マスタ!G18=\"\",\"\",商品マスタ!G18)","v":{"v":410,"d":"410 "}}]
[null,15,{"$nulls":4},0,0,{"$f":"IFERROR(INDEX(在庫表示!$F$11:$F$210,MATCH(C25,在庫表示!$B$11:$B$210,0))+F25,\"\")","v":""},null,{"$f":"IF(商品マスタ!$B19=\"\",\"\",商品マスタ!$B19)","v":15},{"$f":"IF(商品マスタ!$C19=\"\",\"\",商品マスタ!$C19)","v":"宇宙創成（上）"},{"$f":"IF(商品マスタ!G19=\"\",\"\",商品マスタ!G19)","v":{"v":320,"d":"320 "}}]
[null,16,{"$nulls":4},0,0,{"$f":"IFERROR(INDEX(在庫表示!$F$11:$F$210,MATCH(C26,在庫表示!$B$11:$B$210,0))+F26,\"\")","v":""},null,{"$f":"IF(商品マスタ!$B20=\"\",\"\",商品マスタ!$B20)","v":16},{"$f":"IF(商品マスタ!$C20=\"\",\"\",商品マスタ!$C20)","v":"宇宙望遠鏡がとらえた 銀河（ブックブライト）"},{"$f":"IF(商品マスタ!G20=\"\",\"\",商品マスタ!G20)","v":{"v":410,"d":"410 "}}]
[null,17,{"$nulls":4},0,0,{"$f":"IFERROR(INDEX(在庫表示!$F$11:$F$210,MATCH(C27,在庫表示!$B$11:$B$210,0))+F27,\"\")","v":""},null,{"$f":"IF(商品マスタ!$B21=\"\",\"\",商品マスタ!$B21)","v":17},{"$f":"IF(商品マスタ!$C21=\"\",\"\",商品マスタ!$C21)","v":"見てわかる、迷わず決まる配色アイデア 3色だけでセンスのいい色"},{"$f":"IF(商品マスタ!G21=\"\",\"\",商品マスタ!G21)","v":{"v":900,"d":"900 "}}]
[null,18,{"$nulls":4},0,0,{"$f":"IFERROR(INDEX(在庫表示!$F$11:$F$210,MATCH(C28,在庫表示!$B$11:$B$210,0))+F28,\"\")","v":""},null,{"$f":"IF(商品マスタ!$B22=\"\",\"\",商品マスタ!$B22)","v":18},{"$f":"IF(商品マスタ!$C22=\"\",\"\",商品マスタ!$C22)","v":"写真加工で作る風景イラスト 神技作画シリーズ"},{"$f":"IF(商品マスタ!G22=\"\",\"\",商品マスタ!G22)","v":{"v":990,"d":"990 "}}]
[null,19,{"$nulls":4},0,0,{"$f":"IFERROR(INDEX(在庫表示!$F$11:$F$210,MATCH(C29,在庫表示!$B$11:$B$210,0))+F29,\"\")","v":""},null,{"$f":"IF(商品マスタ!$B23=\"\",\"\",商品マスタ!$B23)","v":19},{"$f":"IF(商品マスタ!$C23=\"\",\"\",商品マスタ!$C23)","v":"写真加工で作る風景イラスト 神技作画シリーズ"},{"$f":"IF(商品マスタ!G23=\"\",\"\",商品マスタ!G23)","v":{"v":990,"d":"990 "}}]
[null,20,{"$nulls":4},0,0,{"$f":"IFERROR(INDEX(在庫表示!$F$11:$F$210,MATCH(C30,在庫表示!$B$11:$B$210,0))+F30,\"\")","v":""},null,{"$f":"IF(商品マスタ!$B24=\"\",\"\",商品マスタ!$B24)","v":20},{"$f":"IF(商品マスタ!$C24=\"\",\"\",商品マスタ!$C24)","v":"重力とは何か アインシュタインから超弦理論へ、宇宙の謎に迫る"},{"$f":"IF(商品マスタ!G24=\"\",\"\",商品マスタ!G24)","v":{"v":320,"d":"320 "}}]
[null,21,{"$nulls":4},0,0,{"$f":"IFERROR(INDEX(在庫表示!$F$11:$F$210,MATCH(C31,在庫表示!$B$11:$B$210,0))+F31,\"\")","v":""},null,{"$f":"IF(商品マスタ!$B25=\"\",\"\",商品マスタ!$B25)","v":21},{"$f":"IF(商品マスタ!$C25=\"\",\"\",商品マスタ!$C25)","v":"図説 メイドインアビス 探窟記録【電子特典付き】"},{"$f":"IF(商品マスタ!G25=\"\",\"\",商品マスタ!G25)","v":{"v":2480,"d":"2,480 "}}]
[null,22,{"$nulls":4},0,0,{"$f":"IFERROR(INDEX(在庫表示!$F$11:$F$210,MATCH(C32,在庫表示!$B$11:$B$210,0))+F32,\"\")","v":""},null,{"$f":"IF(商品マスタ!$B26=\"\",\"\",商品マスタ!$B26)","v":22},{"$f":"IF(商品マスタ!$C26=\"\",\"\",商品マスタ!$C26)","v":"成功の秘密にアクセスできるギャラクシー・コード"},{"$f":"IF(商品マスタ!G26=\"\",\"\",商品マスタ!G26)","v":{"v":680,"d":"680 "}}]
[null,23,{"$nulls":4},0,0,{"$f":"IFERROR(INDEX(在庫表示!$F$11:$F$210,MATCH(C33,在庫表示!$B$11:$B$210,0))+F33,\"\")","v":""},null,{"$f":"IF(商品マスタ!$B27=\"\",\"\",商品マスタ!$B27)","v":23},{"$f":"IF(商品マスタ!$C27=\"\",\"\",商品マスタ!$C27)","v":"太陽系 絶景画像50"},{"$f":"IF(商品マスタ!G27=\"\",\"\",商品マスタ!G27)","v":{"v":230,"d":"230 "}}]
[null,24,{"$nulls":4},0,0,{"$f":"IFERROR(INDEX(在庫表示!$F$11:$F$210,MATCH(C34,在庫表示!$B$11:$B$210,0))+F34,\"\")","v":""},null,{"$f":"IF(商品マスタ!$B28=\"\",\"\",商品マスタ!$B28)","v":24},{"$f":"IF(商品マスタ!$C28=\"\",\"\",商品マスタ!$C28)","v":"踊りませんか？ 社交ダンスの世界"},{"$f":"IF(商品マスタ!G28=\"\",\"\",商品マスタ!G28)","v":{"v":270,"d":"270 "}}]
[null,25,{"$nulls":4},0,0,{"$f":"IFERROR(INDEX(在庫表示!$F$11:$F$210,MATCH(C35,在庫表示!$B$11:$B$210,0))+F35,\"\")","v":""},null,{"$f":"IF(商品マスタ!$B29=\"\",\"\",商品マスタ!$B29)","v":25},{"$f":"IF(商品マスタ!$C29=\"\",\"\",商品マスタ!$C29)","v":""},{"$f":"IF(商品マスタ!G29=\"\",\"\",商品マスタ!G29)","v":""}]
[null,26,{"$nulls":4},0,0,{"$f":"IFERROR(INDEX(在庫表示!$F$11:$F$210,MATCH(C36,在庫表示!$B$11:$B$210,0))+F36,\"\")","v":""},null,{"$f":"IF(商品マスタ!$B30=\"\",\"\",商品マスタ!$B30)","v":26},{"$f":"IF(商品マスタ!$C30=\"\",\"\",商品マスタ!$C30)","v":""},{"$f":"IF(商品マスタ!G30=\"\",\"\",商品マスタ!G30)","v":""}]
[null,27,{"$nulls":4},0,0,{"$f":"IFERROR(INDEX(在庫表示!$F$11:$F$210,MATCH(C37,在庫表示!$B$11:$B$210,0))+F37,\"\")","v":""},null,{"$f":"IF(商品マスタ!$B31=\"\",\"\",商品マスタ!$B31)","v":27},{"$f":"IF(商品マスタ!$C31=\"\",\"\",商品マスタ!$C31)","v":""},{"$f":"IF(商品マスタ!G31=\"\",\"\",商品マスタ!G31)","v":""}]
[null,28,{"$nulls":4},0,0,{"$f":"IFERROR(INDEX(在庫表示!$F$11:$F$210,MATCH(C38,在庫表示!$B$11:$B$210,0))+F38,\"\")","v":""},null,{"$f":"IF(商品マスタ!$B32=\"\",\"\",商品マスタ!$B32)","v":28},{"$f":"IF(商品マスタ!$C32=\"\",\"\",商品マスタ!$C32)","v":""},{"$f":"IF(商品マスタ!G32=\"\",\"\",商品マスタ!G32)","v":""}]
[null,29,{"$nulls":4},0,0,{"$f":"IFERROR(INDEX(在庫表示!$F$11:$F$210,MATCH(C39,在庫表示!$B$11:$B$210,0))+F39,\"\")","v":""},null,{"$f":"IF(商品マスタ!$B33=\"\",\"\",商品マスタ!$B33)","v":29},{"$f":"IF(商品マスタ!$C33=\"\",\"\",商品マスタ!$C33)","v":""},{"$f":"IF(商品マスタ!G33=\"\",\"\",商品マスタ!G33)","v":""}]
[null,30,{"$nulls":4},0,0,{"$f":"IFERROR(INDEX(在庫表示!$F$11:$F$210,MATCH(C40,在庫表示!$B$11:$B$210,0))+F40,\"\")","v":""},null,{"$f":"IF(商品マスタ!$B34=\"\",\"\",商品マスタ!$B34)","v":30},{"$f":"IF(商品マスタ!$C34=\"\",\"\",商品マスタ!$C34)","v":""},{"$f":"IF(商品マスタ!G34=\"\",\"\",商品マスタ!G34)","v":""}]
[{"$nulls":10},{"$f":"IF(商品マスタ!$B35=\"\",\"\",商品マスタ!$B35)","v":31},{"$f":"IF(商品マスタ!$C35=\"\",\"\",商品マスタ!$C35)","v":""},{"$f":"IF(商品マスタ!G35=\"\",\"\",商品マスタ!G35)","v":""}]
[{"$nulls":10},{"$f":"IF(商品マスタ!$B36=\"\",\"\",商品マスタ!$B36)","v":32},{"$f":"IF(商品マスタ!$C36=\"\",\"\",商品マスタ!$C36)","v":""},{"$f":"IF(商品マスタ!G36=\"\",\"\",商品マスタ!G36)","v":""}]
[{"$nulls":10},{"$f":"IF(商品マスタ!$B37=\"\",\"\",商品マスタ!$B37)","v":33},{"$f":"IF(商品マスタ!$C37=\"\",\"\",商品マスタ!$C37)","v":""},{"$f":"IF(商品マスタ!G37=\"\",\"\",商品マスタ!G37)","v":""}]
[{"$nulls":10},{"$f":"IF(商品マスタ!$B38=\"\",\"\",商品マスタ!$B38)","v":34},{"$f":"IF(商品マスタ!$C38=\"\",\"\",商品マスタ!$C38)","v":""},{"$f":"IF(商品マスタ!G38=\"\",\"\",商品マスタ!G38)","v":""}]
[{"$nulls":10},{"$f":"IF(商品マスタ!$B39=\"\",\"\",商品マスタ!$B39)","v":35},{"$f":"IF(商品マスタ!$C39=\"\",\"\",商品マスタ!$C39)","v":""},{"$f":"IF(商品マスタ!G39=\"\",\"\",商品マスタ!G39)","v":""}]
[{"$nulls":10},{"$f":"IF(商品マスタ!$B40=\"\",\"\",商品マスタ!$B40)","v":36},{"$f":"IF(商品マスタ!$C40=\"\",\"\",商品マスタ!$C40)","v":""},{"$f":"IF(商品マスタ!G40=\"\",\"\",商品マスタ!G40)","v":""}]
[{"$nulls":10},{"$f":"IF(商品マスタ!$B41=\"\",\"\",商品マスタ!$B41)","v":37},{"$f":"IF(商品マスタ!$C41=\"\",\"\",商品マスタ!$C41)","v":""},{"$f":"IF(商品マスタ!G41=\"\",\"\",商品マスタ!G41)","v":""}]
[{"$nulls":10},{"$f":"IF(商品マスタ!$B42=\"\",\"\",商品マスタ!$B42)","v":38},{"$f":"IF(商品マスタ!$C42=\"\",\"\",商品マスタ!$C42)","v":""},{"$f":"IF(商品マスタ!G42=\"\",\"\",商品マスタ!G42)","v":""}]
[{"$nulls":10},{"$f":"IF(商品マスタ!$B43=\"\",\"\",商品マスタ!$B43)","v":39},{"$f":"IF(商品マスタ!$C43=\"\",\"\",商品マスタ!$C43)","v":""},{"$f":"IF(商品マスタ!G43=\"\",\"\",商品マスタ!G43)","v":""}]
[{"$nulls":10},{"$f":"IF(商品マスタ!$B44=\"\",\"\",商品マスタ!$B44)","v":40},{"$f":"IF(商品マスタ!$C44=\"\",\"\",商品マスタ!$C44)","v":""},{"$f":"IF(商品マスタ!G44=\"\",\"\",商品マスタ!G44)","v":""}]
[{"$nulls":10},{"$f":"IF(商品マスタ!$B45=\"\",\"\",商品マスタ!$B45)","v":41},{"$f":"IF(商品マスタ!$C45=\"\",\"\",商品マスタ!$C45)","v":""},{"$f":"IF(商品マスタ!G45=\"\",\"\",商品マスタ!G45)","v":""}]
[{"$nulls":10},{"$f":"IF(商品マスタ!$B46=\"\",\"\",商品マスタ!$B46)","v":42},{"$f":"IF(商品マスタ!$C46=\"\",\"\",商品マスタ!$C46)","v":""},{"$f":"IF(商品マスタ!G46=\"\",\"\",商品マスタ!G46)","v":""}]
[{"$nulls":10},{"$f":"IF(商品マスタ!$B47=\"\",\"\",商品マスタ!$B47)","v":43},{"$f":"IF(商品マスタ!$C47=\"\",\"\",商品マスタ!$C47)","v":""},{"$f":"IF(商品マスタ!G47=\"\",\"\",商品マスタ!G47)","v":""}]
[{"$nulls":10},{"$f":"IF(商品マスタ!$B48=\"\",\"\",商品マスタ!$B48)","v":44},{"$f":"IF(商品マスタ!$C48=\"\",\"\",商品マスタ!$C48)","v":""},{"$f":"IF(商品マスタ!G48=\"\",\"\",商品マスタ!G48)","v":""}]
[{"$nulls":10},{"$f":"IF(商品マスタ!$B49=\"\",\"\",商品マスタ!$B49)","v":45},{"$f":"IF(商品マスタ!$C49=\"\",\"\",商品マスタ!$C49)","v":""},{"$f":"IF(商品マスタ!G49=\"\",\"\",商品マスタ!G49)","v":""}]
[{"$nulls":10},{"$f":"IF(商品マスタ!$B50=\"\",\"\",商品マスタ!$B50)","v":46},{"$f":"IF(商品マスタ!$C50=\"\",\"\",商品マスタ!$C50)","v":""},{"$f":"IF(商品マスタ!G50=\"\",\"\",商品マスタ!G50)","v":""}]
[{"$nulls":10},{"$f":"IF(商品マスタ!$B51=\"\",\"\",商品マスタ!$B51)","v":47},{"$f":"IF(商品マスタ!$C51=\"\",\"\",商品マスタ!$C51)","v":""},{"$f":"IF(商品マスタ!G51=\"\",\"\",商品マスタ!G51)","v":""}]
[{"$nulls":10},{"$f":"IF(商品マスタ!$B52=\"\",\"\",商品マスタ!$B52)","v":48},{"$f":"IF(商品マスタ!$C52=\"\",\"\",商品マスタ!$C52)","v":""},{"$f":"IF(商品マスタ!G52=\"\",\"\",商品マスタ!G52)","v":""}]
[{"$nulls":10},{"$f":"IF(商品マスタ!$B53=\"\",\"\",商品マスタ!$B53)","v":49},{"$f":"IF(商品マスタ!$C53=\"\",\"\",商品マスタ!$C53)","v":""},{"$f":"IF(商品マスタ!G53=\"\",\"\",商品マスタ!G53)","v":""}]
[{"$nulls":10},{"$f":"IF(商品マスタ!$B54=\"\",\"\",商品マスタ!$B54)","v":50},{"$f":"IF(商品マスタ!$C54=\"\",\"\",商品マスタ!$C54)","v":""},{"$f":"IF(商品マスタ!G54=\"\",\"\",商品マスタ!G54)","v":""}]
[{"$nulls":10},{"$f":"IF(商品マスタ!$B55=\"\",\"\",商品マスタ!$B55)","v":51},{"$f":"IF(商品マスタ!$C55=\"\",\"\",商品マスタ!$C55)","v":""},{"$f":"IF(商品マスタ!G55=\"\",\"\",商品マスタ!G55)","v":""}]
[{"$nulls":10},{"$f":"IF(商品マスタ!$B56=\"\",\"\",商品マスタ!$B56)","v":52},{"$f":"IF(商品マスタ!$C56=\"\",\"\",商品マスタ!$C56)","v":""},{"$f":"IF(商品マスタ!G56=\"\",\"\",商品マスタ!G56)","v":""}]
[{"$nulls":10},{"$f":"IF(商品マスタ!$B57=\"\",\"\",商品マスタ!$B57)","v":53},{"$f":"IF(商品マスタ!$C57=\"\",\"\",商品マスタ!$C57)","v":""},{"$f":"IF(商品マスタ!G57=\"\",\"\",商品マスタ!G57)","v":""}]
[{"$nulls":10},{"$f":"IF(商品マスタ!$B58=\"\",\"\",商品マスタ!$B58)","v":54},{"$f":"IF(商品マスタ!$C58=\"\",\"\",商品マスタ!$C58)","v":""},{"$f":"IF(商品マスタ!G58=\"\",\"\",商品マスタ!G58)","v":""}]
[{"$nulls":10},{"$f":"IF(商品マスタ!$B59=\"\",\"\",商品マスタ!$B59)","v":55},{"$f":"IF(商品マスタ!$C59=\"\",\"\",商品マスタ!$C59)","v":""},{"$f":"IF(商品マスタ!G59=\"\",\"\",商品マスタ!G59)","v":""}]
[{"$nulls":10},{"$f":"IF(商品マスタ!$B60=\"\",\"\",商品マスタ!$B60)","v":56},{"$f":"IF(商品マスタ!$C60=\"\",\"\",商品マスタ!$C60)","v":""},{"$f":"IF(商品マスタ!G60=\"\",\"\",商品マスタ!G60)","v":""}]
[{"$nulls":10},{"$f":"IF(商品マスタ!$B61=\"\",\"\",商品マスタ!$B61)","v":57},{"$f":"IF(商品マスタ!$C61=\"\",\"\",商品マスタ!$C61)","v":""},{"$f":"IF(商品マスタ!G61=\"\",\"\",商品マスタ!G61)","v":""}]
[{"$nulls":10},{"$f":"IF(商品マスタ!$B62=\"\",\"\",商品マスタ!$B62)","v":58},{"$f":"IF(商品マスタ!$C62=\"\",\"\",商品マスタ!$C62)","v":""},{"$f":"IF(商品マスタ!G62=\"\",\"\",商品マスタ!G62)","v":""}]
[{"$nulls":10},{"$f":"IF(商品マスタ!$B63=\"\",\"\",商品マスタ!$B63)","v":59},{"$f":"IF(商品マスタ!$C63=\"\",\"\",商品マスタ!$C63)","v":""},{"$f":"IF(商品マスタ!G63=\"\",\"\",商品マスタ!G63)","v":""}]
[{"$nulls":10},{"$f":"IF(商品マスタ!$B64=\"\",\"\",商品マスタ!$B64)","v":60},{"$f":"IF(商品マスタ!$C64=\"\",\"\",商品マスタ!$C64)","v":""},{"$f":"IF(商品マスタ!G64=\"\",\"\",商品マスタ!G64)","v":""}]
[{"$nulls":10},{"$f":"IF(商品マスタ!$B65=\"\",\"\",商品マスタ!$B65)","v":61},{"$f":"IF(商品マスタ!$C65=\"\",\"\",商品マスタ!$C65)","v":""},{"$f":"IF(商品マスタ!G65=\"\",\"\",商品マスタ!G65)","v":""}]
[{"$nulls":10},{"$f":"IF(商品マスタ!$B66=\"\",\"\",商品マスタ!$B66)","v":62},{"$f":"IF(商品マスタ!$C66=\"\",\"\",商品マスタ!$C66)","v":""},{"$f":"IF(商品マスタ!G66=\"\",\"\",商品マスタ!G66)","v":""}]
[{"$nulls":10},{"$f":"IF(商品マスタ!$B67=\"\",\"\",商品マスタ!$B67)","v":63},{"$f":"IF(商品マスタ!$C67=\"\",\"\",商品マスタ!$C67)","v":""},{"$f":"IF(商品マスタ!G67=\"\",\"\",商品マスタ!G67)","v":""}]
[{"$nulls":10},{"$f":"IF(商品マスタ!$B68=\"\",\"\",商品マスタ!$B68)","v":64},{"$f":"IF(商品マスタ!$C68=\"\",\"\",商品マスタ!$C68)","v":""},{"$f":"IF(商品マスタ!G68=\"\",\"\",商品マスタ!G68)","v":""}]
[{"$nulls":10},{"$f":"IF(商品マスタ!$B69=\"\",\"\",商品マスタ!$B69)","v":65},{"$f":"IF(商品マスタ!$C69=\"\",\"\",商品マスタ!$C69)","v":""},{"$f":"IF(商品マスタ!G69=\"\",\"\",商品マスタ!G69)","v":""}]
[{"$nulls":10},{"$f":"IF(商品マスタ!$B70=\"\",\"\",商品マスタ!$B70)","v":66},{"$f":"IF(商品マスタ!$C70=\"\",\"\",商品マスタ!$C70)","v":""},{"$f":"IF(商品マスタ!G70=\"\",\"\",商品マスタ!G70)","v":""}]
[{"$nulls":10},{"$f":"IF(商品マスタ!$B71=\"\",\"\",商品マスタ!$B71)","v":67},{"$f":"IF(商品マスタ!$C71=\"\",\"\",商品マスタ!$C71)","v":""},{"$f":"IF(商品マスタ!G71=\"\",\"\",商品マスタ!G71)","v":""}]
[{"$nulls":10},{"$f":"IF(商品マスタ!$B72=\"\",\"\",商品マスタ!$B72)","v":68},{"$f":"IF(商品マスタ!$C72=\"\",\"\",商品マスタ!$C72)","v":""},{"$f":"IF(商品マスタ!G72=\"\",\"\",商品マスタ!G72)","v":""}]
[{"$nulls":10},{"$f":"IF(商品マスタ!$B73=\"\",\"\",商品マスタ!$B73)","v":69},{"$f":"IF(商品マスタ!$C73=\"\",\"\",商品マスタ!$C73)","v":""},{"$f":"IF(商品マスタ!G73=\"\",\"\",商品マスタ!G73)","v":""}]
[{"$nulls":10},{"$f":"IF(商品マスタ!$B74=\"\",\"\",商品マスタ!$B74)","v":70},{"$f":"IF(商品マスタ!$C74=\"\",\"\",商品マスタ!$C74)","v":""},{"$f":"IF(商品マスタ!G74=\"\",\"\",商品マスタ!G74)","v":""}]
[{"$nulls":10},{"$f":"IF(商品マスタ!$B75=\"\",\"\",商品マスタ!$B75)","v":71},{"$f":"IF(商品マスタ!$C75=\"\",\"\",商品マスタ!$C75)","v":""},{"$f":"IF(商品マスタ!G75=\"\",\"\",商品マスタ!G75)","v":""}]
[{"$nulls":10},{"$f":"IF(商品マスタ!$B76=\"\",\"\",商品マスタ!$B76)","v":72},{"$f":"IF(商品マスタ!$C76=\"\",\"\",商品マスタ!$C76)","v":""},{"$f":"IF(商品マスタ!G76=\"\",\"\",商品マスタ!G76)","v":""}]
[{"$nulls":10},{"$f":"IF(商品マスタ!$B77=\"\",\"\",商品マスタ!$B77)","v":73},{"$f":"IF(商品マスタ!$C77=\"\",\"\",商品マスタ!$C77)","v":""},{"$f":"IF(商品マスタ!G77=\"\",\"\",商品マスタ!G77)","v":""}]
[{"$nulls":10},{"$f":"IF(商品マスタ!$B78=\"\",\"\",商品マスタ!$B78)","v":74},{"$f":"IF(商品マスタ!$C78=\"\",\"\",商品マスタ!$C78)","v":""},{"$f":"IF(商品マスタ!G78=\"\",\"\",商品マスタ!G78)","v":""}]
[{"$nulls":10},{"$f":"IF(商品マスタ!$B79=\"\",\"\",商品マスタ!$B79)","v":75},{"$f":"IF(商品マスタ!$C79=\"\",\"\",商品マスタ!$C79)","v":""},{"$f":"IF(商品マスタ!G79=\"\",\"\",商品マスタ!G79)","v":""}]
[{"$nulls":10},{"$f":"IF(商品マスタ!$B80=\"\",\"\",商品マスタ!$B80)","v":76},{"$f":"IF(商品マスタ!$C80=\"\",\"\",商品マスタ!$C80)","v":""},{"$f":"IF(商品マスタ!G80=\"\",\"\",商品マスタ!G80)","v":""}]
[{"$nulls":10},{"$f":"IF(商品マスタ!$B81=\"\",\"\",商品マスタ!$B81)","v":77},{"$f":"IF(商品マスタ!$C81=\"\",\"\",商品マスタ!$C81)","v":""},{"$f":"IF(商品マスタ!G81=\"\",\"\",商品マスタ!G81)","v":""}]
[{"$nulls":10},{"$f":"IF(商品マスタ!$B82=\"\",\"\",商品マスタ!$B82)","v":78},{"$f":"IF(商品マスタ!$C82=\"\",\"\",商品マスタ!$C82)","v":""},{"$f":"IF(商品マスタ!G82=\"\",\"\",商品マスタ!G82)","v":""}]
[{"$nulls":10},{"$f":"IF(商品マスタ!$B83=\"\",\"\",商品マスタ!$B83)","v":79},{"$f":"IF(商品マスタ!$C83=\"\",\"\",商品マスタ!$C83)","v":""},{"$f":"IF(商品マスタ!G83=\"\",\"\",商品マスタ!G83)","v":""}]
[{"$nulls":10},{"$f":"IF(商品マスタ!$B84=\"\",\"\",商品マスタ!$B84)","v":80},{"$f":"IF(商品マスタ!$C84=\"\",\"\",商品マスタ!$C84)","v":""},{"$f":"IF(商品マスタ!G84=\"\",\"\",商品マスタ!G84)","v":""}]
[{"$nulls":10},{"$f":"IF(商品マスタ!$B85=\"\",\"\",商品マスタ!$B85)","v":81},{"$f":"IF(商品マスタ!$C85=\"\",\"\",商品マスタ!$C85)","v":""},{"$f":"IF(商品マスタ!G85=\"\",\"\",商品マスタ!G85)","v":""}]
[{"$nulls":10},{"$f":"IF(商品マスタ!$B86=\"\",\"\",商品マスタ!$B86)","v":82},{"$f":"IF(商品マスタ!$C86=\"\",\"\",商品マスタ!$C86)","v":""},{"$f":"IF(商品マスタ!G86=\"\",\"\",商品マスタ!G86)","v":""}]
[{"$nulls":10},{"$f":"IF(商品マスタ!$B87=\"\",\"\",商品マスタ!$B87)","v":83},{"$f":"IF(商品マスタ!$C87=\"\",\"\",商品マスタ!$C87)","v":""},{"$f":"IF(商品マスタ!G87=\"\",\"\",商品マスタ!G87)","v":""}]
[{"$nulls":10},{"$f":"IF(商品マスタ!$B88=\"\",\"\",商品マスタ!$B88)","v":84},{"$f":"IF(商品マスタ!$C88=\"\",\"\",商品マスタ!$C88)","v":""},{"$f":"IF(商品マスタ!G88=\"\",\"\",商品マスタ!G88)","v":""}]
[{"$nulls":10},{"$f":"IF(商品マスタ!$B89=\"\",\"\",商品マスタ!$B89)","v":85},{"$f":"IF(商品マスタ!$C89=\"\",\"\",商品マスタ!$C89)","v":""},{"$f":"IF(商品マスタ!G89=\"\",\"\",商品マスタ!G89)","v":""}]
[{"$nulls":10},{"$f":"IF(商品マスタ!$B90=\"\",\"\",商品マスタ!$B90)","v":86},{"$f":"IF(商品マスタ!$C90=\"\",\"\",商品マスタ!$C90)","v":""},{"$f":"IF(商品マスタ!G90=\"\",\"\",商品マスタ!G90)","v":""}]
[{"$nulls":10},{"$f":"IF(商品マスタ!$B91=\"\",\"\",商品マスタ!$B91)","v":87},{"$f":"IF(商品マスタ!$C91=\"\",\"\",商品マスタ!$C91)","v":""},{"$f":"IF(商品マスタ!G91=\"\",\"\",商品マスタ!G91)","v":""}]
[{"$nulls":10},{"$f":"IF(商品マスタ!$B92=\"\",\"\",商品マスタ!$B92)","v":88},{"$f":"IF(商品マスタ!$C92=\"\",\"\",商品マスタ!$C92)","v":""},{"$f":"IF(商品マスタ!G92=\"\",\"\",商品マスタ!G92)","v":""}]
[{"$nulls":10},{"$f":"IF(商品マスタ!$B93=\"\",\"\",商品マスタ!$B93)","v":89},{"$f":"IF(商品マスタ!$C93=\"\",\"\",商品マスタ!$C93)","v":""},{"$f":"IF(商品マスタ!G93=\"\",\"\",商品マスタ!G93)","v":""}]
[{"$nulls":10},{"$f":"IF(商品マスタ!$B94=\"\",\"\",商品マスタ!$B94)","v":90},{"$f":"IF(商品マスタ!$C94=\"\",\"\",商品マスタ!$C94)","v":""},{"$f":"IF(商品マスタ!G94=\"\",\"\",商品マスタ!G94)","v":""}]
[{"$nulls":10},{"$f":"IF(商品マスタ!$B95=\"\",\"\",商品マスタ!$B95)","v":91},{"$f":"IF(商品マスタ!$C95=\"\",\"\",商品マスタ!$C95)","v":""},{"$f":"IF(商品マスタ!G95=\"\",\"\",商品マスタ!G95)","v":""}]
[{"$nulls":10},{"$f":"IF(商品マスタ!$B96=\"\",\"\",商品マスタ!$B96)","v":92},{"$f":"IF(商品マスタ!$C96=\"\",\"\",商品マスタ!$C96)","v":""},{"$f":"IF(商品マスタ!G96=\"\",\"\",商品マスタ!G96)","v":""}]
[{"$nulls":10},{"$f":"IF(商品マスタ!$B97=\"\",\"\",商品マスタ!$B97)","v":93},{"$f":"IF(商品マスタ!$C97=\"\",\"\",商品マスタ!$C97)","v":""},{"$f":"IF(商品マスタ!G97=\"\",\"\",商品マスタ!G97)","v":""}]
[{"$nulls":10},{"$f":"IF(商品マスタ!$B98=\"\",\"\",商品マスタ!$B98)","v":94},{"$f":"IF(商品マスタ!$C98=\"\",\"\",商品マスタ!$C98)","v":""},{"$f":"IF(商品マスタ!G98=\"\",\"\",商品マスタ!G98)","v":""}]
[{"$nulls":10},{"$f":"IF(商品マスタ!$B99=\"\",\"\",商品マスタ!$B99)","v":95},{"$f":"IF(商品マスタ!$C99=\"\",\"\",商品マスタ!$C99)","v":""},{"$f":"IF(商品マスタ!G99=\"\",\"\",商品マスタ!G99)","v":""}]
[{"$nulls":10},{"$f":"IF(商品マスタ!$B100=\"\",\"\",商品マスタ!$B100)","v":96},{"$f":"IF(商品マスタ!$C100=\"\",\"\",商品マスタ!$C100)","v":""},{"$f":"IF(商品マスタ!G100=\"\",\"\",商品マスタ!G100)","v":""}]
[{"$nulls":10},{"$f":"IF(商品マスタ!$B101=\"\",\"\",商品マスタ!$B101)","v":97},{"$f":"IF(商品マスタ!$C101=\"\",\"\",商品マスタ!$C101)","v":""},{"$f":"IF(商品マスタ!G101=\"\",\"\",商品マスタ!G101)","v":""}]
[{"$nulls":10},{"$f":"IF(商品マスタ!$B102=\"\",\"\",商品マスタ!$B102)","v":98},{"$f":"IF(商品マスタ!$C102=\"\",\"\",商品マスタ!$C102)","v":""},{"$f":"IF(商品マスタ!G102=\"\",\"\",商品マスタ!G102)","v":""}]
[{"$nulls":10},{"$f":"IF(商品マスタ!$B103=\"\",\"\",商品マスタ!$B103)","v":99},{"$f":"IF(商品マスタ!$C103=\"\",\"\",商品マスタ!$C103)","v":""},{"$f":"IF(商品マスタ!G103=\"\",\"\",商品マスタ!G103)","v":""}]
[{"$nulls":10},{"$f":"IF(商品マスタ!$B104=\"\",\"\",商品マスタ!$B104)","v":100},{"$f":"IF(商品マスタ!$C104=\"\",\"\",商品マスタ!$C104)","v":""},{"$f":"IF(商品マスタ!G104=\"\",\"\",商品マスタ!G104)","v":""}]
[{"$nulls":10},{"$f":"IF(商品マスタ!$B105=\"\",\"\",商品マスタ!$B105)","v":101},{"$f":"IF(商品マスタ!$C105=\"\",\"\",商品マスタ!$C105)","v":""},{"$f":"IF(商品マスタ!G105=\"\",\"\",商品マスタ!G105)","v":""}]
[{"$nulls":10},{"$f":"IF(商品マスタ!$B106=\"\",\"\",商品マスタ!$B106)","v":102},{"$f":"IF(商品マスタ!$C106=\"\",\"\",商品マスタ!$C106)","v":""},{"$f":"IF(商品マスタ!G106=\"\",\"\",商品マスタ!G106)","v":""}]
[{"$nulls":10},{"$f":"IF(商品マスタ!$B107=\"\",\"\",商品マスタ!$B107)","v":103},{"$f":"IF(商品マスタ!$C107=\"\",\"\",商品マスタ!$C107)","v":""},{"$f":"IF(商品マスタ!G107=\"\",\"\",商品マスタ!G107)","v":""}]
[{"$nulls":10},{"$f":"IF(商品マスタ!$B108=\"\",\"\",商品マスタ!$B108)","v":104},{"$f":"IF(商品マスタ!$C108=\"\",\"\",商品マスタ!$C108)","v":""},{"$f":"IF(商品マスタ!G108=\"\",\"\",商品マスタ!G108)","v":""}]
[{"$nulls":10},{"$f":"IF(商品マスタ!$B109=\"\",\"\",商品マスタ!$B109)","v":105},{"$f":"IF(商品マスタ!$C109=\"\",\"\",商品マスタ!$C109)","v":""},{"$f":"IF(商品マスタ!G109=\"\",\"\",商品マスタ!G109)","v":""}]
[{"$nulls":10},{"$f":"IF(商品マスタ!$B110=\"\",\"\",商品マスタ!$B110)","v":106},{"$f":"IF(商品マスタ!$C110=\"\",\"\",商品マスタ!$C110)","v":""},{"$f":"IF(商品マスタ!G110=\"\",\"\",商品マスタ!G110)","v":""}]
[{"$nulls":10},{"$f":"IF(商品マスタ!$B111=\"\",\"\",商品マスタ!$B111)","v":107},{"$f":"IF(商品マスタ!$C111=\"\",\"\",商品マスタ!$C111)","v":""},{"$f":"IF(商品マスタ!G111=\"\",\"\",商品マスタ!G111)","v":""}]
[{"$nulls":10},{"$f":"IF(商品マスタ!$B112=\"\",\"\",商品マスタ!$B112)","v":108},{"$f":"IF(商品マスタ!$C112=\"\",\"\",商品マスタ!$C112)","v":""},{"$f":"IF(商品マスタ!G112=\"\",\"\",商品マスタ!G112)","v":""}]
[{"$nulls":10},{"$f":"IF(商品マスタ!$B113=\"\",\"\",商品マスタ!$B113)","v":109},{"$f":"IF(商品マスタ!$C113=\"\",\"\",商品マスタ!$C113)","v":""},{"$f":"IF(商品マスタ!G113=\"\",\"\",商品マスタ!G113)","v":""}]
[{"$nulls":10},{"$f":"IF(商品マスタ!$B114=\"\",\"\",商品マスタ!$B114)","v":110},{"$f":"IF(商品マスタ!$C114=\"\",\"\",商品マスタ!$C114)","v":""},{"$f":"IF(商品マスタ!G114=\"\",\"\",商品マスタ!G114)","v":""}]
[{"$nulls":10},{"$f":"IF(商品マスタ!$B115=\"\",\"\",商品マスタ!$B115)","v":111},{"$f":"IF(商品マスタ!$C115=\"\",\"\",商品マスタ!$C115)","v":""},{"$f":"IF(商品マスタ!G115=\"\",\"\",商品マスタ!G115)","v":""}]
[{"$nulls":10},{"$f":"IF(商品マスタ!$B116=\"\",\"\",商品マスタ!$B116)","v":112},{"$f":"IF(商品マスタ!$C116=\"\",\"\",商品マスタ!$C116)","v":""},{"$f":"IF(商品マスタ!G116=\"\",\"\",商品マスタ!G116)","v":""}]
[{"$nulls":10},{"$f":"IF(商品マスタ!$B117=\"\",\"\",商品マスタ!$B117)","v":113},{"$f":"IF(商品マスタ!$C117=\"\",\"\",商品マスタ!$C117)","v":""},{"$f":"IF(商品マスタ!G117=\"\",\"\",商品マスタ!G117)","v":""}]
[{"$nulls":10},{"$f":"IF(商品マスタ!$B118=\"\",\"\",商品マスタ!$B118)","v":114},{"$f":"IF(商品マスタ!$C118=\"\",\"\",商品マスタ!$C118)","v":""},{"$f":"IF(商品マスタ!G118=\"\",\"\",商品マスタ!G118)","v":""}]
[{"$nulls":10},{"$f":"IF(商品マスタ!$B119=\"\",\"\",商品マスタ!$B119)","v":115},{"$f":"IF(商品マスタ!$C119=\"\",\"\",商品マスタ!$C119)","v":""},{"$f":"IF(商品マスタ!G119=\"\",\"\",商品マスタ!G119)","v":""}]
[{"$nulls":10},{"$f":"IF(商品マスタ!$B120=\"\",\"\",商品マスタ!$B120)","v":116},{"$f":"IF(商品マスタ!$C120=\"\",\"\",商品マスタ!$C120)","v":""},{"$f":"IF(商品マスタ!G120=\"\",\"\",商品マスタ!G120)","v":""}]
[{"$nulls":10},{"$f":"IF(商品マスタ!$B121=\"\",\"\",商品マスタ!$B121)","v":117},{"$f":"IF(商品マスタ!$C121=\"\",\"\",商品マスタ!$C121)","v":""},{"$f":"IF(商品マスタ!G121=\"\",\"\",商品マスタ!G121)","v":""}]
[{"$nulls":10},{"$f":"IF(商品マスタ!$B122=\"\",\"\",商品マスタ!$B122)","v":118},{"$f":"IF(商品マスタ!$C122=\"\",\"\",商品マスタ!$C122)","v":""},{"$f":"IF(商品マスタ!G122=\"\",\"\",商品マスタ!G122)","v":""}]
[{"$nulls":10},{"$f":"IF(商品マスタ!$B123=\"\",\"\",商品マスタ!$B123)","v":119},{"$f":"IF(商品マスタ!$C123=\"\",\"\",商品マスタ!$C123)","v":""},{"$f":"IF(商品マスタ!G123=\"\",\"\",商品マスタ!G123)","v":""}]
[{"$nulls":10},{"$f":"IF(商品マスタ!$B124=\"\",\"\",商品マスタ!$B124)","v":120},{"$f":"IF(商品マスタ!$C124=\"\",\"\",商品マスタ!$C124)","v":""},{"$f":"IF(商品マスタ!G124=\"\",\"\",商品マスタ!G124)","v":""}]
[{"$nulls":10},{"$f":"IF(商品マスタ!$B125=\"\",\"\",商品マスタ!$B125)","v":121},{"$f":"IF(商品マスタ!$C125=\"\",\"\",商品マスタ!$C125)","v":""},{"$f":"IF(商品マスタ!G125=\"\",\"\",商品マスタ!G125)","v":""}]
[{"$nulls":10},{"$f":"IF(商品マスタ!$B126=\"\",\"\",商品マスタ!$B126)","v":122},{"$f":"IF(商品マスタ!$C126=\"\",\"\",商品マスタ!$C126)","v":""},{"$f":"IF(商品マスタ!G126=\"\",\"\",商品マスタ!G126)","v":""}]
[{"$nulls":10},{"$f":"IF(商品マスタ!$B127=\"\",\"\",商品マスタ!$B127)","v":123},{"$f":"IF(商品マスタ!$C127=\"\",\"\",商品マスタ!$C127)","v":""},{"$f":"IF(商品マスタ!G127=\"\",\"\",商品マスタ!G127)","v":""}]
[{"$nulls":10},{"$f":"IF(商品マスタ!$B128=\"\",\"\",商品マスタ!$B128)","v":124},{"$f":"IF(商品マスタ!$C128=\"\",\"\",商品マスタ!$C128)","v":""},{"$f":"IF(商品マスタ!G128=\"\",\"\",商品マスタ!G128)","v":""}]
[{"$nulls":10},{"$f":"IF(商品マスタ!$B129=\"\",\"\",商品マスタ!$B129)","v":125},{"$f":"IF(商品マスタ!$C129=\"\",\"\",商品マスタ!$C129)","v":""},{"$f":"IF(商品マスタ!G129=\"\",\"\",商品マスタ!G129)","v":""}]
[{"$nulls":10},{"$f":"IF(商品マスタ!$B130=\"\",\"\",商品マスタ!$B130)","v":126},{"$f":"IF(商品マスタ!$C130=\"\",\"\",商品マスタ!$C130)","v":""},{"$f":"IF(商品マスタ!G130=\"\",\"\",商品マスタ!G130)","v":""}]
[{"$nulls":10},{"$f":"IF(商品マスタ!$B131=\"\",\"\",商品マスタ!$B131)","v":127},{"$f":"IF(商品マスタ!$C131=\"\",\"\",商品マスタ!$C131)","v":""},{"$f":"IF(商品マスタ!G131=\"\",\"\",商品マスタ!G131)","v":""}]
[{"$nulls":10},{"$f":"IF(商品マスタ!$B132=\"\",\"\",商品マスタ!$B132)","v":128},{"$f":"IF(商品マスタ!$C132=\"\",\"\",商品マスタ!$C132)","v":""},{"$f":"IF(商品マスタ!G132=\"\",\"\",商品マスタ!G132)","v":""}]
[{"$nulls":10},{"$f":"IF(商品マスタ!$B133=\"\",\"\",商品マスタ!$B133)","v":129},{"$f":"IF(商品マスタ!$C133=\"\",\"\",商品マスタ!$C133)","v":""},{"$f":"IF(商品マスタ!G133=\"\",\"\",商品マスタ!G133)","v":""}]
[{"$nulls":10},{"$f":"IF(商品マスタ!$B134=\"\",\"\",商品マスタ!$B134)","v":130},{"$f":"IF(商品マスタ!$C134=\"\",\"\",商品マスタ!$C134)","v":""},{"$f":"IF(商品マスタ!G134=\"\",\"\",商品マスタ!G134)","v":""}]
[{"$nulls":10},{"$f":"IF(商品マスタ!$B135=\"\",\"\",商品マスタ!$B135)","v":131},{"$f":"IF(商品マスタ!$C135=\"\",\"\",商品マスタ!$C135)","v":""},{"$f":"IF(商品マスタ!G135=\"\",\"\",商品マスタ!G135)","v":""}]
[{"$nulls":10},{"$f":"IF(商品マスタ!$B136=\"\",\"\",商品マスタ!$B136)","v":132},{"$f":"IF(商品マスタ!$C136=\"\",\"\",商品マスタ!$C136)","v":""},{"$f":"IF(商品マスタ!G136=\"\",\"\",商品マスタ!G136)","v":""}]
[{"$nulls":10},{"$f":"IF(商品マスタ!$B137=\"\",\"\",商品マスタ!$B137)","v":133},{"$f":"IF(商品マスタ!$C137=\"\",\"\",商品マスタ!$C137)","v":""},{"$f":"IF(商品マスタ!G137=\"\",\"\",商品マスタ!G137)","v":""}]
[{"$nulls":10},{"$f":"IF(商品マスタ!$B138=\"\",\"\",商品マスタ!$B138)","v":134},{"$f":"IF(商品マスタ!$C138=\"\",\"\",商品マスタ!$C138)","v":""},{"$f":"IF(商品マスタ!G138=\"\",\"\",商品マスタ!G138)","v":""}]
[{"$nulls":10},{"$f":"IF(商品マスタ!$B139=\"\",\"\",商品マスタ!$B139)","v":135},{"$f":"IF(商品マスタ!$C139=\"\",\"\",商品マスタ!$C139)","v":""},{"$f":"IF(商品マスタ!G139=\"\",\"\",商品マスタ!G139)","v":""}]
[{"$nulls":10},{"$f":"IF(商品マスタ!$B140=\"\",\"\",商品マスタ!$B140)","v":136},{"$f":"IF(商品マスタ!$C140=\"\",\"\",商品マスタ!$C140)","v":""},{"$f":"IF(商品マスタ!G140=\"\",\"\",商品マスタ!G140)","v":""}]
[{"$nulls":10},{"$f":"IF(商品マスタ!$B141=\"\",\"\",商品マスタ!$B141)","v":137},{"$f":"IF(商品マスタ!$C141=\"\",\"\",商品マスタ!$C141)","v":""},{"$f":"IF(商品マスタ!G141=\"\",\"\",商品マスタ!G141)","v":""}]
[{"$nulls":10},{"$f":"IF(商品マスタ!$B142=\"\",\"\",商品マスタ!$B142)","v":138},{"$f":"IF(商品マスタ!$C142=\"\",\"\",商品マスタ!$C142)","v":""},{"$f":"IF(商品マスタ!G142=\"\",\"\",商品マスタ!G142)","v":""}]
[{"$nulls":10},{"$f":"IF(商品マスタ!$B143=\"\",\"\",商品マスタ!$B143)","v":139},{"$f":"IF(商品マスタ!$C143=\"\",\"\",商品マスタ!$C143)","v":""},{"$f":"IF(商品マスタ!G143=\"\",\"\",商品マスタ!G143)","v":""}]
[{"$nulls":10},{"$f":"IF(商品マスタ!$B144=\"\",\"\",商品マスタ!$B144)","v":140},{"$f":"IF(商品マスタ!$C144=\"\",\"\",商品マスタ!$C144)","v":""},{"$f":"IF(商品マスタ!G144=\"\",\"\",商品マスタ!G144)","v":""}]
[{"$nulls":10},{"$f":"IF(商品マスタ!$B145=\"\",\"\",商品マスタ!$B145)","v":141},{"$f":"IF(商品マスタ!$C145=\"\",\"\",商品マスタ!$C145)","v":""},{"$f":"IF(商品マスタ!G145=\"\",\"\",商品マスタ!G145)","v":""}]
[{"$nulls":10},{"$f":"IF(商品マスタ!$B146=\"\",\"\",商品マスタ!$B146)","v":142},{"$f":"IF(商品マスタ!$C146=\"\",\"\",商品マスタ!$C146)","v":""},{"$f":"IF(商品マスタ!G146=\"\",\"\",商品マスタ!G146)","v":""}]
[{"$nulls":10},{"$f":"IF(商品マスタ!$B147=\"\",\"\",商品マスタ!$B147)","v":143},{"$f":"IF(商品マスタ!$C147=\"\",\"\",商品マスタ!$C147)","v":""},{"$f":"IF(商品マスタ!G147=\"\",\"\",商品マスタ!G147)","v":""}]
[{"$nulls":10},{"$f":"IF(商品マスタ!$B148=\"\",\"\",商品マスタ!$B148)","v":144},{"$f":"IF(商品マスタ!$C148=\"\",\"\",商品マスタ!$C148)","v":""},{"$f":"IF(商品マスタ!G148=\"\",\"\",商品マスタ!G148)","v":""}]
[{"$nulls":10},{"$f":"IF(商品マスタ!$B149=\"\",\"\",商品マスタ!$B149)","v":145},{"$f":"IF(商品マスタ!$C149=\"\",\"\",商品マスタ!$C149)","v":""},{"$f":"IF(商品マスタ!G149=\"\",\"\",商品マスタ!G149)","v":""}]
[{"$nulls":10},{"$f":"IF(商品マスタ!$B150=\"\",\"\",商品マスタ!$B150)","v":146},{"$f":"IF(商品マスタ!$C150=\"\",\"\",商品マスタ!$C150)","v":""},{"$f":"IF(商品マスタ!G150=\"\",\"\",商品マスタ!G150)","v":""}]
[{"$nulls":10},{"$f":"IF(商品マスタ!$B151=\"\",\"\",商品マスタ!$B151)","v":147},{"$f":"IF(商品マスタ!$C151=\"\",\"\",商品マスタ!$C151)","v":""},{"$f":"IF(商品マスタ!G151=\"\",\"\",商品マスタ!G151)","v":""}]
[{"$nulls":10},{"$f":"IF(商品マスタ!$B152=\"\",\"\",商品マスタ!$B152)","v":148},{"$f":"IF(商品マスタ!$C152=\"\",\"\",商品マスタ!$C152)","v":""},{"$f":"IF(商品マスタ!G152=\"\",\"\",商品マスタ!G152)","v":""}]
[{"$nulls":10},{"$f":"IF(商品マスタ!$B153=\"\",\"\",商品マスタ!$B153)","v":149},{"$f":"IF(商品マスタ!$C153=\"\",\"\",商品マスタ!$C153)","v":""},{"$f":"IF(商品マスタ!G153=\"\",\"\",商品マスタ!G153)","v":""}]
[{"$nulls":10},{"$f":"IF(商品マスタ!$B154=\"\",\"\",商品マスタ!$B154)","v":150},{"$f":"IF(商品マスタ!$C154=\"\",\"\",商品マスタ!$C154)","v":""},{"$f":"IF(商品マスタ!G154=\"\",\"\",商品マスタ!G154)","v":""}]
[{"$nulls":10},{"$f":"IF(商品マスタ!$B155=\"\",\"\",商品マスタ!$B155)","v":151},{"$f":"IF(商品マスタ!$C155=\"\",\"\",商品マスタ!$C155)","v":""},{"$f":"IF(商品マスタ!G155=\"\",\"\",商品マスタ!G155)","v":""}]
[{"$nulls":10},{"$f":"IF(商品マスタ!$B156=\"\",\"\",商品マスタ!$B156)","v":152},{"$f":"IF(商品マスタ!$C156=\"\",\"\",商品マスタ!$C156)","v":""},{"$f":"IF(商品マスタ!G156=\"\",\"\",商品マスタ!G156)","v":""}]
[{"$nulls":10},{"$f":"IF(商品マスタ!$B157=\"\",\"\",商品マスタ!$B157)","v":153},{"$f":"IF(商品マスタ!$C157=\"\",\"\",商品マスタ!$C157)","v":""},{"$f":"IF(商品マスタ!G157=\"\",\"\",商品マスタ!G157)","v":""}]
[{"$nulls":10},{"$f":"IF(商品マスタ!$B158=\"\",\"\",商品マスタ!$B158)","v":154},{"$f":"IF(商品マスタ!$C158=\"\",\"\",商品マスタ!$C158)","v":""},{"$f":"IF(商品マスタ!G158=\"\",\"\",商品マスタ!G158)","v":""}]
[{"$nulls":10},{"$f":"IF(商品マスタ!$B159=\"\",\"\",商品マスタ!$B159)","v":155},{"$f":"IF(商品マスタ!$C159=\"\",\"\",商品マスタ!$C159)","v":""},{"$f":"IF(商品マスタ!G159=\"\",\"\",商品マスタ!G159)","v":""}]
[{"$nulls":10},{"$f":"IF(商品マスタ!$B160=\"\",\"\",商品マスタ!$B160)","v":156},{"$f":"IF(商品マスタ!$C160=\"\",\"\",商品マスタ!$C160)","v":""},{"$f":"IF(商品マスタ!G160=\"\",\"\",商品マスタ!G160)","v":""}]
[{"$nulls":10},{"$f":"IF(商品マスタ!$B161=\"\",\"\",商品マスタ!$B161)","v":157},{"$f":"IF(商品マスタ!$C161=\"\",\"\",商品マスタ!$C161)","v":""},{"$f":"IF(商品マスタ!G161=\"\",\"\",商品マスタ!G161)","v":""}]
[{"$nulls":10},{"$f":"IF(商品マスタ!$B162=\"\",\"\",商品マスタ!$B162)","v":158},{"$f":"IF(商品マスタ!$C162=\"\",\"\",商品マスタ!$C162)","v":""},{"$f":"IF(商品マスタ!G162=\"\",\"\",商品マスタ!G162)","v":""}]
[{"$nulls":10},{"$f":"IF(商品マスタ!$B163=\"\",\"\",商品マスタ!$B163)","v":159},{"$f":"IF(商品マスタ!$C163=\"\",\"\",商品マスタ!$C163)","v":""},{"$f":"IF(商品マスタ!G163=\"\",\"\",商品マスタ!G163)","v":""}]
[{"$nulls":10},{"$f":"IF(商品マスタ!$B164=\"\",\"\",商品マスタ!$B164)","v":160},{"$f":"IF(商品マスタ!$C164=\"\",\"\",商品マスタ!$C164)","v":""},{"$f":"IF(商品マスタ!G164=\"\",\"\",商品マスタ!G164)","v":""}]
[{"$nulls":10},{"$f":"IF(商品マスタ!$B165=\"\",\"\",商品マスタ!$B165)","v":161},{"$f":"IF(商品マスタ!$C165=\"\",\"\",商品マスタ!$C165)","v":""},{"$f":"IF(商品マスタ!G165=\"\",\"\",商品マスタ!G165)","v":""}]
[{"$nulls":10},{"$f":"IF(商品マスタ!$B166=\"\",\"\",商品マスタ!$B166)","v":162},{"$f":"IF(商品マスタ!$C166=\"\",\"\",商品マスタ!$C166)","v":""},{"$f":"IF(商品マスタ!G166=\"\",\"\",商品マスタ!G166)","v":""}]
[{"$nulls":10},{"$f":"IF(商品マスタ!$B167=\"\",\"\",商品マスタ!$B167)","v":163},{"$f":"IF(商品マスタ!$C167=\"\",\"\",商品マスタ!$C167)","v":""},{"$f":"IF(商品マスタ!G167=\"\",\"\",商品マスタ!G167)","v":""}]
[{"$nulls":10},{"$f":"IF(商品マスタ!$B168=\"\",\"\",商品マスタ!$B168)","v":164},{"$f":"IF(商品マスタ!$C168=\"\",\"\",商品マスタ!$C168)","v":""},{"$f":"IF(商品マスタ!G168=\"\",\"\",商品マスタ!G168)","v":""}]
[{"$nulls":10},{"$f":"IF(商品マスタ!$B169=\"\",\"\",商品マスタ!$B169)","v":165},{"$f":"IF(商品マスタ!$C169=\"\",\"\",商品マスタ!$C169)","v":""},{"$f":"IF(商品マスタ!G169=\"\",\"\",商品マスタ!G169)","v":""}]
[{"$nulls":10},{"$f":"IF(商品マスタ!$B170=\"\",\"\",商品マスタ!$B170)","v":166},{"$f":"IF(商品マスタ!$C170=\"\",\"\",商品マスタ!$C170)","v":""},{"$f":"IF(商品マスタ!G170=\"\",\"\",商品マスタ!G170)","v":""}]
[{"$nulls":10},{"$f":"IF(商品マスタ!$B171=\"\",\"\",商品マスタ!$B171)","v":167},{"$f":"IF(商品マスタ!$C171=\"\",\"\",商品マスタ!$C171)","v":""},{"$f":"IF(商品マスタ!G171=\"\",\"\",商品マスタ!G171)","v":""}]
[{"$nulls":10},{"$f":"IF(商品マスタ!$B172=\"\",\"\",商品マスタ!$B172)","v":168},{"$f":"IF(商品マスタ!$C172=\"\",\"\",商品マスタ!$C172)","v":""},{"$f":"IF(商品マスタ!G172=\"\",\"\",商品マスタ!G172)","v":""}]
[{"$nulls":10},{"$f":"IF(商品マスタ!$B173=\"\",\"\",商品マスタ!$B173)","v":169},{"$f":"IF(商品マスタ!$C173=\"\",\"\",商品マスタ!$C173)","v":""},{"$f":"IF(商品マスタ!G173=\"\",\"\",商品マスタ!G173)","v":""}]
[{"$nulls":10},{"$f":"IF(商品マスタ!$B174=\"\",\"\",商品マスタ!$B174)","v":170},{"$f":"IF(商品マスタ!$C174=\"\",\"\",商品マスタ!$C174)","v":""},{"$f":"IF(商品マスタ!G174=\"\",\"\",商品マスタ!G174)","v":""}]
[{"$nulls":10},{"$f":"IF(商品マスタ!$B175=\"\",\"\",商品マスタ!$B175)","v":171},{"$f":"IF(商品マスタ!$C175=\"\",\"\",商品マスタ!$C175)","v":""},{"$f":"IF(商品マスタ!G175=\"\",\"\",商品マスタ!G175)","v":""}]
[{"$nulls":10},{"$f":"IF(商品マスタ!$B176=\"\",\"\",商品マスタ!$B176)","v":172},{"$f":"IF(商品マスタ!$C176=\"\",\"\",商品マスタ!$C176)","v":""},{"$f":"IF(商品マスタ!G176=\"\",\"\",商品マスタ!G176)","v":""}]
[{"$nulls":10},{"$f":"IF(商品マスタ!$B177=\"\",\"\",商品マスタ!$B177)","v":173},{"$f":"IF(商品マスタ!$C177=\"\",\"\",商品マスタ!$C177)","v":""},{"$f":"IF(商品マスタ!G177=\"\",\"\",商品マスタ!G177)","v":""}]
[{"$nulls":10},{"$f":"IF(商品マスタ!$B178=\"\",\"\",商品マスタ!$B178)","v":174},{"$f":"IF(商品マスタ!$C178=\"\",\"\",商品マスタ!$C178)","v":""},{"$f":"IF(商品マスタ!G178=\"\",\"\",商品マスタ!G178)","v":""}]
[{"$nulls":10},{"$f":"IF(商品マスタ!$B179=\"\",\"\",商品マスタ!$B179)","v":175},{"$f":"IF(商品マスタ!$C179=\"\",\"\",商品マスタ!$C179)","v":""},{"$f":"IF(商品マスタ!G179=\"\",\"\",商品マスタ!G179)","v":""}]
[{"$nulls":10},{"$f":"IF(商品マスタ!$B180=\"\",\"\",商品マスタ!$B180)","v":176},{"$f":"IF(商品マスタ!$C180=\"\",\"\",商品マスタ!$C180)","v":""},{"$f":"IF(商品マスタ!G180=\"\",\"\",商品マスタ!G180)","v":""}]
[{"$nulls":10},{"$f":"IF(商品マスタ!$B181=\"\",\"\",商品マスタ!$B181)","v":177},{"$f":"IF(商品マスタ!$C181=\"\",\"\",商品マスタ!$C181)","v":""},{"$f":"IF(商品マスタ!G181=\"\",\"\",商品マスタ!G181)","v":""}]
[{"$nulls":10},{"$f":"IF(商品マスタ!$B182=\"\",\"\",商品マスタ!$B182)","v":178},{"$f":"IF(商品マスタ!$C182=\"\",\"\",商品マスタ!$C182)","v":""},{"$f":"IF(商品マスタ!G182=\"\",\"\",商品マスタ!G182)","v":""}]
[{"$nulls":10},{"$f":"IF(商品マスタ!$B183=\"\",\"\",商品マスタ!$B183)","v":179},{"$f":"IF(商品マスタ!$C183=\"\",\"\",商品マスタ!$C183)","v":""},{"$f":"IF(商品マスタ!G183=\"\",\"\",商品マスタ!G183)","v":""}]
[{"$nulls":10},{"$f":"IF(商品マスタ!$B184=\"\",\"\",商品マスタ!$B184)","v":180},{"$f":"IF(商品マスタ!$C184=\"\",\"\",商品マスタ!$C184)","v":""},{"$f":"IF(商品マスタ!G184=\"\",\"\",商品マスタ!G184)","v":""}]
[{"$nulls":10},{"$f":"IF(商品マスタ!$B185=\"\",\"\",商品マスタ!$B185)","v":181},{"$f":"IF(商品マスタ!$C185=\"\",\"\",商品マスタ!$C185)","v":""},{"$f":"IF(商品マスタ!G185=\"\",\"\",商品マスタ!G185)","v":""}]
[{"$nulls":10},{"$f":"IF(商品マスタ!$B186=\"\",\"\",商品マスタ!$B186)","v":182},{"$f":"IF(商品マスタ!$C186=\"\",\"\",商品マスタ!$C186)","v":""},{"$f":"IF(商品マスタ!G186=\"\",\"\",商品マスタ!G186)","v":""}]
[{"$nulls":10},{"$f":"IF(商品マスタ!$B187=\"\",\"\",商品マスタ!$B187)","v":183},{"$f":"IF(商品マスタ!$C187=\"\",\"\",商品マスタ!$C187)","v":""},{"$f":"IF(商品マスタ!G187=\"\",\"\",商品マスタ!G187)","v":""}]
[{"$nulls":10},{"$f":"IF(商品マスタ!$B188=\"\",\"\",商品マスタ!$B188)","v":184},{"$f":"IF(商品マスタ!$C188=\"\",\"\",商品マスタ!$C188)","v":""},{"$f":"IF(商品マスタ!G188=\"\",\"\",商品マスタ!G188)","v":""}]
[{"$nulls":10},{"$f":"IF(商品マスタ!$B189=\"\",\"\",商品マスタ!$B189)","v":185},{"$f":"IF(商品マスタ!$C189=\"\",\"\",商品マスタ!$C189)","v":""},{"$f":"IF(商品マスタ!G189=\"\",\"\",商品マスタ!G189)","v":""}]
[{"$nulls":10},{"$f":"IF(商品マスタ!$B190=\"\",\"\",商品マスタ!$B190)","v":186},{"$f":"IF(商品マスタ!$C190=\"\",\"\",商品マスタ!$C190)","v":""},{"$f":"IF(商品マスタ!G190=\"\",\"\",商品マスタ!G190)","v":""}]
[{"$nulls":10},{"$f":"IF(商品マスタ!$B191=\"\",\"\",商品マスタ!$B191)","v":187},{"$f":"IF(商品マスタ!$C191=\"\",\"\",商品マスタ!$C191)","v":""},{"$f":"IF(商品マスタ!G191=\"\",\"\",商品マスタ!G191)","v":""}]
[{"$nulls":10},{"$f":"IF(商品マスタ!$B192=\"\",\"\",商品マスタ!$B192)","v":188},{"$f":"IF(商品マスタ!$C192=\"\",\"\",商品マスタ!$C192)","v":""},{"$f":"IF(商品マスタ!G192=\"\",\"\",商品マスタ!G192)","v":""}]
[{"$nulls":10},{"$f":"IF(商品マスタ!$B193=\"\",\"\",商品マスタ!$B193)","v":189},{"$f":"IF(商品マスタ!$C193=\"\",\"\",商品マスタ!$C193)","v":""},{"$f":"IF(商品マスタ!G193=\"\",\"\",商品マスタ!G193)","v":""}]
[{"$nulls":10},{"$f":"IF(商品マスタ!$B194=\"\",\"\",商品マスタ!$B194)","v":190},{"$f":"IF(商品マスタ!$C194=\"\",\"\",商品マスタ!$C194)","v":""},{"$f":"IF(商品マスタ!G194=\"\",\"\",商品マスタ!G194)","v":""}]
[{"$nulls":10},{"$f":"IF(商品マスタ!$B195=\"\",\"\",商品マスタ!$B195)","v":191},{"$f":"IF(商品マスタ!$C195=\"\",\"\",商品マスタ!$C195)","v":""},{"$f":"IF(商品マスタ!G195=\"\",\"\",商品マスタ!G195)","v":""}]
[{"$nulls":10},{"$f":"IF(商品マスタ!$B196=\"\",\"\",商品マスタ!$B196)","v":192},{"$f":"IF(商品マスタ!$C196=\"\",\"\",商品マスタ!$C196)","v":""},{"$f":"IF(商品マスタ!G196=\"\",\"\",商品マスタ!G196)","v":""}]
[{"$nulls":10},{"$f":"IF(商品マスタ!$B197=\"\",\"\",商品マスタ!$B197)","v":193},{"$f":"IF(商品マスタ!$C197=\"\",\"\",商品マスタ!$C197)","v":""},{"$f":"IF(商品マスタ!G197=\"\",\"\",商品マスタ!G197)","v":""}]
[{"$nulls":10},{"$f":"IF(商品マスタ!$B198=\"\",\"\",商品マスタ!$B198)","v":194},{"$f":"IF(商品マスタ!$C198=\"\",\"\",商品マスタ!$C198)","v":""},{"$f":"IF(商品マスタ!G198=\"\",\"\",商品マスタ!G198)","v":""}]
[{"$nulls":10},{"$f":"IF(商品マスタ!$B199=\"\",\"\",商品マスタ!$B199)","v":195},{"$f":"IF(商品マスタ!$C199=\"\",\"\",商品マスタ!$C199)","v":""},{"$f":"IF(商品マスタ!G199=\"\",\"\",商品マスタ!G199)","v":""}]
[{"$nulls":10},{"$f":"IF(商品マスタ!$B200=\"\",\"\",商品マスタ!$B200)","v":196},{"$f":"IF(商品マスタ!$C200=\"\",\"\",商品マスタ!$C200)","v":""},{"$f":"IF(商品マスタ!G200=\"\",\"\",商品マスタ!G200)","v":""}]
[{"$nulls":10},{"$f":"IF(商品マスタ!$B201=\"\",\"\",商品マスタ!$B201)","v":197},{"$f":"IF(商品マスタ!$C201=\"\",\"\",商品マスタ!$C201)","v":""},{"$f":"IF(商品マスタ!G201=\"\",\"\",商品マスタ!G201)","v":""}]
[{"$nulls":10},{"$f":"IF(商品マスタ!$B202=\"\",\"\",商品マスタ!$B202)","v":198},{"$f":"IF(商品マスタ!$C202=\"\",\"\",商品マスタ!$C202)","v":""},{"$f":"IF(商品マスタ!G202=\"\",\"\",商品マスタ!G202)","v":""}]
[{"$nulls":10},{"$f":"IF(商品マスタ!$B203=\"\",\"\",商品マスタ!$B203)","v":199},{"$f":"IF(商品マスタ!$C203=\"\",\"\",商品マスタ!$C203)","v":""},{"$f":"IF(商品マスタ!G203=\"\",\"\",商品マスタ!G203)","v":""}]
[{"$nulls":10},{"$f":"IF(商品マスタ!$B204=\"\",\"\",商品マスタ!$B204)","v":200},{"$f":"IF(商品マスタ!$C204=\"\",\"\",商品マスタ!$C204)","v":""},{"$f":"IF(商品マスタ!G204=\"\",\"\",商品マスタ!G204)","v":""}]

{"sheet":"棚卸入力","index":5,"n_rows":100003,"n_cols":29,"rows_kept":4500,"cut":true,"merged":[[4,1,4,3],[6,2,6,3],[6,4,6,5],[6,8,9,9],[6,13,6,14],[9,2,9,4],[9,13,9,15],[10,2,10,4],[11,2,11,4],[12,2,12,4],[13,2,13,4],[14,2,14,4],[15,2,15,4],[16,2,16,4],[17,2,17,4],[18,2,18,4],[19,2,19,4],[20,2,20,4],[21,2,21,4],[22,2,22,4],[23,2,23,4],[24,2,24,4],[25,2,25,4],[26,2,26,4],[27,2,27,4],[28,2,28,4],[29,2,29,4],[30,2,30,4],[31,2,31,4],[32,2,32,4],[33,2,33,4],[34,2,34,4],[35,2,35,4],[36,2,36,4],[37,2,37,4],[38,2,38,4],[39,2,39,4],[40,2,40,4],[41,2,41,4],[42,2,42,4],[43,2,43,4],[44,2,44,4],[45,2,45,4],[46,2,46,4],[47,2,47,4],[48,2,48,4],[49,2,49,4],[50,2,50,4],[51,2,51,4],[52,2,52,4],[53,2,53,4],[54,2,54,4],[55,2,55,4],[56,2,56,4],[57,2,57,4],[58,2,58,4],[59,2,59,4],[60,2,60,4],[61,2,61,4],[62,2,62,4],[63,2,63,4],[64,2,64,4],[65,2,65,4],[66,2,66,4],[67,2,67,4],[68,2,68,4],[69,2,69,4],[70,2,70,4],[71,2,71,4],[72,2,72,4],[73,2,73,4],[74,2,74,4],[75,2,75,4],[76,2,76,4],[77,2,77,4],[78,2,78,4],[79,2,79,4],[80,2,80,4],[81,2,81,4],[82,2,82,4],[83,2,83,4],[84,2,84,4],[85,2,85,4],[86,2,86,4],[87,2,87,4],[88,2,88,4],[89,2,89,4],[90,2,90,4],[91,2,91,4],[92,2,92,4],[93,2,93,4],[94,2,94,4],[95,2,95,4],[96,2,96,4],[97,2,97,4],[98,2,98,4],[99,2,99,4],[100,2,100,4],[101,2,101,4],[102,2,102,4],[103,2,103,4],[104,2,104,4],[105,2,105,4],[106,2,106,4],[107,2,107,4],[108,2,108,4],[109,2,109,4],[110,2,110,4],[111,2,111,4],[112,2,112,4],[113,2,113,4],[114,2,114,4],[115,2,115,4],[116,2,116,4],[117,2,117,4],[118,2,118,4],[119,2,119,4],[120,2,120,4],[121,2,121,4],[122,2,122,4],[123,2,123,4],[124,2,124,4],[125,2,125,4],[126,2,126,4],[127,2,127,4],[128,2,128,4],[129,2,129,4],[130,2,130,4],[131,2,131,4],[132,2,132,4],[133,2,133,4],[134,2,134,4],[135,2,135,4],[136,2,136,4],[137,2,137,4],[138,2,138,4],[139,2,139,4],[140,2,140,4],[141,2,141,4],[142,2,142,4],[143,2,143,4],[144,2,144,4],[145,2,145,4],[146,2,146,4],[147,2,147,4],[148,2,148,4],[149,2,149,4],[150,2,150,4],[151,2,151,4],[152,2,152,4],[153,2,153,4],[154,2,154,4],[155,2,155,4],[156,2,156,4],[157,2,157,4],[158,2,158,4],[159,2,159,4],[160,2,160,4],[161,2,161,4],[162,2,162,4],[163,2,163,4],[164,2,164,4],[165,2,165,4],[166,2,166,4],[167,2,167,4],[168,2,168,4],[169,2,169,4],[170,2,170,4],[171,2,171,4],[172,2,172,4],[173,2,173,4],[174,2,174,4],[175,2,175,4],[176,2,176,4],[177,2,177,4],[178,2,178,4],[179,2,179,4],[180,2,180,4],[181,2,181,4],[182,2,182,4],[183,2,183,4],[184,2,184,4],[185,2,185,4],[186,2,186,4],[187,2,187,4],[188,2,188,4],[189,2,189,4],[190,2,190,4],[191,2,191,4],[192,2,192,4],[193,2,193,4],[194,2,194,4],[195,2,195,4],[196,2,196,4],[197,2,197,4],[198,2,198,4],[199,2,199,4],[200,2,200,4],[201,2,201,4],[202,2,202,4],[203,2,203,4],[204,2,204,4],[205,2,205,4],[206,2,206,4],[207,2,207,4],[208,2,208,4],[209,2,209,4]],"bounds":{"rows_first":2000,"rows_last":500,"rows_between":2000,"halvings":0}}
[]
[]
[{"$nulls":4},"   棚卸入力",{"$nulls":7},"（今棚卸の控）",null,null,"   最新棚卸記録",{"$nulls":12},"番号"]
[]
[{"$nulls":5}," ",{"$nulls":22},1]
[]
[null,"実施日","2021-07-27",null," ①実施日を指定してください",{"$nulls":3},{"$f":"\"②　棚卸結果を「棚卸数量」に記入して下さい。\n　\n　「登録」をクリックすると在庫数を下記「棚卸数量」に合わせて修正します。（今回登録した内容は次回棚卸まで右の控に残ります。また、各回棚卸の履歴は「\"&棚卸シート&\"」シートに記録され、「棚卸後在庫変更履歴」シートの内容はクリアされます。）\"","v":"②　棚卸結果を「棚卸数量」に記入して下さい。\n　\n　「登録」をクリックすると在庫数を下記「棚卸数量」に合わせて修正します。（今回登録した内容は次回棚卸まで右の控に残ります。また、各回棚卸の履歴は「棚卸履歴」シートに記録され、「棚卸後在庫変更履歴」シートの内容はクリアされます。）"},{"$nulls":3},"実施日","2021-03-04",{"$nulls":14},2]
[{"$nulls":28},3]
[null,"第",{"$f":"MAX(棚卸履歴!$C$2:$C$1048576)+1","v":1},"回棚卸",{"$nulls":8},"第",1,"回棚卸記録",{"$nulls":13},4]
[null,"商品番号","商品名",null,null,"棚卸前数量記録","棚卸数量",{"$nulls":5},"商品番号","商品名",null,null,"棚卸前数量記録","棚卸数量",{"$nulls":10},7]
[null,{"$f":"IF(商品マスタ!$B5=\"\",\"\",商品マスタ!$B5)","v":1},{"$f":"IF(商品マスタ!$C5=\"\",\"\",商品マスタ!$C5)","v":"LIFESPAN（ライフスパン）―老いなき世界"},{"$f":"IF(商品マスタ!$B5=\"\",\"\",商品マスタ!$B5)","v":1},{"$f":"IF(商品マスタ!$C5=\"\",\"\",商品マスタ!$C5)","v":"LIFESPAN（ライフスパン）―老いなき世界"},{"$f":"在庫表示!F11","v":0},{"$nulls":6},1,"ボールルームダンステクニック",1,"ボールルームダンステクニック",0]
[null,{"$f":"IF(商品マスタ!$B6=\"\",\"\",商品マスタ!$B6)","v":2},{"$f":"IF(商品マスタ!$C6=\"\",\"\",商品マスタ!$C6)","v":"WHAT IS LIFE？（ホワット・イズ・ライフ？）生命とは何か"},{"$f":"IF(商品マスタ!$B6=\"\",\"\",商品マスタ!$B6)","v":2},{"$f":"IF(商品マスタ!$C6=\"\",\"\",商品マスタ!$C6)","v":"WHAT IS LIFE？（ホワット・イズ・ライフ？）生命とは何か"},{"$f":"在庫表示!F12","v":0},{"$nulls":6},2,"ウィンナ・ワルツ・テクニック",2,"ウィンナ・ワルツ・テクニック",0,{"$nulls":11},9]
[null,{"$f":"IF(商品マスタ!$B7=\"\",\"\",商品マスタ!$B7)","v":3},{"$f":"IF(商品マスタ!$C7=\"\",\"\",商品マスタ!$C7)","v":"科学的とはどういう意味か"},{"$f":"IF(商品マスタ!$B7=\"\",\"\",商品マスタ!$B7)","v":3},{"$f":"IF(商品マスタ!$C7=\"\",\"\",商品マスタ!$C7)","v":"科学的とはどういう意味か"},{"$f":"在庫表示!F13","v":0},{"$nulls":6},3,"ラテンアメリカン　ルンバ",3,"ラテンアメリカン　ルンバ",0,{"$nulls":11},10]
[null,{"$f":"IF(商品マスタ!$B8=\"\",\"\",商品マスタ!$B8)","v":4},{"$f":"IF(商品マスタ!$C8=\"\",\"\",商品マスタ!$C8)","v":"コトPOP（R）を書いたら あっ、売れちゃった！"},{"$f":"IF(商品マスタ!$B8=\"\",\"\",商品マスタ!$B8)","v":4},{"$f":"IF(商品マスタ!$C8=\"\",\"\",商品マスタ!$C8)","v":"コトPOP（R）を書いたら あっ、売れちゃった！"},{"$f":"在庫表示!F14","v":0},{"$nulls":6},4,"ラテンアメリカン　チャチャチャ",4,"ラテンアメリカン　チャチャチャ",0,{"$nulls":11},11]
[null,{"$f":"IF(商品マスタ!$B9=\"\",\"\",商品マスタ!$B9)","v":5},{"$f":"IF(商品マスタ!$C9=\"\",\"\",商品マスタ!$C9)","v":"鉄腕アトム 地球最大の冒険"},{"$f":"IF(商品マスタ!$B9=\"\",\"\",商品マスタ!$B9)","v":5},{"$f":"IF(商品マスタ!$C9=\"\",\"\",商品マスタ!$C9)","v":"鉄腕アトム 地球最大の冒険"},{"$f":"在庫表示!F15","v":0},{"$nulls":6},5,"ラテンアメリカン　サンバ",5,"ラテンアメリカン　サンバ",0,{"$nulls":11},12]
[null,{"$f":"IF(商品マスタ!$B10=\"\",\"\",商品マスタ!$B10)","v":6},{"$f":"IF(商品マスタ!$C10=\"\",\"\",商品マスタ!$C10)","v":"鉄腕アトム 地球防衛隊"},{"$f":"IF(商品マスタ!$B10=\"\",\"\",商品マスタ!$B10)","v":6},{"$f":"IF(商品マスタ!$C10=\"\",\"\",商品マスタ!$C10)","v":"鉄腕アトム 地球防衛隊"},{"$f":"在庫表示!F16","v":0},{"$nulls":6},6,"ラテンアメリカン　パソドブレ",6,"ラテンアメリカン　パソドブレ",0,{"$nulls":11},13]
[null,{"$f":"IF(商品マスタ!$B11=\"\",\"\",商品マスタ!$B11)","v":7},{"$f":"IF(商品マスタ!$C11=\"\",\"\",商品マスタ!$C11)","v":"どうする？デザイン クライアントとのやりとりでよくわかる！デザインの決め方、伝え方"},{"$f":"IF(商品マスタ!$B11=\"\",\"\",商品マスタ!$B11)","v":7},{"$f":"IF(商品マスタ!$C11=\"\",\"\",商品マスタ!$C11)","v":"どうする？デザイン クライアントとのやりとりでよくわかる！デザインの決め方、伝え方"},{"$f":"在庫表示!F17","v":0},{"$nulls":6},7,"ラテンアメリカン　ジャイブ",7,"ラテンアメリカン　ジャイブ",0,{"$nulls":11},14]
[null,{"$f":"IF(商品マスタ!$B12=\"\",\"\",商品マスタ!$B12)","v":8},{"$f":"IF(商品マスタ!$C12=\"\",\"\",商品マスタ!$C12)","v":"ハッブル宇宙望遠鏡が見た絶景宇宙 SELECT 10 Vol.1"},{"$f":"IF(商品マスタ!$B12=\"\",\"\",商品マスタ!$B12)","v":8},{"$f":"IF(商品マスタ!$C12=\"\",\"\",商品マスタ!$C12)","v":"ハッブル宇宙望遠鏡が見た絶景宇宙 SELECT 10 Vol.1"},{"$f":"在庫表示!F18","v":0},{"$nulls":6},8,"ダンス用語解説",8,"ダンス用語解説",0,{"$nulls":11},15]
[null,{"$f":"IF(商品マスタ!$B13=\"\",\"\",商品マスタ!$B13)","v":9},{"$f":"IF(商品マスタ!$C13=\"\",\"\",商品マスタ!$C13)","v":"ハムスターがおうちにやってきた！"},{"$f":"IF(商品マスタ!$B13=\"\",\"\",商品マスタ!$B13)","v":9},{"$f":"IF(商品マスタ!$C13=\"\",\"\",商品マスタ!$C13)","v":"ハムスターがおうちにやってきた！"},{"$f":"在庫表示!F19","v":0},{"$nulls":6},9,"質疑応答集　ワルツ",9,"質疑応答集　ワルツ",0,{"$nulls":11},16]
[null,{"$f":"IF(商品マスタ!$B14=\"\",\"\",商品マスタ!$B14)","v":10},{"$f":"IF(商品マスタ!$C14=\"\",\"\",商品マスタ!$C14)","v":"ビーカーくんのゆかいな化学実験"},{"$f":"IF(商品マスタ!$B14=\"\",\"\",商品マスタ!$B14)","v":10},{"$f":"IF(商品マスタ!$C14=\"\",\"\",商品マスタ!$C14)","v":"ビーカーくんのゆかいな化学実験"},{"$f":"在庫表示!F20","v":0},{"$nulls":6},10,"質疑応答集　タンゴ",10,"質疑応答集　タンゴ",0,{"$nulls":11},17]
[null,{"$f":"IF(商品マスタ!$B15=\"\",\"\",商品マスタ!$B15)","v":11},{"$f":"IF(商品マスタ!$C15=\"\",\"\",商品マスタ!$C15)","v":"ヒトを理解するための 生物学"},{"$f":"IF(商品マスタ!$B15=\"\",\"\",商品マスタ!$B15)","v":11},{"$f":"IF(商品マスタ!$C15=\"\",\"\",商品マスタ!$C15)","v":"ヒトを理解するための 生物学"},{"$f":"在庫表示!F21","v":0},{"$nulls":6},11,"質疑応答集　フォックストロット",11,"質疑応答集　フォックストロット",0,{"$nulls":11},18]
[null,{"$f":"IF(商品マスタ!$B16=\"\",\"\",商品マスタ!$B16)","v":12},{"$f":"IF(商品マスタ!$C16=\"\",\"\",商品マスタ!$C16)","v":"富士山はどうしてそこにあるのか 地形から見る日本列島史"},{"$f":"IF(商品マスタ!$B16=\"\",\"\",商品マスタ!$B16)","v":12},{"$f":"IF(商品マスタ!$C16=\"\",\"\",商品マスタ!$C16)","v":"富士山はどうしてそこにあるのか 地形から見る日本列島史"},{"$f":"在庫表示!F22","v":0},{"$nulls":6},12,"質疑応答集　クイックステップ",12,"質疑応答集　クイックステップ",0,{"$nulls":11},19]
[null,{"$f":"IF(商品マスタ!$B17=\"\",\"\",商品マスタ!$B17)","v":13},{"$f":"IF(商品マスタ!$C17=\"\",\"\",商品マスタ!$C17)","v":"宇宙の「果て」になにがあるのか 最新天文学が描く、時間と空間の終わり"},{"$f":"IF(商品マスタ!$B17=\"\",\"\",商品マスタ!$B17)","v":13},{"$f":"IF(商品マスタ!$C17=\"\",\"\",商品マスタ!$C17)","v":"宇宙の「果て」になにがあるのか 最新天文学が描く、時間と空間の終わり"},{"$f":"在庫表示!F23","v":0},{"$nulls":6},13,"質疑応答集　ウィンナ・ワルツ",13,"質疑応答集　ウィンナ・ワルツ",0,{"$nulls":11},20]
[null,{"$f":"IF(商品マスタ!$B18=\"\",\"\",商品マスタ!$B18)","v":14},{"$f":"IF(商品マスタ!$C18=\"\",\"\",商品マスタ!$C18)","v":"宇宙は本当にひとつなのか―最新宇宙論入門"},{"$f":"IF(商品マスタ!$B18=\"\",\"\",商品マスタ!$B18)","v":14},{"$f":"IF(商品マスタ!$C18=\"\",\"\",商品マスタ!$C18)","v":"宇宙は本当にひとつなのか―最新宇宙論入門"},{"$f":"在庫表示!F24","v":0},{"$nulls":6},14,"ラテン質疑応答集",14,"ラテン質疑応答集",0,{"$nulls":11},21]
[null,{"$f":"IF(商品マスタ!$B19=\"\",\"\",商品マスタ!$B19)","v":15},{"$f":"IF(商品マスタ!$C19=\"\",\"\",商品マスタ!$C19)","v":"宇宙創成（上）"},{"$f":"IF(商品マスタ!$B19=\"\",\"\",商品マスタ!$B19)","v":15},{"$f":"IF(商品マスタ!$C19=\"\",\"\",商品マスタ!$C19)","v":"宇宙創成（上）"},{"$f":"在庫表示!F25","v":0},{"$nulls":6},15,"テキストブック　vol.Ⅰ",15,"テキストブック　vol.Ⅰ",0,{"$nulls":11},22]
[null,{"$f":"IF(商品マスタ!$B20=\"\",\"\",商品マスタ!$B20)","v":16},{"$f":"IF(商品マスタ!$C20=\"\",\"\",商品マスタ!$C20)","v":"宇宙望遠鏡がとらえた 銀河（ブックブライト）"},{"$f":"IF(商品マスタ!$B20=\"\",\"\",商品マスタ!$B20)","v":16},{"$f":"IF(商品マスタ!$C20=\"\",\"\",商品マスタ!$C20)","v":"宇宙望遠鏡がとらえた 銀河（ブックブライト）"},{"$f":"在庫表示!F26","v":0},{"$nulls":6},16,"テキストブック　vol.Ⅲ",16,"テキストブック　vol.Ⅲ",0,{"$nulls":11},23]
[null,{"$f":"IF(商品マスタ!$B21=\"\",\"\",商品マスタ!$B21)","v":17},{"$f":"IF(商品マスタ!$C21=\"\",\"\",商品マスタ!$C21)","v":"見てわかる、迷わず決まる配色アイデア 3色だけでセンスのいい色"},{"$f":"IF(商品マスタ!$B21=\"\",\"\",商品マスタ!$B21)","v":17},{"$f":"IF(商品マスタ!$C21=\"\",\"\",商品マスタ!$C21)","v":"見てわかる、迷わず決まる配色アイデア 3色だけでセンスのいい色"},{"$f":"在庫表示!F27","v":0},{"$nulls":6},17,"テキストブック　vol.Ⅳ",17,"テキストブック　vol.Ⅳ",0,{"$nulls":11},24]
[null,{"$f":"IF(商品マスタ!$B22=\"\",\"\",商品マスタ!$B22)","v":18},{"$f":"IF(商品マスタ!$C22=\"\",\"\",商品マスタ!$C22)","v":"写真加工で作る風景イラスト 神技作画シリーズ"},{"$f":"IF(商品マスタ!$B22=\"\",\"\",商品マスタ!$B22)","v":18},{"$f":"IF(商品マスタ!$C22=\"\",\"\",商品マスタ!$C22)","v":"写真加工で作る風景イラスト 神技作画シリーズ"},{"$f":"在庫表示!F28","v":0},{"$nulls":6},18,"スケーティグシステム解説書",18,"スケーティグシステム解説書",0,{"$nulls":11},25]
[null,{"$f":"IF(商品マスタ!$B23=\"\",\"\",商品マスタ!$B23)","v":19},{"$f":"IF(商品マスタ!$C23=\"\",\"\",商品マスタ!$C23)","v":"写真加工で作る風景イラスト 神技作画シリーズ"},{"$f":"IF(商品マスタ!$B23=\"\",\"\",商品マスタ!$B23)","v":19},{"$f":"IF(商品マスタ!$C23=\"\",\"\",商品マスタ!$C23)","v":"写真加工で作る風景イラスト 神技作画シリーズ"},{"$f":"在庫表示!F29","v":0},{"$nulls":6},19,"採点管理者認定試験問題集",19,"採点管理者認定試験問題集",0,{"$nulls":11},26]
[null,{"$f":"IF(商品マスタ!$B24=\"\",\"\",商品マスタ!$B24)","v":20},{"$f":"IF(商品マスタ!$C24=\"\",\"\",商品マスタ!$C24)","v":"重力とは何か アインシュタインから超弦理論へ、宇宙の謎に迫る"},{"$f":"IF(商品マスタ!$B24=\"\",\"\",商品マスタ!$B24)","v":20},{"$f":"IF(商品マスタ!$C24=\"\",\"\",商品マスタ!$C24)","v":"重力とは何か アインシュタインから超弦理論へ、宇宙の謎に迫る"},{"$f":"在庫表示!F30","v":0},{"$nulls":6},20,"プロフェッショナル　５級例題集",20,"プロフェッショナル　５級例題集",0,{"$nulls":11},27]
[null,{"$f":"IF(商品マスタ!$B25=\"\",\"\",商品マスタ!$B25)","v":21},{"$f":"IF(商品マスタ!$C25=\"\",\"\",商品マスタ!$C25)","v":"図説 メイドインアビス 探窟記録【電子特典付き】"},{"$f":"IF(商品マスタ!$B25=\"\",\"\",商品マスタ!$B25)","v":21},{"$f":"IF(商品マスタ!$C25=\"\",\"\",商品マスタ!$C25)","v":"図説 メイドインアビス 探窟記録【電子特典付き】"},{"$f":"在庫表示!F31","v":0},{"$nulls":6},21,"プロフェッショナル　４級例題集",21,"プロフェッショナル　４級例題集",0,{"$nulls":11},28]
[null,{"$f":"IF(商品マスタ!$B26=\"\",\"\",商品マスタ!$B26)","v":22},{"$f":"IF(商品マスタ!$C26=\"\",\"\",商品マスタ!$C26)","v":"成功の秘密にアクセスできるギャラクシー・コード"},{"$f":"IF(商品マスタ!$B26=\"\",\"\",商品マスタ!$B26)","v":22},{"$f":"IF(商品マスタ!$C26=\"\",\"\",商品マスタ!$C26)","v":"成功の秘密にアクセスできるギャラクシー・コード"},{"$f":"在庫表示!F32","v":0},{"$nulls":6},22,"プロフェッショナル　５・４級ソロデモ・アマルガメーション",22,"プロフェッショナル　５・４級ソロデモ・アマルガメーション",0,{"$nulls":11},29]
[null,{"$f":"IF(商品マスタ!$B27=\"\",\"\",商品マスタ!$B27)","v":23},{"$f":"IF(商品マスタ!$C27=\"\",\"\",商品マスタ!$C27)","v":"太陽系 絶景画像50"},{"$f":"IF(商品マスタ!$B27=\"\",\"\",商品マスタ!$B27)","v":23},{"$f":"IF(商品マスタ!$C27=\"\",\"\",商品マスタ!$C27)","v":"太陽系 絶景画像50"},{"$f":"在庫表示!F33","v":0},{"$nulls":6},23,"プロフェッショナル　５・４級ソロデモDVD",23,"プロフェッショナル　５・４級ソロデモDVD",0,{"$nulls":11},30]
[null,{"$f":"IF(商品マスタ!$B28=\"\",\"\",商品マスタ!$B28)","v":24},{"$f":"IF(商品マスタ!$C28=\"\",\"\",商品マスタ!$C28)","v":"踊りませんか？ 社交ダンスの世界"},{"$f":"IF(商品マスタ!$B28=\"\",\"\",商品マスタ!$B28)","v":24},{"$f":"IF(商品マスタ!$C28=\"\",\"\",商品マスタ!$C28)","v":"踊りませんか？ 社交ダンスの世界"},{"$f":"在庫表示!F34","v":0},{"$nulls":6},24,"プロフェッショナル　５・４級ソロデモCD",24,"プロフェッショナル　５・４級ソロデモCD",0,{"$nulls":11},31]
[null,{"$f":"IF(商品マスタ!$B29=\"\",\"\",商品マスタ!$B29)","v":25},{"$f":"IF(商品マスタ!$C29=\"\",\"\",商品マスタ!$C29)","v":""},{"$f":"IF(商品マスタ!$B29=\"\",\"\",商品マスタ!$B29)","v":25},{"$f":"IF(商品マスタ!$C29=\"\",\"\",商品マスタ!$C29)","v":""},{"$f":"在庫表示!F35","v":""},{"$nulls":6},25,"プロフェッショナル　３級スタンダード例題集",25,"プロフェッショナル　３級スタンダード例題集",0,{"$nulls":11},32]
[null,{"$f":"IF(商品マスタ!$B30=\"\",\"\",商品マスタ!$B30)","v":26},{"$f":"IF(商品マスタ!$C30=\"\",\"\",商品マスタ!$C30)","v":""},{"$f":"IF(商品マスタ!$B30=\"\",\"\",商品マスタ!$B30)","v":26},{"$f":"IF(商品マスタ!$C30=\"\",\"\",商品マスタ!$C30)","v":""},{"$f":"在庫表示!F36","v":""},{"$nulls":6},26,"プロフェッショナル　３級ラテン例題集",26,"プロフェッショナル　３級ラテン例題集",0,{"$nulls":11},33]
[null,{"$f":"IF(商品マスタ!$B31=\"\",\"\",商品マスタ!$B31)","v":27},{"$f":"IF(商品マスタ!$C31=\"\",\"\",商品マスタ!$C31)","v":""},{"$f":"IF(商品マスタ!$B31=\"\",\"\",商品マスタ!$B31)","v":27},{"$f":"IF(商品マスタ!$C31=\"\",\"\",商品マスタ!$C31)","v":""},{"$f":"在庫表示!F37","v":""},{"$nulls":6},27,"プロフェッショナル　２級スタンダード筆記試験例題集",27,"プロフェッショナル　２級スタンダード筆記試験例題集",0,{"$nulls":11},34]
[null,{"$f":"IF(商品マスタ!$B32=\"\",\"\",商品マスタ!$B32)","v":28},{"$f":"IF(商品マスタ!$C32=\"\",\"\",商品マスタ!$C32)","v":""},{"$f":"IF(商品マスタ!$B32=\"\",\"\",商品マスタ!$B32)","v":28},{"$f":"IF(商品マスタ!$C32=\"\",\"\",商品マスタ!$C32)","v":""},{"$f":"在庫表示!F38","v":""},{"$nulls":6},28,"プロフェッショナル　２級ラテン筆記試験例題集",28,"プロフェッショナル　２級ラテン筆記試験例題集",0,{"$nulls":11},35]
[null,{"$f":"IF(商品マスタ!$B33=\"\",\"\",商品マスタ!$B33)","v":29},{"$f":"IF(商品マスタ!$C33=\"\",\"\",商品マスタ!$C33)","v":""},{"$f":"IF(商品マスタ!$B33=\"\",\"\",商品マスタ!$B33)","v":29},{"$f":"IF(商品マスタ!$C33=\"\",\"\",商品マスタ!$C33)","v":""},{"$f":"在庫表示!F39","v":""},{"$nulls":6},29,"プロフェッショナル　３・２級スタンダード質疑応答集",29,"プロフェッショナル　３・２級スタンダード質疑応答集",0,{"$nulls":11},36]
[null,{"$f":"IF(商品マスタ!$B34=\"\",\"\",商品マスタ!$B34)","v":30},{"$f":"IF(商品マスタ!$C34=\"\",\"\",商品マスタ!$C34)","v":""},{"$f":"IF(商品マスタ!$B34=\"\",\"\",商品マスタ!$B34)","v":30},{"$f":"IF(商品マスタ!$C34=\"\",\"\",商品マスタ!$C34)","v":""},{"$f":"在庫表示!F40","v":""},{"$nulls":6},30,"プロフェッショナル　３・２級ラテン質疑応答集",30,"プロフェッショナル　３・２級ラテン質疑応答集",0,{"$nulls":11},37]
[null,{"$f":"IF(商品マスタ!$B35=\"\",\"\",商品マスタ!$B35)","v":31},{"$f":"IF(商品マスタ!$C35=\"\",\"\",商品マスタ!$C35)","v":""},{"$f":"IF(商品マスタ!$B35=\"\",\"\",商品マスタ!$B35)","v":31},{"$f":"IF(商品マスタ!$C35=\"\",\"\",商品マスタ!$C35)","v":""},{"$f":"在庫表示!F41","v":""},{"$nulls":6},31,"アマチュア　指導教本",31,"アマチュア　指導教本",0,{"$nulls":11},38]
[null,{"$f":"IF(商品マスタ!$B36=\"\",\"\",商品マスタ!$B36)","v":32},{"$f":"IF(商品マスタ!$C36=\"\",\"\",商品マスタ!$C36)","v":""},{"$f":"IF(商品マスタ!$B36=\"\",\"\",商品マスタ!$B36)","v":32},{"$f":"IF(商品マスタ!$C36=\"\",\"\",商品マスタ!$C36)","v":""},{"$f":"在庫表示!F42","v":""},{"$nulls":6},32,"アマチュア　５級例題集",{"v":32,"d":"32 "},"アマチュア　５級例題集",0,{"$nulls":11},39]
[null,{"$f":"IF(商品マスタ!$B37=\"\",\"\",商品マスタ!$B37)","v":33},{"$f":"IF(商品マスタ!$C37=\"\",\"\",商品マスタ!$C37)","v":""},{"$f":"IF(商品マスタ!$B37=\"\",\"\",商品マスタ!$B37)","v":33},{"$f":"IF(商品マスタ!$C37=\"\",\"\",商品マスタ!$C37)","v":""},{"$f":"在庫表示!F43","v":""},{"$nulls":6},33,"アマチュア　４級例題集",33,"アマチュア　４級例題集",0,{"$nulls":11},40]
[null,{"$f":"IF(商品マスタ!$B38=\"\",\"\",商品マスタ!$B38)","v":34},{"$f":"IF(商品マスタ!$C38=\"\",\"\",商品マスタ!$C38)","v":""},{"$f":"IF(商品マスタ!$B38=\"\",\"\",商品マスタ!$B38)","v":34},{"$f":"IF(商品マスタ!$C38=\"\",\"\",商品マスタ!$C38)","v":""},{"$f":"在庫表示!F44","v":""},{"$nulls":6},34,"アマチュア　３級例題集",34,"アマチュア　３級例題集",0,{"$nulls":11},41]
[null,{"$f":"IF(商品マスタ!$B39=\"\",\"\",商品マスタ!$B39)","v":35},{"$f":"IF(商品マスタ!$C39=\"\",\"\",商品マスタ!$C39)","v":""},{"$f":"IF(商品マスタ!$B39=\"\",\"\",商品マスタ!$B39)","v":35},{"$f":"IF(商品マスタ!$C39=\"\",\"\",商品マスタ!$C39)","v":""},{"$f":"在庫表示!F45","v":""},{"$nulls":6},35,"アマチュア　２級例題集",35,"アマチュア　２級例題集",0,{"$nulls":11},42]
[null,{"$f":"IF(商品マスタ!$B40=\"\",\"\",商品マスタ!$B40)","v":36},{"$f":"IF(商品マスタ!$C40=\"\",\"\",商品マスタ!$C40)","v":""},{"$f":"IF(商品マスタ!$B40=\"\",\"\",商品マスタ!$B40)","v":36},{"$f":"IF(商品マスタ!$C40=\"\",\"\",商品マスタ!$C40)","v":""},{"$f":"在庫表示!F46","v":""},{"$nulls":6},36,"アマチュア　１級例題集",36,"アマチュア　１級例題集",0,{"$nulls":11},43]
[null,{"$f":"IF(商品マスタ!$B41=\"\",\"\",商品マスタ!$B41)","v":37},{"$f":"IF(商品マスタ!$C41=\"\",\"\",商品マスタ!$C41)","v":""},{"$f":"IF(商品マスタ!$B41=\"\",\"\",商品マスタ!$B41)","v":37},{"$f":"IF(商品マスタ!$C41=\"\",\"\",商品マスタ!$C41)","v":""},{"$f":"在庫表示!F47","v":""},{"$nulls":6},37,"アマチュア　５・４・３級ソロデモ・アマルガメーション",37,"アマチュア　５・４・３級ソロデモ・アマルガメーション",0,{"$nulls":11},44]
[null,{"$f":"IF(商品マスタ!$B42=\"\",\"\",商品マスタ!$B42)","v":38},{"$f":"IF(商品マスタ!$C42=\"\",\"\",商品マスタ!$C42)","v":""},{"$f":"IF(商品マスタ!$B42=\"\",\"\",商品マスタ!$B42)","v":38},{"$f":"IF(商品マスタ!$C42=\"\",\"\",商品マスタ!$C42)","v":""},{"$f":"在庫表示!F48","v":""},{"$nulls":6},38,"アマチュア　２・１級ソロデモ・アマルガメーション",38,"アマチュア　２・１級ソロデモ・アマルガメーション",0,{"$nulls":11},45]
[null,{"$f":"IF(商品マスタ!$B43=\"\",\"\",商品マスタ!$B43)","v":39},{"$f":"IF(商品マスタ!$C43=\"\",\"\",商品マスタ!$C43)","v":""},{"$f":"IF(商品マスタ!$B43=\"\",\"\",商品マスタ!$B43)","v":39},{"$f":"IF(商品マスタ!$C43=\"\",\"\",商品マスタ!$C43)","v":""},{"$f":"在庫表示!F49","v":""},{"$nulls":6},39,"アマチュア　５・４・３級ソロデモDVD",39,"アマチュア　５・４・３級ソロデモDVD",0,{"$nulls":11},46]
[null,{"$f":"IF(商品マスタ!$B44=\"\",\"\",商品マスタ!$B44)","v":40},{"$f":"IF(商品マスタ!$C44=\"\",\"\",商品マスタ!$C44)","v":""},{"$f":"IF(商品マスタ!$B44=\"\",\"\",商品マスタ!$B44)","v":40},{"$f":"IF(商品マスタ!$C44=\"\",\"\",商品マスタ!$C44)","v":""},{"$f":"在庫表示!F50","v":""},{"$nulls":6},40,"アマチュア　２・１級ソロデモDVD",40,"アマチュア　２・１級ソロデモDVD",0,{"$nulls":11},47]
[null,{"$f":"IF(商品マスタ!$B45=\"\",\"\",商品マスタ!$B45)","v":41},{"$f":"IF(商品マスタ!$C45=\"\",\"\",商品マスタ!$C45)","v":""},{"$f":"IF(商品マスタ!$B45=\"\",\"\",商品マスタ!$B45)","v":41},{"$f":"IF(商品マスタ!$C45=\"\",\"\",商品マスタ!$C45)","v":""},{"$f":"在庫表示!F51","v":""},{"$nulls":6},41,"アマチュア　５・４・３級ソロデモCD",41,"アマチュア　５・４・３級ソロデモCD",0,{"$nulls":11},48]
[null,{"$f":"IF(商品マスタ!$B46=\"\",\"\",商品マスタ!$B46)","v":42},{"$f":"IF(商品マスタ!$C46=\"\",\"\",商品マスタ!$C46)","v":""},{"$f":"IF(商品マスタ!$B46=\"\",\"\",商品マスタ!$B46)","v":42},{"$f":"IF(商品マスタ!$C46=\"\",\"\",商品マスタ!$C46)","v":""},{"$f":"在庫表示!F52","v":""},{"$nulls":6},42,"アマチュア　２・１級ソロデモCD",42,"アマチュア　２・１級ソロデモCD",0,{"$nulls":11},49]
[null,{"$f":"IF(商品マスタ!$B47=\"\",\"\",商品マスタ!$B47)","v":43},{"$f":"IF(商品マスタ!$C47=\"\",\"\",商品マスタ!$C47)","v":""},{"$f":"IF(商品マスタ!$B47=\"\",\"\",商品マスタ!$B47)","v":43},{"$f":"IF(商品マスタ!$C47=\"\",\"\",商品マスタ!$C47)","v":""},{"$f":"在庫表示!F53","v":""},{"$nulls":6},43,"ダンスマイライフCD　vol.7",43,"ダンスマイライフCD　vol.7",0,{"$nulls":11},50]
[null,{"$f":"IF(商品マスタ!$B48=\"\",\"\",商品マスタ!$B48)","v":44},{"$f":"IF(商品マスタ!$C48=\"\",\"\",商品マスタ!$C48)","v":""},{"$f":"IF(商品マスタ!$B48=\"\",\"\",商品マスタ!$B48)","v":44},{"$f":"IF(商品マスタ!$C48=\"\",\"\",商品マスタ!$C48)","v":""},{"$f":"在庫表示!F54","v":""},{"$nulls":6},44,"ダンスマイライフCD　vol.8",44,"ダンスマイライフCD　vol.8",0,{"$nulls":11},51]
[null,{"$f":"IF(商品マスタ!$B49=\"\",\"\",商品マスタ!$B49)","v":45},{"$f":"IF(商品マスタ!$C49=\"\",\"\",商品マスタ!$C49)","v":""},{"$f":"IF(商品マスタ!$B49=\"\",\"\",商品マスタ!$B49)","v":45},{"$f":"IF(商品マスタ!$C49=\"\",\"\",商品マスタ!$C49)","v":""},{"$f":"在庫表示!F55","v":""},{"$nulls":6},45,"ダンスマイライフCD　vol.9",45,"ダンスマイライフCD　vol.9",0,{"$nulls":11},52]
[null,{"$f":"IF(商品マスタ!$B50=\"\",\"\",商品マスタ!$B50)","v":46},{"$f":"IF(商品マスタ!$C50=\"\",\"\",商品マスタ!$C50)","v":""},{"$f":"IF(商品マスタ!$B50=\"\",\"\",商品マスタ!$B50)","v":46},{"$f":"IF(商品マスタ!$C50=\"\",\"\",商品マスタ!$C50)","v":""},{"$f":"在庫表示!F56","v":""},{"$nulls":6},46,"ポピュラーバリエーション第１集　DVD",46,"ポピュラーバリエーション第１集　DVD",0,{"$nulls":11},53]
[null,{"$f":"IF(商品マスタ!$B51=\"\",\"\",商品マスタ!$B51)","v":47},{"$f":"IF(商品マスタ!$C51=\"\",\"\",商品マスタ!$C51)","v":""},{"$f":"IF(商品マスタ!$B51=\"\",\"\",商品マスタ!$B51)","v":47},{"$f":"IF(商品マスタ!$C51=\"\",\"\",商品マスタ!$C51)","v":""},{"$f":"在庫表示!F57","v":""},{"$nulls":6},47,"ポピュラーバリエーション第１集　教本",47,"ポピュラーバリエーション第１集　教本",0,{"$nulls":11},54]
[null,{"$f":"IF(商品マスタ!$B52=\"\",\"\",商品マスタ!$B52)","v":48},{"$f":"IF(商品マスタ!$C52=\"\",\"\",商品マスタ!$C52)","v":""},{"$f":"IF(商品マスタ!$B52=\"\",\"\",商品マスタ!$B52)","v":48},{"$f":"IF(商品マスタ!$C52=\"\",\"\",商品マスタ!$C52)","v":""},{"$f":"在庫表示!F58","v":""},{"$nulls":6},48,"2017サマーセミナー　ポピュラーバリエーションDVD（Q・C）",48,"2017サマーセミナー　ポピュラーバリエーションDVD（Q・C）",0,{"$nulls":11},55]
[null,{"$f":"IF(商品マスタ!$B53=\"\",\"\",商品マスタ!$B53)","v":49},{"$f":"IF(商品マスタ!$C53=\"\",\"\",商品マスタ!$C53)","v":""},{"$f":"IF(商品マスタ!$B53=\"\",\"\",商品マスタ!$B53)","v":49},{"$f":"IF(商品マスタ!$C53=\"\",\"\",商品マスタ!$C53)","v":""},{"$f":"在庫表示!F59","v":""},{"$nulls":6},49,"2017サマーセミナー　みんなdeルンバⅡDVD",49,"2017サマーセミナー　みんなdeルンバⅡDVD",0,{"$nulls":11},56]
[null,{"$f":"IF(商品マスタ!$B54=\"\",\"\",商品マスタ!$B54)","v":50},{"$f":"IF(商品マスタ!$C54=\"\",\"\",商品マスタ!$C54)","v":""},{"$f":"IF(商品マスタ!$B54=\"\",\"\",商品マスタ!$B54)","v":50},{"$f":"IF(商品マスタ!$C54=\"\",\"\",商品マスタ!$C54)","v":""},{"$f":"在庫表示!F60","v":""},{"$nulls":6},50,"2017サマーセミナー　テキストブック",50,"2017サマーセミナー　テキストブック",0,{"$nulls":11},57]
[null,{"$f":"IF(商品マスタ!$B55=\"\",\"\",商品マスタ!$B55)","v":51},{"$f":"IF(商品マスタ!$C55=\"\",\"\",商品マスタ!$C55)","v":""},{"$f":"IF(商品マスタ!$B55=\"\",\"\",商品マスタ!$B55)","v":51},{"$f":"IF(商品マスタ!$C55=\"\",\"\",商品マスタ!$C55)","v":""},{"$f":"在庫表示!F61","v":""},{"$nulls":6},51,"2017サマーセミナー　記録DVD",51,"2017サマーセミナー　記録DVD",0,{"$nulls":11},58]
[null,{"$f":"IF(商品マスタ!$B56=\"\",\"\",商品マスタ!$B56)","v":52},{"$f":"IF(商品マスタ!$C56=\"\",\"\",商品マスタ!$C56)","v":""},{"$f":"IF(商品マスタ!$B56=\"\",\"\",商品マスタ!$B56)","v":52},{"$f":"IF(商品マスタ!$C56=\"\",\"\",商品マスタ!$C56)","v":""},{"$f":"在庫表示!F62","v":""},{"$nulls":6},52,"2010サマーセミナー　ポピュラーバリエーションDVD(T・J）",52,"2010サマーセミナー　ポピュラーバリエーションDVD(T・J）",0,{"$nulls":11},59]
[null,{"$f":"IF(商品マスタ!$B57=\"\",\"\",商品マスタ!$B57)","v":53},{"$f":"IF(商品マスタ!$C57=\"\",\"\",商品マスタ!$C57)","v":""},{"$f":"IF(商品マスタ!$B57=\"\",\"\",商品マスタ!$B57)","v":53},{"$f":"IF(商品マスタ!$C57=\"\",\"\",商品マスタ!$C57)","v":""},{"$f":"在庫表示!F63","v":""},{"$nulls":6},53,"2011サマーセミナー　ポピュラーバリエーションDVD(W・C）",53,"2011サマーセミナー　ポピュラーバリエーションDVD(W・C）",0,{"$nulls":11},60]
[null,{"$f":"IF(商品マスタ!$B58=\"\",\"\",商品マスタ!$B58)","v":54},{"$f":"IF(商品マスタ!$C58=\"\",\"\",商品マスタ!$C58)","v":""},{"$f":"IF(商品マスタ!$B58=\"\",\"\",商品マスタ!$B58)","v":54},{"$f":"IF(商品マスタ!$C58=\"\",\"\",商品マスタ!$C58)","v":""},{"$f":"在庫表示!F64","v":""},{"$nulls":6},54,"2012サマーセミナー　ポピュラーバリエーションDVD(F・R）",54,"2012サマーセミナー　ポピュラーバリエーションDVD(F・R）",0,{"$nulls":11},61]
[null,{"$f":"IF(商品マスタ!$B59=\"\",\"\",商品マスタ!$B59)","v":55},{"$f":"IF(商品マスタ!$C59=\"\",\"\",商品マスタ!$C59)","v":""},{"$f":"IF(商品マスタ!$B59=\"\",\"\",商品マスタ!$B59)","v":55},{"$f":"IF(商品マスタ!$C59=\"\",\"\",商品マスタ!$C59)","v":""},{"$f":"在庫表示!F65","v":""},{"$nulls":6},55,"2013サマーセミナー　ポピュラーバリエーションDVD(Q・S）",55,"2013サマーセミナー　ポピュラーバリエーションDVD(Q・S）",0,{"$nulls":11},62]
[null,{"$f":"IF(商品マスタ!$B60=\"\",\"\",商品マスタ!$B60)","v":56},{"$f":"IF(商品マスタ!$C60=\"\",\"\",商品マスタ!$C60)","v":""},{"$f":"IF(商品マスタ!$B60=\"\",\"\",商品マスタ!$B60)","v":56},{"$f":"IF(商品マスタ!$C60=\"\",\"\",商品マスタ!$C60)","v":""},{"$f":"在庫表示!F66","v":""},{"$nulls":6},56,"2014サマーセミナー　ポピュラーバリエーションDVD(T・P）",56,"2014サマーセミナー　ポピュラーバリエーションDVD(T・P）",0,{"$nulls":11},63]
[null,{"$f":"IF(商品マスタ!$B61=\"\",\"\",商品マスタ!$B61)","v":57},{"$f":"IF(商品マスタ!$C61=\"\",\"\",商品マスタ!$C61)","v":""},{"$f":"IF(商品マスタ!$B61=\"\",\"\",商品マスタ!$B61)","v":57},{"$f":"IF(商品マスタ!$C61=\"\",\"\",商品マスタ!$C61)","v":""},{"$f":"在庫表示!F67","v":""},{"$nulls":6},57,"2015サマーセミナー　ポピュラーバリエーションDVD(W・J）",57,"2015サマーセミナー　ポピュラーバリエーションDVD(W・J）",0,{"$nulls":11},64]
[null,{"$f":"IF(商品マスタ!$B62=\"\",\"\",商品マスタ!$B62)","v":58},{"$f":"IF(商品マスタ!$C62=\"\",\"\",商品マスタ!$C62)","v":""},{"$f":"IF(商品マスタ!$B62=\"\",\"\",商品マスタ!$B62)","v":58},{"$f":"IF(商品マスタ!$C62=\"\",\"\",商品マスタ!$C62)","v":""},{"$f":"在庫表示!F68","v":""},{"$nulls":6},58,"2016サマーセミナー　ポピュラーバリエーションDVD(F・R）",58,"2016サマーセミナー　ポピュラーバリエーションDVD(F・R）",0,{"$nulls":11},65]
[null,{"$f":"IF(商品マスタ!$B63=\"\",\"\",商品マスタ!$B63)","v":59},{"$f":"IF(商品マスタ!$C63=\"\",\"\",商品マスタ!$C63)","v":""},{"$f":"IF(商品マスタ!$B63=\"\",\"\",商品マスタ!$B63)","v":59},{"$f":"IF(商品マスタ!$C63=\"\",\"\",商品マスタ!$C63)","v":""},{"$f":"在庫表示!F69","v":""},{"$nulls":6},59,"みんなdeタンゴ",59,"みんなdeタンゴ",0,{"$nulls":11},66]
[null,{"$f":"IF(商品マスタ!$B64=\"\",\"\",商品マスタ!$B64)","v":60},{"$f":"IF(商品マスタ!$C64=\"\",\"\",商品マスタ!$C64)","v":""},{"$f":"IF(商品マスタ!$B64=\"\",\"\",商品マスタ!$B64)","v":60},{"$f":"IF(商品マスタ!$C64=\"\",\"\",商品マスタ!$C64)","v":""},{"$f":"在庫表示!F70","v":""},{"$nulls":6},60,"みんなdeチャチャチャⅡ",60,"みんなdeチャチャチャⅡ",0,{"$nulls":11},67]
[null,{"$f":"IF(商品マスタ!$B65=\"\",\"\",商品マスタ!$B65)","v":61},{"$f":"IF(商品マスタ!$C65=\"\",\"\",商品マスタ!$C65)","v":""},{"$f":"IF(商品マスタ!$B65=\"\",\"\",商品マスタ!$B65)","v":61},{"$f":"IF(商品マスタ!$C65=\"\",\"\",商品マスタ!$C65)","v":""},{"$f":"在庫表示!F71","v":""},{"$nulls":6},61,"2015サマーセミナー　テキストブック",61,"2015サマーセミナー　テキストブック",0,{"$nulls":11},68]
[null,{"$f":"IF(商品マスタ!$B66=\"\",\"\",商品マスタ!$B66)","v":62},{"$f":"IF(商品マスタ!$C66=\"\",\"\",商品マスタ!$C66)","v":""},{"$f":"IF(商品マスタ!$B66=\"\",\"\",商品マスタ!$B66)","v":62},{"$f":"IF(商品マスタ!$C66=\"\",\"\",商品マスタ!$C66)","v":""},{"$f":"在庫表示!F72","v":""},{"$nulls":6},62,"2016サマーセミナー　テキストブック",62,"2016サマーセミナー　テキストブック",0,{"$nulls":11},69]
[null,{"$f":"IF(商品マスタ!$B67=\"\",\"\",商品マスタ!$B67)","v":63},{"$f":"IF(商品マスタ!$C67=\"\",\"\",商品マスタ!$C67)","v":""},{"$f":"IF(商品マスタ!$B67=\"\",\"\",商品マスタ!$B67)","v":63},{"$f":"IF(商品マスタ!$C67=\"\",\"\",商品マスタ!$C67)","v":""},{"$f":"在庫表示!F73","v":""},{"$nulls":6},63,"日本インター規定フィガー集DVD",63,"日本インター規定フィガー集DVD",0,{"$nulls":11},70]
[null,{"$f":"IF(商品マスタ!$B68=\"\",\"\",商品マスタ!$B68)","v":64},{"$f":"IF(商品マスタ!$C68=\"\",\"\",商品マスタ!$C68)","v":""},{"$f":"IF(商品マスタ!$B68=\"\",\"\",商品マスタ!$B68)","v":64},{"$f":"IF(商品マスタ!$C68=\"\",\"\",商品マスタ!$C68)","v":""},{"$f":"在庫表示!F74","v":""},{"$nulls":6},64,"WDSF　教本　ワルツ",64,"WDSF　教本　ワルツ",0,{"$nulls":11},71]
[null,{"$f":"IF(商品マスタ!$B69=\"\",\"\",商品マスタ!$B69)","v":65},{"$f":"IF(商品マスタ!$C69=\"\",\"\",商品マスタ!$C69)","v":""},{"$f":"IF(商品マスタ!$B69=\"\",\"\",商品マスタ!$B69)","v":65},{"$f":"IF(商品マスタ!$C69=\"\",\"\",商品マスタ!$C69)","v":""},{"$f":"在庫表示!F75","v":""},{"$nulls":6},65,"WDSF　教本　スローフォックストロット",65,"WDSF　教本　スローフォックストロット",0,{"$nulls":11},72]
[null,{"$f":"IF(商品マスタ!$B70=\"\",\"\",商品マスタ!$B70)","v":66},{"$f":"IF(商品マスタ!$C70=\"\",\"\",商品マスタ!$C70)","v":""},{"$f":"IF(商品マスタ!$B70=\"\",\"\",商品マスタ!$B70)","v":66},{"$f":"IF(商品マスタ!$C70=\"\",\"\",商品マスタ!$C70)","v":""},{"$f":"在庫表示!F76","v":""},{"$nulls":6},66,"WDSF　教本　タンゴ",66,"WDSF　教本　タンゴ",0,{"$nulls":11},73]
[null,{"$f":"IF(商品マスタ!$B71=\"\",\"\",商品マスタ!$B71)","v":67},{"$f":"IF(商品マスタ!$C71=\"\",\"\",商品マスタ!$C71)","v":""},{"$f":"IF(商品マスタ!$B71=\"\",\"\",商品マスタ!$B71)","v":67},{"$f":"IF(商品マスタ!$C71=\"\",\"\",商品マスタ!$C71)","v":""},{"$f":"在庫表示!F77","v":""},{"$nulls":6},67,"WDSF　教本　ルンバ",67,"WDSF　教本　ルンバ",0,{"$nulls":11},74]
[null,{"$f":"IF(商品マスタ!$B72=\"\",\"\",商品マスタ!$B72)","v":68},{"$f":"IF(商品マスタ!$C72=\"\",\"\",商品マスタ!$C72)","v":""},{"$f":"IF(商品マスタ!$B72=\"\",\"\",商品マスタ!$B72)","v":68},{"$f":"IF(商品マスタ!$C72=\"\",\"\",商品マスタ!$C72)","v":""},{"$f":"在庫表示!F78","v":""},{"$nulls":6},68,"WDSF　教本　チャチャチャ",68,"WDSF　教本　チャチャチャ",0,{"$nulls":11},75]
[null,{"$f":"IF(商品マスタ!$B73=\"\",\"\",商品マスタ!$B73)","v":69},{"$f":"IF(商品マスタ!$C73=\"\",\"\",商品マスタ!$C73)","v":""},{"$f":"IF(商品マスタ!$B73=\"\",\"\",商品マスタ!$B73)","v":69},{"$f":"IF(商品マスタ!$C73=\"\",\"\",商品マスタ!$C73)","v":""},{"$f":"在庫表示!F79","v":""},{"$nulls":6},69,"WDSF　DVD　ワルツ",69,"WDSF　DVD　ワルツ",0,{"$nulls":11},76]
[null,{"$f":"IF(商品マスタ!$B74=\"\",\"\",商品マスタ!$B74)","v":70},{"$f":"IF(商品マスタ!$C74=\"\",\"\",商品マスタ!$C74)","v":""},{"$f":"IF(商品マスタ!$B74=\"\",\"\",商品マスタ!$B74)","v":70},{"$f":"IF(商品マスタ!$C74=\"\",\"\",商品マスタ!$C74)","v":""},{"$f":"在庫表示!F80","v":""},{"$nulls":6},70,"WDSF　DVD　ルンバ",70,"WDSF　DVD　ルンバ",0,{"$nulls":11},77]
[null,{"$f":"IF(商品マスタ!$B75=\"\",\"\",商品マスタ!$B75)","v":71},{"$f":"IF(商品マスタ!$C75=\"\",\"\",商品マスタ!$C75)","v":""},{"$f":"IF(商品マスタ!$B75=\"\",\"\",商品マスタ!$B75)","v":71},{"$f":"IF(商品マスタ!$C75=\"\",\"\",商品マスタ!$C75)","v":""},{"$f":"在庫表示!F81","v":""},{"$nulls":6},71,"IDTAテクニックオブボールルームダンシング（ガイ・ハワード）",71,"IDTAテクニックオブボールルームダンシング（ガイ・ハワード）",0,{"$nulls":11},78]
[null,{"$f":"IF(商品マスタ!$B76=\"\",\"\",商品マスタ!$B76)","v":72},{"$f":"IF(商品マスタ!$C76=\"\",\"\",商品マスタ!$C76)","v":""},{"$f":"IF(商品マスタ!$B76=\"\",\"\",商品マスタ!$B76)","v":72},{"$f":"IF(商品マスタ!$C76=\"\",\"\",商品マスタ!$C76)","v":""},{"$f":"在庫表示!F82","v":""},{"$nulls":6},72,"IDTAテクニックオブラテンダンシング（ウォルター・レアード）",72,"IDTAテクニックオブラテンダンシング（ウォルター・レアード）",0,{"$nulls":11},79]
[null,{"$f":"IF(商品マスタ!$B77=\"\",\"\",商品マスタ!$B77)","v":73},{"$f":"IF(商品マスタ!$C77=\"\",\"\",商品マスタ!$C77)","v":""},{"$f":"IF(商品マスタ!$B77=\"\",\"\",商品マスタ!$B77)","v":73},{"$f":"IF(商品マスタ!$C77=\"\",\"\",商品マスタ!$C77)","v":""},{"$f":"在庫表示!F83","v":""},{"$nulls":6},73,"",73,"","",{"$nulls":11},80]
[null,{"$f":"IF(商品マスタ!$B78=\"\",\"\",商品マスタ!$B78)","v":74},{"$f":"IF(商品マスタ!$C78=\"\",\"\",商品マスタ!$C78)","v":""},{"$f":"IF(商品マスタ!$B78=\"\",\"\",商品マスタ!$B78)","v":74},{"$f":"IF(商品マスタ!$C78=\"\",\"\",商品マスタ!$C78)","v":""},{"$f":"在庫表示!F84","v":""},{"$nulls":6},74,"送料（ヤマト便）",74,"送料（ヤマト便）",0,{"$nulls":11},81]
[null,{"$f":"IF(商品マスタ!$B79=\"\",\"\",商品マスタ!$B79)","v":75},{"$f":"IF(商品マスタ!$C79=\"\",\"\",商品マスタ!$C79)","v":""},{"$f":"IF(商品マスタ!$B79=\"\",\"\",商品マスタ!$B79)","v":75},{"$f":"IF(商品マスタ!$C79=\"\",\"\",商品マスタ!$C79)","v":""},{"$f":"在庫表示!F85","v":""},{"$nulls":6},75,"代引き手数料",75,"代引き手数料",0,{"$nulls":11},82]
[null,{"$f":"IF(商品マスタ!$B80=\"\",\"\",商品マスタ!$B80)","v":76},{"$f":"IF(商品マスタ!$C80=\"\",\"\",商品マスタ!$C80)","v":""},{"$f":"IF(商品マスタ!$B80=\"\",\"\",商品マスタ!$B80)","v":76},{"$f":"IF(商品マスタ!$C80=\"\",\"\",商品マスタ!$C80)","v":""},{"$f":"在庫表示!F86","v":""},{"$nulls":6},76,"",76,"","",{"$nulls":11},83]
[null,{"$f":"IF(商品マスタ!$B81=\"\",\"\",商品マスタ!$B81)","v":77},{"$f":"IF(商品マスタ!$C81=\"\",\"\",商品マスタ!$C81)","v":""},{"$f":"IF(商品マスタ!$B81=\"\",\"\",商品マスタ!$B81)","v":77},{"$f":"IF(商品マスタ!$C81=\"\",\"\",商品マスタ!$C81)","v":""},{"$f":"在庫表示!F87","v":""},{"$nulls":6},77,"",77,"","",{"$nulls":11},84]
[null,{"$f":"IF(商品マスタ!$B82=\"\",\"\",商品マスタ!$B82)","v":78},{"$f":"IF(商品マスタ!$C82=\"\",\"\",商品マスタ!$C82)","v":""},{"$f":"IF(商品マスタ!$B82=\"\",\"\",商品マスタ!$B82)","v":78},{"$f":"IF(商品マスタ!$C82=\"\",\"\",商品マスタ!$C82)","v":""},{"$f":"在庫表示!F88","v":""},{"$nulls":6},78,"",78,"","",{"$nulls":11},85]
[null,{"$f":"IF(商品マスタ!$B83=\"\",\"\",商品マスタ!$B83)","v":79},{"$f":"IF(商品マスタ!$C83=\"\",\"\",商品マスタ!$C83)","v":""},{"$f":"IF(商品マスタ!$B83=\"\",\"\",商品マスタ!$B83)","v":79},{"$f":"IF(商品マスタ!$C83=\"\",\"\",商品マスタ!$C83)","v":""},{"$f":"在庫表示!F89","v":""},{"$nulls":6},79,"",79,"","",{"$nulls":11},86]
[null,{"$f":"IF(商品マスタ!$B84=\"\",\"\",商品マスタ!$B84)","v":80},{"$f":"IF(商品マスタ!$C84=\"\",\"\",商品マスタ!$C84)","v":""},{"$f":"IF(商品マスタ!$B84=\"\",\"\",商品マスタ!$B84)","v":80},{"$f":"IF(商品マスタ!$C84=\"\",\"\",商品マスタ!$C84)","v":""},{"$f":"在庫表示!F90","v":""},{"$nulls":6},80,"",80,"","",{"$nulls":11},87]
[null,{"$f":"IF(商品マスタ!$B85=\"\",\"\",商品マスタ!$B85)","v":81},{"$f":"IF(商品マスタ!$C85=\"\",\"\",商品マスタ!$C85)","v":""},{"$f":"IF(商品マスタ!$B85=\"\",\"\",商品マスタ!$B85)","v":81},{"$f":"IF(商品マスタ!$C85=\"\",\"\",商品マスタ!$C85)","v":""},{"$f":"在庫表示!F91","v":""},{"$nulls":6},81,"",81,"","",{"$nulls":11},88]
[null,{"$f":"IF(商品マスタ!$B86=\"\",\"\",商品マスタ!$B86)","v":82},{"$f":"IF(商品マスタ!$C86=\"\",\"\",商品マスタ!$C86)","v":""},{"$f":"IF(商品マスタ!$B86=\"\",\"\",商品マスタ!$B86)","v":82},{"$f":"IF(商品マスタ!$C86=\"\",\"\",商品マスタ!$C86)","v":""},{"$f":"在庫表示!F92","v":""},{"$nulls":6},82,"",82,"","",{"$nulls":11},89]
[null,{"$f":"IF(商品マスタ!$B87=\"\",\"\",商品マスタ!$B87)","v":83},{"$f":"IF(商品マスタ!$C87=\"\",\"\",商品マスタ!$C87)","v":""},{"$f":"IF(商品マスタ!$B87=\"\",\"\",商品マスタ!$B87)","v":83},{"$f":"IF(商品マスタ!$C87=\"\",\"\",商品マスタ!$C87)","v":""},{"$f":"在庫表示!F93","v":""},{"$nulls":6},83,"",83,"","",{"$nulls":11},90]
[null,{"$f":"IF(商品マスタ!$B88=\"\",\"\",商品マスタ!$B88)","v":84},{"$f":"IF(商品マスタ!$C88=\"\",\"\",商品マスタ!$C88)","v":""},{"$f":"IF(商品マスタ!$B88=\"\",\"\",商品マスタ!$B88)","v":84},{"$f":"IF(商品マスタ!$C88=\"\",\"\",商品マスタ!$C88)","v":""},{"$f":"在庫表示!F94","v":""},{"$nulls":6},84,"",84,"","",{"$nulls":11},91]
[null,{"$f":"IF(商品マスタ!$B89=\"\",\"\",商品マスタ!$B89)","v":85},{"$f":"IF(商品マスタ!$C89=\"\",\"\",商品マスタ!$C89)","v":""},{"$f":"IF(商品マスタ!$B89=\"\",\"\",商品マスタ!$B89)","v":85},{"$f":"IF(商品マスタ!$C89=\"\",\"\",商品マスタ!$C89)","v":""},{"$f":"在庫表示!F95","v":""},{"$nulls":6},85,"",85,"","",{"$nulls":11},92]
[null,{"$f":"IF(商品マスタ!$B90=\"\",\"\",商品マスタ!$B90)","v":86},{"$f":"IF(商品マスタ!$C90=\"\",\"\",商品マスタ!$C90)","v":""},{"$f":"IF(商品マスタ!$B90=\"\",\"\",商品マスタ!$B90)","v":86},{"$f":"IF(商品マスタ!$C90=\"\",\"\",商品マスタ!$C90)","v":""},{"$f":"在庫表示!F96","v":""},{"$nulls":6},86,"",86,"","",{"$nulls":11},93]
[null,{"$f":"IF(商品マスタ!$B91=\"\",\"\",商品マスタ!$B91)","v":87},{"$f":"IF(商品マスタ!$C91=\"\",\"\",商品マスタ!$C91)","v":""},{"$f":"IF(商品マスタ!$B91=\"\",\"\",商品マスタ!$B91)","v":87},{"$f":"IF(商品マスタ!$C91=\"\",\"\",商品マスタ!$C91)","v":""},{"$f":"在庫表示!F97","v":""},{"$nulls":6},87,"",87,"","",{"$nulls":11},94]
[null,{"$f":"IF(商品マスタ!$B92=\"\",\"\",商品マスタ!$B92)","v":88},{"$f":"IF(商品マスタ!$C92=\"\",\"\",商品マスタ!$C92)","v":""},{"$f":"IF(商品マスタ!$B92=\"\",\"\",商品マスタ!$B92)","v":88},{"$f":"IF(商品マスタ!$C92=\"\",\"\",商品マスタ!$C92)","v":""},{"$f":"在庫表示!F98","v":""},{"$nulls":6},88,"",88,"","",{"$nulls":11},95]
[null,{"$f":"IF(商品マスタ!$B93=\"\",\"\",商品マスタ!$B93)","v":89},{"$f":"IF(商品マスタ!$C93=\"\",\"\",商品マスタ!$C93)","v":""},{"$f":"IF(商品マスタ!$B93=\"\",\"\",商品マスタ!$B93)","v":89},{"$f":"IF(商品マスタ!$C93=\"\",\"\",商品マスタ!$C93)","v":""},{"$f":"在庫表示!F99","v":""},{"$nulls":6},89,"",89,"","",{"$nulls":11},96]
[null,{"$f":"IF(商品マスタ!$B94=\"\",\"\",商品マスタ!$B94)","v":90},{"$f":"IF(商品マスタ!$C94=\"\",\"\",商品マスタ!$C94)","v":""},{"$f":"IF(商品マスタ!$B94=\"\",\"\",商品マスタ!$B94)","v":90},{"$f":"IF(商品マスタ!$C94=\"\",\"\",商品マスタ!$C94)","v":""},{"$f":"在庫表示!F100","v":""},{"$nulls":6},90,"",90,"","",{"$nulls":11},97]
[null,{"$f":"IF(商品マスタ!$B95=\"\",\"\",商品マスタ!$B95)","v":91},{"$f":"IF(商品マスタ!$C95=\"\",\"\",商品マスタ!$C95)","v":""},{"$f":"IF(商品マスタ!$B95=\"\",\"\",商品マスタ!$B95)","v":91},{"$f":"IF(商品マスタ!$C95=\"\",\"\",商品マスタ!$C95)","v":""},{"$f":"在庫表示!F101","v":""},{"$nulls":6},91,"",91,"","",{"$nulls":11},98]
[null,{"$f":"IF(商品マスタ!$B96=\"\",\"\",商品マスタ!$B96)","v":92},{"$f":"IF(商品マスタ!$C96=\"\",\"\",商品マスタ!$C96)","v":""},{"$f":"IF(商品マスタ!$B96=\"\",\"\",商品マスタ!$B96)","v":92},{"$f":"IF(商品マスタ!$C96=\"\",\"\",商品マスタ!$C96)","v":""},{"$f":"在庫表示!F102","v":""},{"$nulls":6},92,"",92,"","",{"$nulls":11},99]
[null,{"$f":"IF(商品マスタ!$B97=\"\",\"\",商品マスタ!$B97)","v":93},{"$f":"IF(商品マスタ!$C97=\"\",\"\",商品マスタ!$C97)","v":""},{"$f":"IF(商品マスタ!$B97=\"\",\"\",商品マスタ!$B97)","v":93},{"$f":"IF(商品マスタ!$C97=\"\",\"\",商品マスタ!$C97)","v":""},{"$f":"在庫表示!F103","v":""},{"$nulls":6},93,"",93,"","",{"$nulls":11},100]
[null,{"$f":"IF(商品マスタ!$B98=\"\",\"\",商品マスタ!$B98)","v":94},{"$f":"IF(商品マスタ!$C98=\"\",\"\",商品マスタ!$C98)","v":""},{"$f":"IF(商品マスタ!$B98=\"\",\"\",商品マスタ!$B98)","v":94},{"$f":"IF(商品マスタ!$C98=\"\",\"\",商品マスタ!$C98)","v":""},{"$f":"在庫表示!F104","v":""},{"$nulls":6},94,"",94,"","",{"$nulls":11},101]
[null,{"$f":"IF(商品マスタ!$B99=\"\",\"\",商品マスタ!$B99)","v":95},{"$f":"IF(商品マスタ!$C99=\"\",\"\",商品マスタ!$C99)","v":""},{"$f":"IF(商品マスタ!$B99=\"\",\"\",商品マスタ!$B99)","v":95},{"$f":"IF(商品マスタ!$C99=\"\",\"\",商品マスタ!$C99)","v":""},{"$f":"在庫表示!F105","v":""},{"$nulls":6},95,"",95,"","",{"$nulls":11},102]
[null,{"$f":"IF(商品マスタ!$B100=\"\",\"\",商品マスタ!$B100)","v":96},{"$f":"IF(商品マスタ!$C100=\"\",\"\",商品マスタ!$C100)","v":""},{"$f":"IF(商品マスタ!$B100=\"\",\"\",商品マスタ!$B100)","v":96},{"$f":"IF(商品マスタ!$C100=\"\",\"\",商品マスタ!$C100)","v":""},{"$f":"在庫表示!F106","v":""},{"$nulls":6},96,"",96,"","",{"$nulls":11},103]
[null,{"$f":"IF(商品マスタ!$B101=\"\",\"\",商品マスタ!$B101)","v":97},{"$f":"IF(商品マスタ!$C101=\"\",\"\",商品マスタ!$C101)","v":""},{"$f":"IF(商品マスタ!$B101=\"\",\"\",商品マスタ!$B101)","v":97},{"$f":"IF(商品マスタ!$C101=\"\",\"\",商品マスタ!$C101)","v":""},{"$f":"在庫表示!F107","v":""},{"$nulls":6},97,"",97,"","",{"$nulls":11},104]
[null,{"$f":"IF(商品マスタ!$B102=\"\",\"\",商品マスタ!$B102)","v":98},{"$f":"IF(商品マスタ!$C102=\"\",\"\",商品マスタ!$C102)","v":""},{"$f":"IF(商品マスタ!$B102=\"\",\"\",商品マスタ!$B102)","v":98},{"$f":"IF(商品マスタ!$C102=\"\",\"\",商品マスタ!$C102)","v":""},{"$f":"在庫表示!F108","v":""},{"$nulls":6},98,"",98,"","",{"$nulls":11},105]
[null,{"$f":"IF(商品マスタ!$B103=\"\",\"\",商品マスタ!$B103)","v":99},{"$f":"IF(商品マスタ!$C103=\"\",\"\",商品マスタ!$C103)","v":""},{"$f":"IF(商品マスタ!$B103=\"\",\"\",商品マスタ!$B103)","v":99},{"$f":"IF(商品マスタ!$C103=\"\",\"\",商品マスタ!$C103)","v":""},{"$f":"在庫表示!F109","v":""},{"$nulls":6},99,"",99,"","",{"$nulls":11},106]
[null,{"$f":"IF(商品マスタ!$B104=\"\",\"\",商品マスタ!$B104)","v":100},{"$f":"IF(商品マスタ!$C104=\"\",\"\",商品マスタ!$C104)","v":""},{"$f":"IF(商品マスタ!$B104=\"\",\"\",商品マスタ!$B104)","v":100},{"$f":"IF(商品マスタ!$C104=\"\",\"\",商品マスタ!$C104)","v":""},{"$f":"在庫表示!F110","v":""},{"$nulls":6},100,"",100,"","",{"$nulls":11},107]
[null,{"$f":"IF(商品マスタ!$B105=\"\",\"\",商品マスタ!$B105)","v":101},{"$f":"IF(商品マスタ!$C105=\"\",\"\",商品マスタ!$C105)","v":""},{"$f":"IF(商品マスタ!$B105=\"\",\"\",商品マスタ!$B105)","v":101},{"$f":"IF(商品マスタ!$C105=\"\",\"\",商品マスタ!$C105)","v":""},{"$f":"在庫表示!F111","v":""},{"$nulls":6},101,"",101,"","",{"$nulls":11},108]
[null,{"$f":"IF(商品マスタ!$B106=\"\",\"\",商品マスタ!$B106)","v":102},{"$f":"IF(商品マスタ!$C106=\"\",\"\",商品マスタ!$C106)","v":""},{"$f":"IF(商品マスタ!$B106=\"\",\"\",商品マスタ!$B106)","v":102},{"$f":"IF(商品マスタ!$C106=\"\",\"\",商品マスタ!$C106)","v":""},{"$f":"在庫表示!F112","v":""},{"$nulls":6},102,"",102,"","",{"$nulls":11},109]
[null,{"$f":"IF(商品マスタ!$B107=\"\",\"\",商品マスタ!$B107)","v":103},{"$f":"IF(商品マスタ!$C107=\"\",\"\",商品マスタ!$C107)","v":""},{"$f":"IF(商品マスタ!$B107=\"\",\"\",商品マスタ!$B107)","v":103},{"$f":"IF(商品マスタ!$C107=\"\",\"\",商品マスタ!$C107)","v":""},{"$f":"在庫表示!F113","v":""},{"$nulls":6},103,"",103,"","",{"$nulls":11},110]
[null,{"$f":"IF(商品マスタ!$B108=\"\",\"\",商品マスタ!$B108)","v":104},{"$f":"IF(商品マスタ!$C108=\"\",\"\",商品マスタ!$C108)","v":""},{"$f":"IF(商品マスタ!$B108=\"\",\"\",商品マスタ!$B108)","v":104},{"$f":"IF(商品マスタ!$C108=\"\",\"\",商品マスタ!$C108)","v":""},{"$f":"在庫表示!F114","v":""},{"$nulls":6},104,"",104,"","",{"$nulls":11},111]
[null,{"$f":"IF(商品マスタ!$B109=\"\",\"\",商品マスタ!$B109)","v":105},{"$f":"IF(商品マスタ!$C109=\"\",\"\",商品マスタ!$C109)","v":""},{"$f":"IF(商品マスタ!$B109=\"\",\"\",商品マスタ!$B109)","v":105},{"$f":"IF(商品マスタ!$C109=\"\",\"\",商品マスタ!$C109)","v":""},{"$f":"在庫表示!F115","v":""},{"$nulls":6},105,"",105,"","",{"$nulls":11},112]
[null,{"$f":"IF(商品マスタ!$B110=\"\",\"\",商品マスタ!$B110)","v":106},{"$f":"IF(商品マスタ!$C110=\"\",\"\",商品マスタ!$C110)","v":""},{"$f":"IF(商品マスタ!$B110=\"\",\"\",商品マスタ!$B110)","v":106},{"$f":"IF(商品マスタ!$C110=\"\",\"\",商品マスタ!$C110)","v":""},{"$f":"在庫表示!F116","v":""},{"$nulls":6},106,"",106,"","",{"$nulls":11},113]
[null,{"$f":"IF(商品マスタ!$B111=\"\",\"\",商品マスタ!$B111)","v":107},{"$f":"IF(商品マスタ!$C111=\"\",\"\",商品マスタ!$C111)","v":""},{"$f":"IF(商品マスタ!$B111=\"\",\"\",商品マスタ!$B111)","v":107},{"$f":"IF(商品マスタ!$C111=\"\",\"\",商品マスタ!$C111)","v":""},{"$f":"在庫表示!F117","v":""},{"$nulls":6},107,"",107,"","",{"$nulls":11},114]
[null,{"$f":"IF(商品マスタ!$B112=\"\",\"\",商品マスタ!$B112)","v":108},{"$f":"IF(商品マスタ!$C112=\"\",\"\",商品マスタ!$C112)","v":""},{"$f":"IF(商品マスタ!$B112=\"\",\"\",商品マスタ!$B112)","v":108},{"$f":"IF(商品マスタ!$C112=\"\",\"\",商品マスタ!$C112)","v":""},{"$f":"在庫表示!F118","v":""},{"$nulls":6},108,"",108,"","",{"$nulls":11},115]
[null,{"$f":"IF(商品マスタ!$B113=\"\",\"\",商品マスタ!$B113)","v":109},{"$f":"IF(商品マスタ!$C113=\"\",\"\",商品マスタ!$C113)","v":""},{"$f":"IF(商品マスタ!$B113=\"\",\"\",商品マスタ!$B113)","v":109},{"$f":"IF(商品マスタ!$C113=\"\",\"\",商品マスタ!$C113)","v":""},{"$f":"在庫表示!F119","v":""},{"$nulls":6},109,"",109,"","",{"$nulls":11},116]
[null,{"$f":"IF(商品マスタ!$B114=\"\",\"\",商品マスタ!$B114)","v":110},{"$f":"IF(商品マスタ!$C114=\"\",\"\",商品マスタ!$C114)","v":""},{"$f":"IF(商品マスタ!$B114=\"\",\"\",商品マスタ!$B114)","v":110},{"$f":"IF(商品マスタ!$C114=\"\",\"\",商品マスタ!$C114)","v":""},{"$f":"在庫表示!F120","v":""},{"$nulls":6},110,"",110,"","",{"$nulls":11},117]
[null,{"$f":"IF(商品マスタ!$B115=\"\",\"\",商品マスタ!$B115)","v":111},{"$f":"IF(商品マスタ!$C115=\"\",\"\",商品マスタ!$C115)","v":""},{"$f":"IF(商品マスタ!$B115=\"\",\"\",商品マスタ!$B115)","v":111},{"$f":"IF(商品マスタ!$C115=\"\",\"\",商品マスタ!$C115)","v":""},{"$f":"在庫表示!F121","v":""},{"$nulls":6},111,"",111,"","",{"$nulls":11},118]
[null,{"$f":"IF(商品マスタ!$B116=\"\",\"\",商品マスタ!$B116)","v":112},{"$f":"IF(商品マスタ!$C116=\"\",\"\",商品マスタ!$C116)","v":""},{"$f":"IF(商品マスタ!$B116=\"\",\"\",商品マスタ!$B116)","v":112},{"$f":"IF(商品マスタ!$C116=\"\",\"\",商品マスタ!$C116)","v":""},{"$f":"在庫表示!F122","v":""},{"$nulls":6},112,"",112,"","",{"$nulls":11},119]
[null,{"$f":"IF(商品マスタ!$B117=\"\",\"\",商品マスタ!$B117)","v":113},{"$f":"IF(商品マスタ!$C117=\"\",\"\",商品マスタ!$C117)","v":""},{"$f":"IF(商品マスタ!$B117=\"\",\"\",商品マスタ!$B117)","v":113},{"$f":"IF(商品マスタ!$C117=\"\",\"\",商品マスタ!$C117)","v":""},{"$f":"在庫表示!F123","v":""},{"$nulls":6},113,"",113,"","",{"$nulls":11},120]
[null,{"$f":"IF(商品マスタ!$B118=\"\",\"\",商品マスタ!$B118)","v":114},{"$f":"IF(商品マスタ!$C118=\"\",\"\",商品マスタ!$C118)","v":""},{"$f":"IF(商品マスタ!$B118=\"\",\"\",商品マスタ!$B118)","v":114},{"$f":"IF(商品マスタ!$C118=\"\",\"\",商品マスタ!$C118)","v":""},{"$f":"在庫表示!F124","v":""},{"$nulls":6},114,"",114,"","",{"$nulls":11},121]
[null,{"$f":"IF(商品マスタ!$B119=\"\",\"\",商品マスタ!$B119)","v":115},{"$f":"IF(商品マスタ!$C119=\"\",\"\",商品マスタ!$C119)","v":""},{"$f":"IF(商品マスタ!$B119=\"\",\"\",商品マスタ!$B119)","v":115},{"$f":"IF(商品マスタ!$C119=\"\",\"\",商品マスタ!$C119)","v":""},{"$f":"在庫表示!F125","v":""},{"$nulls":6},115,"",115,"","",{"$nulls":11},122]
[null,{"$f":"IF(商品マスタ!$B120=\"\",\"\",商品マスタ!$B120)","v":116},{"$f":"IF(商品マスタ!$C120=\"\",\"\",商品マスタ!$C120)","v":""},{"$f":"IF(商品マスタ!$B120=\"\",\"\",商品マスタ!$B120)","v":116},{"$f":"IF(商品マスタ!$C120=\"\",\"\",商品マスタ!$C120)","v":""},{"$f":"在庫表示!F126","v":""},{"$nulls":6},116,"",116,"","",{"$nulls":11},123]
[null,{"$f":"IF(商品マスタ!$B121=\"\",\"\",商品マスタ!$B121)","v":117},{"$f":"IF(商品マスタ!$C121=\"\",\"\",商品マスタ!$C121)","v":""},{"$f":"IF(商品マスタ!$B121=\"\",\"\",商品マスタ!$B121)","v":117},{"$f":"IF(商品マスタ!$C121=\"\",\"\",商品マスタ!$C121)","v":""},{"$f":"在庫表示!F127","v":""},{"$nulls":6},117,"",117,"","",{"$nulls":11},124]
[null,{"$f":"IF(商品マスタ!$B122=\"\",\"\",商品マスタ!$B122)","v":118},{"$f":"IF(商品マスタ!$C122=\"\",\"\",商品マスタ!$C122)","v":""},{"$f":"IF(商品マスタ!$B122=\"\",\"\",商品マスタ!$B122)","v":118},{"$f":"IF(商品マスタ!$C122=\"\",\"\",商品マスタ!$C122)","v":""},{"$f":"在庫表示!F128","v":""},{"$nulls":6},118,"",118,"","",{"$nulls":11},125]
[null,{"$f":"IF(商品マスタ!$B123=\"\",\"\",商品マスタ!$B123)","v":119},{"$f":"IF(商品マスタ!$C123=\"\",\"\",商品マスタ!$C123)","v":""},{"$f":"IF(商品マスタ!$B123=\"\",\"\",商品マスタ!$B123)","v":119},{"$f":"IF(商品マスタ!$C123=\"\",\"\",商品マスタ!$C123)","v":""},{"$f":"在庫表示!F129","v":""},{"$nulls":6},119,"",119,"","",{"$nulls":11},126]
[null,{"$f":"IF(商品マスタ!$B124=\"\",\"\",商品マスタ!$B124)","v":120},{"$f":"IF(商品マスタ!$C124=\"\",\"\",商品マスタ!$C124)","v":""},{"$f":"IF(商品マスタ!$B124=\"\",\"\",商品マスタ!$B124)","v":120},{"$f":"IF(商品マスタ!$C124=\"\",\"\",商品マスタ!$C124)","v":""},{"$f":"在庫表示!F130","v":""},{"$nulls":6},120,"",120,"","",{"$nulls":11},127]
[null,{"$f":"IF(商品マスタ!$B125=\"\",\"\",商品マスタ!$B125)","v":121},{"$f":"IF(商品マスタ!$C125=\"\",\"\",商品マスタ!$C125)","v":""},{"$f":"IF(商品マスタ!$B125=\"\",\"\",商品マスタ!$B125)","v":121},{"$f":"IF(商品マスタ!$C125=\"\",\"\",商品マスタ!$C125)","v":""},{"$f":"在庫表示!F131","v":""},{"$nulls":6},121,"",121,"","",{"$nulls":11},128]
[null,{"$f":"IF(商品マスタ!$B126=\"\",\"\",商品マスタ!$B126)","v":122},{"$f":"IF(商品マスタ!$C126=\"\",\"\",商品マスタ!$C126)","v":""},{"$f":"IF(商品マスタ!$B126=\"\",\"\",商品マスタ!$B126)","v":122},{"$f":"IF(商品マスタ!$C126=\"\",\"\",商品マスタ!$C126)","v":""},{"$f":"在庫表示!F132","v":""},{"$nulls":6},122,"",122,"","",{"$nulls":11},129]
[null,{"$f":"IF(商品マスタ!$B127=\"\",\"\",商品マスタ!$B127)","v":123},{"$f":"IF(商品マスタ!$C127=\"\",\"\",商品マスタ!$C127)","v":""},{"$f":"IF(商品マスタ!$B127=\"\",\"\",商品マスタ!$B127)","v":123},{"$f":"IF(商品マスタ!$C127=\"\",\"\",商品マスタ!$C127)","v":""},{"$f":"在庫表示!F133","v":""},{"$nulls":6},123,"",123,"","",{"$nulls":11},130]
[null,{"$f":"IF(商品マスタ!$B128=\"\",\"\",商品マスタ!$B128)","v":124},{"$f":"IF(商品マスタ!$C128=\"\",\"\",商品マスタ!$C128)","v":""},{"$f":"IF(商品マスタ!$B128=\"\",\"\",商品マスタ!$B128)","v":124},{"$f":"IF(商品マスタ!$C128=\"\",\"\",商品マスタ!$C128)","v":""},{"$f":"在庫表示!F134","v":""},{"$nulls":6},124,"",124,"","",{"$nulls":11},131]
[null,{"$f":"IF(商品マスタ!$B129=\"\",\"\",商品マスタ!$B129)","v":125},{"$f":"IF(商品マスタ!$C129=\"\",\"\",商品マスタ!$C129)","v":""},{"$f":"IF(商品マスタ!$B129=\"\",\"\",商品マスタ!$B129)","v":125},{"$f":"IF(商品マスタ!$C129=\"\",\"\",商品マスタ!$C129)","v":""},{"$f":"在庫表示!F135","v":""},{"$nulls":6},125,"",125,"","",{"$nulls":11},132]
[null,{"$f":"IF(商品マスタ!$B130=\"\",\"\",商品マスタ!$B130)","v":126},{"$f":"IF(商品マスタ!$C130=\"\",\"\",商品マスタ!$C130)","v":""},{"$f":"IF(商品マスタ!$B130=\"\",\"\",商品マスタ!$B130)","v":126},{"$f":"IF(商品マスタ!$C130=\"\",\"\",商品マスタ!$C130)","v":""},{"$f":"在庫表示!F136","v":""},{"$nulls":6},126,"",126,"","",{"$nulls":11},133]
[null,{"$f":"IF(商品マスタ!$B131=\"\",\"\",商品マスタ!$B131)","v":127},{"$f":"IF(商品マスタ!$C131=\"\",\"\",商品マスタ!$C131)","v":""},{"$f":"IF(商品マスタ!$B131=\"\",\"\",商品マスタ!$B131)","v":127},{"$f":"IF(商品マスタ!$C131=\"\",\"\",商品マスタ!$C131)","v":""},{"$f":"在庫表示!F137","v":""},{"$nulls":6},127,"",127,"","",{"$nulls":11},134]
[null,{"$f":"IF(商品マスタ!$B132=\"\",\"\",商品マスタ!$B132)","v":128},{"$f":"IF(商品マスタ!$C132=\"\",\"\",商品マスタ!$C132)","v":""},{"$f":"IF(商品マスタ!$B132=\"\",\"\",商品マスタ!$B132)","v":128},{"$f":"IF(商品マスタ!$C132=\"\",\"\",商品マスタ!$C132)","v":""},{"$f":"在庫表示!F138","v":""},{"$nulls":6},128,"",128,"","",{"$nulls":11},135]
[null,{"$f":"IF(商品マスタ!$B133=\"\",\"\",商品マスタ!$B133)","v":129},{"$f":"IF(商品マスタ!$C133=\"\",\"\",商品マスタ!$C133)","v":""},{"$f":"IF(商品マスタ!$B133=\"\",\"\",商品マスタ!$B133)","v":129},{"$f":"IF(商品マスタ!$C133=\"\",\"\",商品マスタ!$C133)","v":""},{"$f":"在庫表示!F139","v":""},{"$nulls":6},129,"",129,"","",{"$nulls":11},136]
[null,{"$f":"IF(商品マスタ!$B134=\"\",\"\",商品マスタ!$B134)","v":130},{"$f":"IF(商品マスタ!$C134=\"\",\"\",商品マスタ!$C134)","v":""},{"$f":"IF(商品マスタ!$B134=\"\",\"\",商品マスタ!$B134)","v":130},{"$f":"IF(商品マスタ!$C134=\"\",\"\",商品マスタ!$C134)","v":""},{"$f":"在庫表示!F140","v":""},{"$nulls":6},130,"",130,"","",{"$nulls":11},137]
[null,{"$f":"IF(商品マスタ!$B135=\"\",\"\",商品マスタ!$B135)","v":131},{"$f":"IF(商品マスタ!$C135=\"\",\"\",商品マスタ!$C135)","v":""},{"$f":"IF(商品マスタ!$B135=\"\",\"\",商品マスタ!$B135)","v":131},{"$f":"IF(商品マスタ!$C135=\"\",\"\",商品マスタ!$C135)","v":""},{"$f":"在庫表示!F141","v":""},{"$nulls":6},131,"",131,"","",{"$nulls":11},138]
[null,{"$f":"IF(商品マスタ!$B136=\"\",\"\",商品マスタ!$B136)","v":132},{"$f":"IF(商品マスタ!$C136=\"\",\"\",商品マスタ!$C136)","v":""},{"$f":"IF(商品マスタ!$B136=\"\",\"\",商品マスタ!$B136)","v":132},{"$f":"IF(商品マスタ!$C136=\"\",\"\",商品マスタ!$C136)","v":""},{"$f":"在庫表示!F142","v":""},{"$nulls":6},132,"",132,"","",{"$nulls":11},139]
[null,{"$f":"IF(商品マスタ!$B137=\"\",\"\",商品マスタ!$B137)","v":133},{"$f":"IF(商品マスタ!$C137=\"\",\"\",商品マスタ!$C137)","v":""},{"$f":"IF(商品マスタ!$B137=\"\",\"\",商品マスタ!$B137)","v":133},{"$f":"IF(商品マスタ!$C137=\"\",\"\",商品マスタ!$C137)","v":""},{"$f":"在庫表示!F143","v":""},{"$nulls":6},133,"",133,"","",{"$nulls":11},140]
[null,{"$f":"IF(商品マスタ!$B138=\"\",\"\",商品マスタ!$B138)","v":134},{"$f":"IF(商品マスタ!$C138=\"\",\"\",商品マスタ!$C138)","v":""},{"$f":"IF(商品マスタ!$B138=\"\",\"\",商品マスタ!$B138)","v":134},{"$f":"IF(商品マスタ!$C138=\"\",\"\",商品マスタ!$C138)","v":""},{"$f":"在庫表示!F144","v":""},{"$nulls":6},134,"",134,"","",{"$nulls":11},141]
[null,{"$f":"IF(商品マスタ!$B139=\"\",\"\",商品マスタ!$B139)","v":135},{"$f":"IF(商品マスタ!$C139=\"\",\"\",商品マスタ!$C139)","v":""},{"$f":"IF(商品マスタ!$B139=\"\",\"\",商品マスタ!$B139)","v":135},{"$f":"IF(商品マスタ!$C139=\"\",\"\",商品マスタ!$C139)","v":""},{"$f":"在庫表示!F145","v":""},{"$nulls":6},135,"",135,"","",{"$nulls":11},142]
[null,{"$f":"IF(商品マスタ!$B140=\"\",\"\",商品マスタ!$B140)","v":136},{"$f":"IF(商品マスタ!$C140=\"\",\"\",商品マスタ!$C140)","v":""},{"$f":"IF(商品マスタ!$B140=\"\",\"\",商品マスタ!$B140)","v":136},{"$f":"IF(商品マスタ!$C140=\"\",\"\",商品マスタ!$C140)","v":""},{"$f":"在庫表示!F146","v":""},{"$nulls":6},136,"",136,"","",{"$nulls":11},143]
[null,{"$f":"IF(商品マスタ!$B141=\"\",\"\",商品マスタ!$B141)","v":137},{"$f":"IF(商品マスタ!$C141=\"\",\"\",商品マスタ!$C141)","v":""},{"$f":"IF(商品マスタ!$B141=\"\",\"\",商品マスタ!$B141)","v":137},{"$f":"IF(商品マスタ!$C141=\"\",\"\",商品マスタ!$C141)","v":""},{"$f":"在庫表示!F147","v":""},{"$nulls":6},137,"",137,"","",{"$nulls":11},144]
[null,{"$f":"IF(商品マスタ!$B142=\"\",\"\",商品マスタ!$B142)","v":138},{"$f":"IF(商品マスタ!$C142=\"\",\"\",商品マスタ!$C142)","v":""},{"$f":"IF(商品マスタ!$B142=\"\",\"\",商品マスタ!$B142)","v":138},{"$f":"IF(商品マスタ!$C142=\"\",\"\",商品マスタ!$C142)","v":""},{"$f":"在庫表示!F148","v":""},{"$nulls":6},138,"",138,"","",{"$nulls":11},145]
[null,{"$f":"IF(商品マスタ!$B143=\"\",\"\",商品マスタ!$B143)","v":139},{"$f":"IF(商品マスタ!$C143=\"\",\"\",商品マスタ!$C143)","v":""},{"$f":"IF(商品マスタ!$B143=\"\",\"\",商品マスタ!$B143)","v":139},{"$f":"IF(商品マスタ!$C143=\"\",\"\",商品マスタ!$C143)","v":""},{"$f":"在庫表示!F149","v":""},{"$nulls":6},139,"",139,"","",{"$nulls":11},146]
[null,{"$f":"IF(商品マスタ!$B144=\"\",\"\",商品マスタ!$B144)","v":140},{"$f":"IF(商品マスタ!$C144=\"\",\"\",商品マスタ!$C144)","v":""},{"$f":"IF(商品マスタ!$B144=\"\",\"\",商品マスタ!$B144)","v":140},{"$f":"IF(商品マスタ!$C144=\"\",\"\",商品マスタ!$C144)","v":""},{"$f":"在庫表示!F150","v":""},{"$nulls":6},140,"",140,"","",{"$nulls":11},147]
[null,{"$f":"IF(商品マスタ!$B145=\"\",\"\",商品マスタ!$B145)","v":141},{"$f":"IF(商品マスタ!$C145=\"\",\"\",商品マスタ!$C145)","v":""},{"$f":"IF(商品マスタ!$B145=\"\",\"\",商品マスタ!$B145)","v":141},{"$f":"IF(商品マスタ!$C145=\"\",\"\",商品マスタ!$C145)","v":""},{"$f":"在庫表示!F151","v":""},{"$nulls":6},141,"",141,"","",{"$nulls":11},148]
[null,{"$f":"IF(商品マスタ!$B146=\"\",\"\",商品マスタ!$B146)","v":142},{"$f":"IF(商品マスタ!$C146=\"\",\"\",商品マスタ!$C146)","v":""},{"$f":"IF(商品マスタ!$B146=\"\",\"\",商品マスタ!$B146)","v":142},{"$f":"IF(商品マスタ!$C146=\"\",\"\",商品マスタ!$C146)","v":""},{"$f":"在庫表示!F152","v":""},{"$nulls":6},142,"",142,"","",{"$nulls":11},149]
[null,{"$f":"IF(商品マスタ!$B147=\"\",\"\",商品マスタ!$B147)","v":143},{"$f":"IF(商品マスタ!$C147=\"\",\"\",商品マスタ!$C147)","v":""},{"$f":"IF(商品マスタ!$B147=\"\",\"\",商品マスタ!$B147)","v":143},{"$f":"IF(商品マスタ!$C147=\"\",\"\",商品マスタ!$C147)","v":""},{"$f":"在庫表示!F153","v":""},{"$nulls":6},143,"",143,"","",{"$nulls":11},150]
[null,{"$f":"IF(商品マスタ!$B148=\"\",\"\",商品マスタ!$B148)","v":144},{"$f":"IF(商品マスタ!$C148=\"\",\"\",商品マスタ!$C148)","v":""},{"$f":"IF(商品マスタ!$B148=\"\",\"\",商品マスタ!$B148)","v":144},{"$f":"IF(商品マスタ!$C148=\"\",\"\",商品マスタ!$C148)","v":""},{"$f":"在庫表示!F154","v":""},{"$nulls":6},144,"",144,"","",{"$nulls":11},151]
[null,{"$f":"IF(商品マスタ!$B149=\"\",\"\",商品マスタ!$B149)","v":145},{"$f":"IF(商品マスタ!$C149=\"\",\"\",商品マスタ!$C149)","v":""},{"$f":"IF(商品マスタ!$B149=\"\",\"\",商品マスタ!$B149)","v":145},{"$f":"IF(商品マスタ!$C149=\"\",\"\",商品マスタ!$C149)","v":""},{"$f":"在庫表示!F155","v":""},{"$nulls":6},145,"",145,"","",{"$nulls":11},152]
[null,{"$f":"IF(商品マスタ!$B150=\"\",\"\",商品マスタ!$B150)","v":146},{"$f":"IF(商品マスタ!$C150=\"\",\"\",商品マスタ!$C150)","v":""},{"$f":"IF(商品マスタ!$B150=\"\",\"\",商品マスタ!$B150)","v":146},{"$f":"IF(商品マスタ!$C150=\"\",\"\",商品マスタ!$C150)","v":""},{"$f":"在庫表示!F156","v":""},{"$nulls":6},146,"",146,"","",{"$nulls":11},153]
[null,{"$f":"IF(商品マスタ!$B151=\"\",\"\",商品マスタ!$B151)","v":147},{"$f":"IF(商品マスタ!$C151=\"\",\"\",商品マスタ!$C151)","v":""},{"$f":"IF(商品マスタ!$B151=\"\",\"\",商品マスタ!$B151)","v":147},{"$f":"IF(商品マスタ!$C151=\"\",\"\",商品マスタ!$C151)","v":""},{"$f":"在庫表示!F157","v":""},{"$nulls":6},147,"",147,"","",{"$nulls":11},154]
[null,{"$f":"IF(商品マスタ!$B152=\"\",\"\",商品マスタ!$B152)","v":148},{"$f":"IF(商品マスタ!$C152=\"\",\"\",商品マスタ!$C152)","v":""},{"$f":"IF(商品マスタ!$B152=\"\",\"\",商品マスタ!$B152)","v":148},{"$f":"IF(商品マスタ!$C152=\"\",\"\",商品マスタ!$C152)","v":""},{"$f":"在庫表示!F158","v":""},{"$nulls":6},148,"",148,"","",{"$nulls":11},155]
[null,{"$f":"IF(商品マスタ!$B153=\"\",\"\",商品マスタ!$B153)","v":149},{"$f":"IF(商品マスタ!$C153=\"\",\"\",商品マスタ!$C153)","v":""},{"$f":"IF(商品マスタ!$B153=\"\",\"\",商品マスタ!$B153)","v":149},{"$f":"IF(商品マスタ!$C153=\"\",\"\",商品マスタ!$C153)","v":""},{"$f":"在庫表示!F159","v":""},{"$nulls":6},149,"",149,"","",{"$nulls":11},156]
[null,{"$f":"IF(商品マスタ!$B154=\"\",\"\",商品マスタ!$B154)","v":150},{"$f":"IF(商品マスタ!$C154=\"\",\"\",商品マスタ!$C154)","v":""},{"$f":"IF(商品マスタ!$B154=\"\",\"\",商品マスタ!$B154)","v":150},{"$f":"IF(商品マスタ!$C154=\"\",\"\",商品マスタ!$C154)","v":""},{"$f":"在庫表示!F160","v":""},{"$nulls":6},150,"",150,"","",{"$nulls":11},157]
[null,{"$f":"IF(商品マスタ!$B155=\"\",\"\",商品マスタ!$B155)","v":151},{"$f":"IF(商品マスタ!$C155=\"\",\"\",商品マスタ!$C155)","v":""},{"$f":"IF(商品マスタ!$B155=\"\",\"\",商品マスタ!$B155)","v":151},{"$f":"IF(商品マスタ!$C155=\"\",\"\",商品マスタ!$C155)","v":""},{"$f":"在庫表示!F161","v":""},{"$nulls":6},151,"",151,"","",{"$nulls":11},158]
[null,{"$f":"IF(商品マスタ!$B156=\"\",\"\",商品マスタ!$B156)","v":152},{"$f":"IF(商品マスタ!$C156=\"\",\"\",商品マスタ!$C156)","v":""},{"$f":"IF(商品マスタ!$B156=\"\",\"\",商品マスタ!$B156)","v":152},{"$f":"IF(商品マスタ!$C156=\"\",\"\",商品マスタ!$C156)","v":""},{"$f":"在庫表示!F162","v":""},{"$nulls":6},152,"",152,"","",{"$nulls":11},159]
[null,{"$f":"IF(商品マスタ!$B157=\"\",\"\",商品マスタ!$B157)","v":153},{"$f":"IF(商品マスタ!$C157=\"\",\"\",商品マスタ!$C157)","v":""},{"$f":"IF(商品マスタ!$B157=\"\",\"\",商品マスタ!$B157)","v":153},{"$f":"IF(商品マスタ!$C157=\"\",\"\",商品マスタ!$C157)","v":""},{"$f":"在庫表示!F163","v":""},{"$nulls":6},153,"",153,"","",{"$nulls":11},160]
[null,{"$f":"IF(商品マスタ!$B158=\"\",\"\",商品マスタ!$B158)","v":154},{"$f":"IF(商品マスタ!$C158=\"\",\"\",商品マスタ!$C158)","v":""},{"$f":"IF(商品マスタ!$B158=\"\",\"\",商品マスタ!$B158)","v":154},{"$f":"IF(商品マスタ!$C158=\"\",\"\",商品マスタ!$C158)","v":""},{"$f":"在庫表示!F164","v":""},{"$nulls":6},154,"",154,"","",{"$nulls":11},161]
[null,{"$f":"IF(商品マスタ!$B159=\"\",\"\",商品マスタ!$B159)","v":155},{"$f":"IF(商品マスタ!$C159=\"\",\"\",商品マスタ!$C159)","v":""},{"$f":"IF(商品マスタ!$B159=\"\",\"\",商品マスタ!$B159)","v":155},{"$f":"IF(商品マスタ!$C159=\"\",\"\",商品マスタ!$C159)","v":""},{"$f":"在庫表示!F165","v":""},{"$nulls":6},155,"",155,"","",{"$nulls":11},162]
[null,{"$f":"IF(商品マスタ!$B160=\"\",\"\",商品マスタ!$B160)","v":156},{"$f":"IF(商品マスタ!$C160=\"\",\"\",商品マスタ!$C160)","v":""},{"$f":"IF(商品マスタ!$B160=\"\",\"\",商品マスタ!$B160)","v":156},{"$f":"IF(商品マスタ!$C160=\"\",\"\",商品マスタ!$C160)","v":""},{"$f":"在庫表示!F166","v":""},{"$nulls":6},156,"",156,"","",{"$nulls":11},163]
[null,{"$f":"IF(商品マスタ!$B161=\"\",\"\",商品マスタ!$B161)","v":157},{"$f":"IF(商品マスタ!$C161=\"\",\"\",商品マスタ!$C161)","v":""},{"$f":"IF(商品マスタ!$B161=\"\",\"\",商品マスタ!$B161)","v":157},{"$f":"IF(商品マスタ!$C161=\"\",\"\",商品マスタ!$C161)","v":""},{"$f":"在庫表示!F167","v":""},{"$nulls":6},157,"",157,"","",{"$nulls":11},164]
[null,{"$f":"IF(商品マスタ!$B162=\"\",\"\",商品マスタ!$B162)","v":158},{"$f":"IF(商品マスタ!$C162=\"\",\"\",商品マスタ!$C162)","v":""},{"$f":"IF(商品マスタ!$B162=\"\",\"\",商品マスタ!$B162)","v":158},{"$f":"IF(商品マスタ!$C162=\"\",\"\",商品マスタ!$C162)","v":""},{"$f":"在庫表示!F168","v":""},{"$nulls":6},158,"",158,"","",{"$nulls":11},165]
[null,{"$f":"IF(商品マスタ!$B163=\"\",\"\",商品マスタ!$B163)","v":159},{"$f":"IF(商品マスタ!$C163=\"\",\"\",商品マスタ!$C163)","v":""},{"$f":"IF(商品マスタ!$B163=\"\",\"\",商品マスタ!$B163)","v":159},{"$f":"IF(商品マスタ!$C163=\"\",\"\",商品マスタ!$C163)","v":""},{"$f":"在庫表示!F169","v":""},{"$nulls":6},159,"",159,"","",{"$nulls":11},166]
[null,{"$f":"IF(商品マスタ!$B164=\"\",\"\",商品マスタ!$B164)","v":160},{"$f":"IF(商品マスタ!$C164=\"\",\"\",商品マスタ!$C164)","v":""},{"$f":"IF(商品マスタ!$B164=\"\",\"\",商品マスタ!$B164)","v":160},{"$f":"IF(商品マスタ!$C164=\"\",\"\",商品マスタ!$C164)","v":""},{"$f":"在庫表示!F170","v":""},{"$nulls":6},160,"",160,"","",{"$nulls":11},167]
[null,{"$f":"IF(商品マスタ!$B165=\"\",\"\",商品マスタ!$B165)","v":161},{"$f":"IF(商品マスタ!$C165=\"\",\"\",商品マスタ!$C165)","v":""},{"$f":"IF(商品マスタ!$B165=\"\",\"\",商品マスタ!$B165)","v":161},{"$f":"IF(商品マスタ!$C165=\"\",\"\",商品マスタ!$C165)","v":""},{"$f":"在庫表示!F171","v":""},{"$nulls":6},161,"",161,"","",{"$nulls":11},168]
[null,{"$f":"IF(商品マスタ!$B166=\"\",\"\",商品マスタ!$B166)","v":162},{"$f":"IF(商品マスタ!$C166=\"\",\"\",商品マスタ!$C166)","v":""},{"$f":"IF(商品マスタ!$B166=\"\",\"\",商品マスタ!$B166)","v":162},{"$f":"IF(商品マスタ!$C166=\"\",\"\",商品マスタ!$C166)","v":""},{"$f":"在庫表示!F172","v":""},{"$nulls":6},162,"",162,"","",{"$nulls":11},169]
[null,{"$f":"IF(商品マスタ!$B167=\"\",\"\",商品マスタ!$B167)","v":163},{"$f":"IF(商品マスタ!$C167=\"\",\"\",商品マスタ!$C167)","v":""},{"$f":"IF(商品マスタ!$B167=\"\",\"\",商品マスタ!$B167)","v":163},{"$f":"IF(商品マスタ!$C167=\"\",\"\",商品マスタ!$C167)","v":""},{"$f":"在庫表示!F173","v":""},{"$nulls":6},163,"",163,"","",{"$nulls":11},170]
[null,{"$f":"IF(商品マスタ!$B168=\"\",\"\",商品マスタ!$B168)","v":164},{"$f":"IF(商品マスタ!$C168=\"\",\"\",商品マスタ!$C168)","v":""},{"$f":"IF(商品マスタ!$B168=\"\",\"\",商品マスタ!$B168)","v":164},{"$f":"IF(商品マスタ!$C168=\"\",\"\",商品マスタ!$C168)","v":""},{"$f":"在庫表示!F174","v":""},{"$nulls":6},164,"",164,"","",{"$nulls":11},171]
[null,{"$f":"IF(商品マスタ!$B169=\"\",\"\",商品マスタ!$B169)","v":165},{"$f":"IF(商品マスタ!$C169=\"\",\"\",商品マスタ!$C169)","v":""},{"$f":"IF(商品マスタ!$B169=\"\",\"\",商品マスタ!$B169)","v":165},{"$f":"IF(商品マスタ!$C169=\"\",\"\",商品マスタ!$C169)","v":""},{"$f":"在庫表示!F175","v":""},{"$nulls":6},165,"",165,"","",{"$nulls":11},172]
[null,{"$f":"IF(商品マスタ!$B170=\"\",\"\",商品マスタ!$B170)","v":166},{"$f":"IF(商品マスタ!$C170=\"\",\"\",商品マスタ!$C170)","v":""},{"$f":"IF(商品マスタ!$B170=\"\",\"\",商品マスタ!$B170)","v":166},{"$f":"IF(商品マスタ!$C170=\"\",\"\",商品マスタ!$C170)","v":""},{"$f":"在庫表示!F176","v":""},{"$nulls":6},166,"",166,"","",{"$nulls":11},173]
[null,{"$f":"IF(商品マスタ!$B171=\"\",\"\",商品マスタ!$B171)","v":167},{"$f":"IF(商品マスタ!$C171=\"\",\"\",商品マスタ!$C171)","v":""},{"$f":"IF(商品マスタ!$B171=\"\",\"\",商品マスタ!$B171)","v":167},{"$f":"IF(商品マスタ!$C171=\"\",\"\",商品マスタ!$C171)","v":""},{"$f":"在庫表示!F177","v":""},{"$nulls":6},167,"",167,"","",{"$nulls":11},174]
[null,{"$f":"IF(商品マスタ!$B172=\"\",\"\",商品マスタ!$B172)","v":168},{"$f":"IF(商品マスタ!$C172=\"\",\"\",商品マスタ!$C172)","v":""},{"$f":"IF(商品マスタ!$B172=\"\",\"\",商品マスタ!$B172)","v":168},{"$f":"IF(商品マスタ!$C172=\"\",\"\",商品マスタ!$C172)","v":""},{"$f":"在庫表示!F178","v":""},{"$nulls":6},168,"",168,"","",{"$nulls":11},175]
[null,{"$f":"IF(商品マスタ!$B173=\"\",\"\",商品マスタ!$B173)","v":169},{"$f":"IF(商品マスタ!$C173=\"\",\"\",商品マスタ!$C173)","v":""},{"$f":"IF(商品マスタ!$B173=\"\",\"\",商品マスタ!$B173)","v":169},{"$f":"IF(商品マスタ!$C173=\"\",\"\",商品マスタ!$C173)","v":""},{"$f":"在庫表示!F179","v":""},{"$nulls":6},169,"",169,"","",{"$nulls":11},176]
[null,{"$f":"IF(商品マスタ!$B174=\"\",\"\",商品マスタ!$B174)","v":170},{"$f":"IF(商品マスタ!$C174=\"\",\"\",商品マスタ!$C174)","v":""},{"$f":"IF(商品マスタ!$B174=\"\",\"\",商品マスタ!$B174)","v":170},{"$f":"IF(商品マスタ!$C174=\"\",\"\",商品マスタ!$C174)","v":""},{"$f":"在庫表示!F180","v":""},{"$nulls":6},170,"",170,"","",{"$nulls":11},177]
[null,{"$f":"IF(商品マスタ!$B175=\"\",\"\",商品マスタ!$B175)","v":171},{"$f":"IF(商品マスタ!$C175=\"\",\"\",商品マスタ!$C175)","v":""},{"$f":"IF(商品マスタ!$B175=\"\",\"\",商品マスタ!$B175)","v":171},{"$f":"IF(商品マスタ!$C175=\"\",\"\",商品マスタ!$C175)","v":""},{"$f":"在庫表示!F181","v":""},{"$nulls":6},171,"",171,"","",{"$nulls":11},178]
[null,{"$f":"IF(商品マスタ!$B176=\"\",\"\",商品マスタ!$B176)","v":172},{"$f":"IF(商品マスタ!$C176=\"\",\"\",商品マスタ!$C176)","v":""},{"$f":"IF(商品マスタ!$B176=\"\",\"\",商品マスタ!$B176)","v":172},{"$f":"IF(商品マスタ!$C176=\"\",\"\",商品マスタ!$C176)","v":""},{"$f":"在庫表示!F182","v":""},{"$nulls":6},172,"",172,"","",{"$nulls":11},179]
[null,{"$f":"IF(商品マスタ!$B177=\"\",\"\",商品マスタ!$B177)","v":173},{"$f":"IF(商品マスタ!$C177=\"\",\"\",商品マスタ!$C177)","v":""},{"$f":"IF(商品マスタ!$B177=\"\",\"\",商品マスタ!$B177)","v":173},{"$f":"IF(商品マスタ!$C177=\"\",\"\",商品マスタ!$C177)","v":""},{"$f":"在庫表示!F183","v":""},{"$nulls":6},173,"",173,"","",{"$nulls":11},180]
[null,{"$f":"IF(商品マスタ!$B178=\"\",\"\",商品マスタ!$B178)","v":174},{"$f":"IF(商品マスタ!$C178=\"\",\"\",商品マスタ!$C178)","v":""},{"$f":"IF(商品マスタ!$B178=\"\",\"\",商品マスタ!$B178)","v":174},{"$f":"IF(商品マスタ!$C178=\"\",\"\",商品マスタ!$C178)","v":""},{"$f":"在庫表示!F184","v":""},{"$nulls":6},174,"",174,"","",{"$nulls":11},181]
[null,{"$f":"IF(商品マスタ!$B179=\"\",\"\",商品マスタ!$B179)","v":175},{"$f":"IF(商品マスタ!$C179=\"\",\"\",商品マスタ!$C179)","v":""},{"$f":"IF(商品マスタ!$B179=\"\",\"\",商品マスタ!$B179)","v":175},{"$f":"IF(商品マスタ!$C179=\"\",\"\",商品マスタ!$C179)","v":""},{"$f":"在庫表示!F185","v":""},{"$nulls":6},175,"",175,"","",{"$nulls":11},182]
[null,{"$f":"IF(商品マスタ!$B180=\"\",\"\",商品マスタ!$B180)","v":176},{"$f":"IF(商品マスタ!$C180=\"\",\"\",商品マスタ!$C180)","v":""},{"$f":"IF(商品マスタ!$B180=\"\",\"\",商品マスタ!$B180)","v":176},{"$f":"IF(商品マスタ!$C180=\"\",\"\",商品マスタ!$C180)","v":""},{"$f":"在庫表示!F186","v":""},{"$nulls":6},176,"",176,"","",{"$nulls":11},183]
[null,{"$f":"IF(商品マスタ!$B181=\"\",\"\",商品マスタ!$B181)","v":177},{"$f":"IF(商品マスタ!$C181=\"\",\"\",商品マスタ!$C181)","v":""},{"$f":"IF(商品マスタ!$B181=\"\",\"\",商品マスタ!$B181)","v":177},{"$f":"IF(商品マスタ!$C181=\"\",\"\",商品マスタ!$C181)","v":""},{"$f":"在庫表示!F187","v":""},{"$nulls":6},177,"",177,"","",{"$nulls":11},184]
[null,{"$f":"IF(商品マスタ!$B182=\"\",\"\",商品マスタ!$B182)","v":178},{"$f":"IF(商品マスタ!$C182=\"\",\"\",商品マスタ!$C182)","v":""},{"$f":"IF(商品マスタ!$B182=\"\",\"\",商品マスタ!$B182)","v":178},{"$f":"IF(商品マスタ!$C182=\"\",\"\",商品マスタ!$C182)","v":""},{"$f":"在庫表示!F188","v":""},{"$nulls":6},178,"",178,"","",{"$nulls":11},185]
[null,{"$f":"IF(商品マスタ!$B183=\"\",\"\",商品マスタ!$B183)","v":179},{"$f":"IF(商品マスタ!$C183=\"\",\"\",商品マスタ!$C183)","v":""},{"$f":"IF(商品マスタ!$B183=\"\",\"\",商品マスタ!$B183)","v":179},{"$f":"IF(商品マスタ!$C183=\"\",\"\",商品マスタ!$C183)","v":""},{"$f":"在庫表示!F189","v":""},{"$nulls":6},179,"",179,"","",{"$nulls":11},186]
[null,{"$f":"IF(商品マスタ!$B184=\"\",\"\",商品マスタ!$B184)","v":180},{"$f":"IF(商品マスタ!$C184=\"\",\"\",商品マスタ!$C184)","v":""},{"$f":"IF(商品マスタ!$B184=\"\",\"\",商品マスタ!$B184)","v":180},{"$f":"IF(商品マスタ!$C184=\"\",\"\",商品マスタ!$C184)","v":""},{"$f":"在庫表示!F190","v":""},{"$nulls":6},180,"",180,"","",{"$nulls":11},187]
[null,{"$f":"IF(商品マスタ!$B185=\"\",\"\",商品マスタ!$B185)","v":181},{"$f":"IF(商品マスタ!$C185=\"\",\"\",商品マスタ!$C185)","v":""},{"$f":"IF(商品マスタ!$B185=\"\",\"\",商品マスタ!$B185)","v":181},{"$f":"IF(商品マスタ!$C185=\"\",\"\",商品マスタ!$C185)","v":""},{"$f":"在庫表示!F191","v":""},{"$nulls":6},181,"",181,"","",{"$nulls":11},188]
[null,{"$f":"IF(商品マスタ!$B186=\"\",\"\",商品マスタ!$B186)","v":182},{"$f":"IF(商品マスタ!$C186=\"\",\"\",商品マスタ!$C186)","v":""},{"$f":"IF(商品マスタ!$B186=\"\",\"\",商品マスタ!$B186)","v":182},{"$f":"IF(商品マスタ!$C186=\"\",\"\",商品マスタ!$C186)","v":""},{"$f":"在庫表示!F192","v":""},{"$nulls":6},182,"",182,"","",{"$nulls":11},189]
[null,{"$f":"IF(商品マスタ!$B187=\"\",\"\",商品マスタ!$B187)","v":183},{"$f":"IF(商品マスタ!$C187=\"\",\"\",商品マスタ!$C187)","v":""},{"$f":"IF(商品マスタ!$B187=\"\",\"\",商品マスタ!$B187)","v":183},{"$f":"IF(商品マスタ!$C187=\"\",\"\",商品マスタ!$C187)","v":""},{"$f":"在庫表示!F193","v":""},{"$nulls":6},183,"",183,"","",{"$nulls":11},190]
[null,{"$f":"IF(商品マスタ!$B188=\"\",\"\",商品マスタ!$B188)","v":184},{"$f":"IF(商品マスタ!$C188=\"\",\"\",商品マスタ!$C188)","v":""},{"$f":"IF(商品マスタ!$B188=\"\",\"\",商品マスタ!$B188)","v":184},{"$f":"IF(商品マスタ!$C188=\"\",\"\",商品マスタ!$C188)","v":""},{"$f":"在庫表示!F194","v":""},{"$nulls":6},184,"",184,"","",{"$nulls":11},191]
[null,{"$f":"IF(商品マスタ!$B189=\"\",\"\",商品マスタ!$B189)","v":185},{"$f":"IF(商品マスタ!$C189=\"\",\"\",商品マスタ!$C189)","v":""},{"$f":"IF(商品マスタ!$B189=\"\",\"\",商品マスタ!$B189)","v":185},{"$f":"IF(商品マスタ!$C189=\"\",\"\",商品マスタ!$C189)","v":""},{"$f":"在庫表示!F195","v":""},{"$nulls":6},185,"",185,"","",{"$nulls":11},192]
[null,{"$f":"IF(商品マスタ!$B190=\"\",\"\",商品マスタ!$B190)","v":186},{"$f":"IF(商品マスタ!$C190=\"\",\"\",商品マスタ!$C190)","v":""},{"$f":"IF(商品マスタ!$B190=\"\",\"\",商品マスタ!$B190)","v":186},{"$f":"IF(商品マスタ!$C190=\"\",\"\",商品マスタ!$C190)","v":""},{"$f":"在庫表示!F196","v":""},{"$nulls":6},186,"",186,"","",{"$nulls":11},193]
[null,{"$f":"IF(商品マスタ!$B191=\"\",\"\",商品マスタ!$B191)","v":187},{"$f":"IF(商品マスタ!$C191=\"\",\"\",商品マスタ!$C191)","v":""},{"$f":"IF(商品マスタ!$B191=\"\",\"\",商品マスタ!$B191)","v":187},{"$f":"IF(商品マスタ!$C191=\"\",\"\",商品マスタ!$C191)","v":""},{"$f":"在庫表示!F197","v":""},{"$nulls":6},187,"",187,"","",{"$nulls":11},194]
[null,{"$f":"IF(商品マスタ!$B192=\"\",\"\",商品マスタ!$B192)","v":188},{"$f":"IF(商品マスタ!$C192=\"\",\"\",商品マスタ!$C192)","v":""},{"$f":"IF(商品マスタ!$B192=\"\",\"\",商品マスタ!$B192)","v":188},{"$f":"IF(商品マスタ!$C192=\"\",\"\",商品マスタ!$C192)","v":""},{"$f":"在庫表示!F198","v":""},{"$nulls":6},188,"",188,"","",{"$nulls":11},195]
[null,{"$f":"IF(商品マスタ!$B193=\"\",\"\",商品マスタ!$B193)","v":189},{"$f":"IF(商品マスタ!$C193=\"\",\"\",商品マスタ!$C193)","v":""},{"$f":"IF(商品マスタ!$B193=\"\",\"\",商品マスタ!$B193)","v":189},{"$f":"IF(商品マスタ!$C193=\"\",\"\",商品マスタ!$C193)","v":""},{"$f":"在庫表示!F199","v":""},{"$nulls":6},189,"",189,"","",{"$nulls":11},196]
[null,{"$f":"IF(商品マスタ!$B194=\"\",\"\",商品マスタ!$B194)","v":190},{"$f":"IF(商品マスタ!$C194=\"\",\"\",商品マスタ!$C194)","v":""},{"$f":"IF(商品マスタ!$B194=\"\",\"\",商品マスタ!$B194)","v":190},{"$f":"IF(商品マスタ!$C194=\"\",\"\",商品マスタ!$C194)","v":""},{"$f":"在庫表示!F200","v":""},{"$nulls":6},190,"",190,"","",{"$nulls":11},197]
[null,{"$f":"IF(商品マスタ!$B195=\"\",\"\",商品マスタ!$B195)","v":191},{"$f":"IF(商品マスタ!$C195=\"\",\"\",商品マスタ!$C195)","v":""},{"$f":"IF(商品マスタ!$B195=\"\",\"\",商品マスタ!$B195)","v":191},{"$f":"IF(商品マスタ!$C195=\"\",\"\",商品マスタ!$C195)","v":""},{"$f":"在庫表示!F201","v":""},{"$nulls":6},191,"",191,"","",{"$nulls":11},198]
[null,{"$f":"IF(商品マスタ!$B196=\"\",\"\",商品マスタ!$B196)","v":192},{"$f":"IF(商品マスタ!$C196=\"\",\"\",商品マスタ!$C196)","v":""},{"$f":"IF(商品マスタ!$B196=\"\",\"\",商品マスタ!$B196)","v":192},{"$f":"IF(商品マスタ!$C196=\"\",\"\",商品マスタ!$C196)","v":""},{"$f":"在庫表示!F202","v":""},{"$nulls":6},192,"",192,"","",{"$nulls":11},199]
[null,{"$f":"IF(商品マスタ!$B197=\"\",\"\",商品マスタ!$B197)","v":193},{"$f":"IF(商品マスタ!$C197=\"\",\"\",商品マスタ!$C197)","v":""},{"$f":"IF(商品マスタ!$B197=\"\",\"\",商品マスタ!$B197)","v":193},{"$f":"IF(商品マスタ!$C197=\"\",\"\",商品マスタ!$C197)","v":""},{"$f":"在庫表示!F203","v":""},{"$nulls":6},193,"",193,"","",{"$nulls":11},200]
[null,{"$f":"IF(商品マスタ!$B198=\"\",\"\",商品マスタ!$B198)","v":194},{"$f":"IF(商品マスタ!$C198=\"\",\"\",商品マスタ!$C198)","v":""},{"$f":"IF(商品マスタ!$B198=\"\",\"\",商品マスタ!$B198)","v":194},{"$f":"IF(商品マスタ!$C198=\"\",\"\",商品マスタ!$C198)","v":""},{"$f":"在庫表示!F204","v":""},{"$nulls":6},194,"",194,"","",{"$nulls":11},201]
[null,{"$f":"IF(商品マスタ!$B199=\"\",\"\",商品マスタ!$B199)","v":195},{"$f":"IF(商品マスタ!$C199=\"\",\"\",商品マスタ!$C199)","v":""},{"$f":"IF(商品マスタ!$B199=\"\",\"\",商品マスタ!$B199)","v":195},{"$f":"IF(商品マスタ!$C199=\"\",\"\",商品マスタ!$C199)","v":""},{"$f":"在庫表示!F205","v":""},{"$nulls":6},195,"",195,"","",{"$nulls":11},202]
[null,{"$f":"IF(商品マスタ!$B200=\"\",\"\",商品マスタ!$B200)","v":196},{"$f":"IF(商品マスタ!$C200=\"\",\"\",商品マスタ!$C200)","v":""},{"$f":"IF(商品マスタ!$B200=\"\",\"\",商品マスタ!$B200)","v":196},{"$f":"IF(商品マスタ!$C200=\"\",\"\",商品マスタ!$C200)","v":""},{"$f":"在庫表示!F206","v":""},{"$nulls":6},196,"",196,"","",{"$nulls":11},203]
[null,{"$f":"IF(商品マスタ!$B201=\"\",\"\",商品マスタ!$B201)","v":197},{"$f":"IF(商品マスタ!$C201=\"\",\"\",商品マスタ!$C201)","v":""},{"$f":"IF(商品マスタ!$B201=\"\",\"\",商品マスタ!$B201)","v":197},{"$f":"IF(商品マスタ!$C201=\"\",\"\",商品マスタ!$C201)","v":""},{"$f":"在庫表示!F207","v":""},{"$nulls":6},197,"",197,"","",{"$nulls":11},204]
[null,{"$f":"IF(商品マスタ!$B202=\"\",\"\",商品マスタ!$B202)","v":198},{"$f":"IF(商品マスタ!$C202=\"\",\"\",商品マスタ!$C202)","v":""},{"$f":"IF(商品マスタ!$B202=\"\",\"\",商品マスタ!$B202)","v":198},{"$f":"IF(商品マスタ!$C202=\"\",\"\",商品マスタ!$C202)","v":""},{"$f":"在庫表示!F208","v":""},{"$nulls":6},198,"",198,"","",{"$nulls":11},205]
[null,{"$f":"IF(商品マスタ!$B203=\"\",\"\",商品マスタ!$B203)","v":199},{"$f":"IF(商品マスタ!$C203=\"\",\"\",商品マスタ!$C203)","v":""},{"$f":"IF(商品マスタ!$B203=\"\",\"\",商品マスタ!$B203)","v":199},{"$f":"IF(商品マスタ!$C203=\"\",\"\",商品マスタ!$C203)","v":""},{"$f":"在庫表示!F209","v":""},{"$nulls":6},199,"",199,"","",{"$nulls":11},206]
[null,{"$f":"IF(商品マスタ!$B204=\"\",\"\",商品マスタ!$B204)","v":200},{"$f":"IF(商品マスタ!$C204=\"\",\"\",商品マスタ!$C204)","v":""},{"$f":"IF(商品マスタ!$B204=\"\",\"\",商品マスタ!$B204)","v":200},{"$f":"IF(商品マスタ!$C204=\"\",\"\",商品マスタ!$C204)","v":""},{"$f":"在庫表示!F210","v":""},{"$nulls":6},200,"",200,"","",{"$nulls":11},207]
[{"$nulls":28},208]
[{"$nulls":28},209]
[{"$nulls":28},210]
[{"$nulls":28},211]
[{"$nulls":28},212]
[{"$nulls":28},213]
[{"$nulls":28},214]
[{"$nulls":28},215]
[{"$nulls":28},216]
[{"$nulls":28},217]
[{"$nulls":28},218]
[{"$nulls":28},219]
[{"$nulls":28},220]
[{"$nulls":28},221]
[{"$nulls":28},222]
[{"$nulls":28},223]
[{"$nulls":28},224]
[{"$nulls":28},225]
[{"$nulls":28},226]
[{"$nulls":28},227]
[{"$nulls":28},228]
[{"$nulls":28},229]
[{"$nulls":28},230]
[{"$nulls":28},231]
[{"$nulls":28},232]
[{"$nulls":28},233]
[{"$nulls":28},234]
[{"$nulls":28},235]
[{"$nulls":28},236]
[{"$nulls":28},237]
[{"$nulls":28},238]
[{"$nulls":28},239]
[{"$nulls":28},240]
[{"$nulls":28},241]
[{"$nulls":28},242]
[{"$nulls":28},243]
[{"$nulls":28},244]
[{"$nulls":28},245]
[{"$nulls":28},246]
[{"$nulls":28},247]
[{"$nulls":28},248]
[{"$nulls":28},249]
[{"$nulls":28},250]
[{"$nulls":28},251]
[{"$nulls":28},252]
[{"$nulls":28},253]
[{"$nulls":28},254]
[{"$nulls":28},255]
[{"$nulls":28},256]
[{"$nulls":28},257]
[{"$nulls":28},258]
[{"$nulls":28},259]
[{"$nulls":28},260]
[{"$nulls":28},261]
[{"$nulls":28},262]
[{"$nulls":28},263]
[{"$nulls":28},264]
[{"$nulls":28},265]
[{"$nulls":28},266]
[{"$nulls":28},267]
[{"$nulls":28},268]
[{"$nulls":28},269]
[{"$nulls":28},270]
[{"$nulls":28},271]
[{"$nulls":28},272]
[{"$nulls":28},273]
[{"$nulls":28},274]
[{"$nulls":28},275]
[{"$nulls":28},276]
[{"$nulls":28},277]
[{"$nulls":28},278]
[{"$nulls":28},279]
[{"$nulls":28},280]
[{"$nulls":28},281]
[{"$nulls":28},282]
[{"$nulls":28},283]
[{"$nulls":28},284]
[{"$nulls":28},285]
[{"$nulls":28},286]
[{"$nulls":28},287]
[{"$nulls":28},288]
[{"$nulls":28},289]
[{"$nulls":28},290]
[{"$nulls":28},291]
[{"$nulls":28},292]
[{"$nulls":28},293]
[{"$nulls":28},294]
[{"$nulls":28},295]
[{"$nulls":28},296]
[{"$nulls":28},297]
[{"$nulls":28},298]
[{"$nulls":28},299]
[{"$nulls":28},300]
[{"$nulls":28},301]
[{"$nulls":28},302]
[{"$nulls":28},303]
[{"$nulls":28},304]
[{"$nulls":28},305]
[{"$nulls":28},306]
[{"$nulls":28},307]
[{"$nulls":28},308]
[{"$nulls":28},309]
[{"$nulls":28},310]
[{"$nulls":28},311]
[{"$nulls":28},312]
[{"$nulls":28},313]
[{"$nulls":28},314]
[{"$nulls":28},315]
[{"$nulls":28},316]
[{"$nulls":28},317]
[{"$nulls":28},318]
[{"$nulls":28},319]
[{"$nulls":28},320]
[{"$nulls":28},321]
[{"$nulls":28},322]
[{"$nulls":28},323]
[{"$nulls":28},324]
[{"$nulls":28},325]
[{"$nulls":28},326]
[{"$nulls":28},327]
[{"$nulls":28},328]
[{"$nulls":28},329]
[{"$nulls":28},330]
[{"$nulls":28},331]
[{"$nulls":28},332]
[{"$nulls":28},333]
[{"$nulls":28},334]
[{"$nulls":28},335]
[{"$nulls":28},336]
[{"$nulls":28},337]
[{"$nulls":28},338]
[{"$nulls":28},339]
[{"$nulls":28},340]
[{"$nulls":28},341]
[{"$nulls":28},342]
[{"$nulls":28},343]
[{"$nulls":28},344]
[{"$nulls":28},345]
[{"$nulls":28},346]
[{"$nulls":28},347]
[{"$nulls":28},348]
[{"$nulls":28},349]
[{"$nulls":28},350]
[{"$nulls":28},351]
[{"$nulls":28},352]
[{"$nulls":28},353]
[{"$nulls":28},354]
[{"$nulls":28},355]
[{"$nulls":28},356]
[{"$nulls":28},357]
[{"$nulls":28},358]
[{"$nulls":28},359]
[{"$nulls":28},360]
[{"$nulls":28},361]
[{"$nulls":28},362]
[{"$nulls":28},363]
[{"$nulls":28},364]
[{"$nulls":28},365]
[{"$nulls":28},366]
[{"$nulls":28},367]
[{"$nulls":28},368]
[{"$nulls":28},369]
[{"$nulls":28},370]
[{"$nulls":28},371]
[{"$nulls":28},372]
[{"$nulls":28},373]
[{"$nulls":28},374]
[{"$nulls":28},375]
[{"$nulls":28},376]
[{"$nulls":28},377]
[{"$nulls":28},378]
[{"$nulls":28},379]
[{"$nulls":28},380]
[{"$nulls":28},381]
[{"$nulls":28},382]
[{"$nulls":28},383]
[{"$nulls":28},384]
[{"$nulls":28},385]
[{"$nulls":28},386]
[{"$nulls":28},387]
[{"$nulls":28},388]
[{"$nulls":28},389]
[{"$nulls":28},390]
[{"$nulls":28},391]
[{"$nulls":28},392]
[{"$nulls":28},393]
[{"$nulls":28},394]
[{"$nulls":28},395]
[{"$nulls":28},396]
[{"$nulls":28},397]
[{"$nulls":28},398]
[{"$nulls":28},399]
[{"$nulls":28},400]
[{"$nulls":28},401]
[{"$nulls":28},402]
[{"$nulls":28},403]
[{"$nulls":28},404]
[{"$nulls":28},405]
[{"$nulls":28},406]
[{"$nulls":28},407]
[{"$nulls":28},408]
[{"$nulls":28},409]
[{"$nulls":28},410]
[{"$nulls":28},411]
[{"$nulls":28},412]
[{"$nulls":28},413]
[{"$nulls":28},414]
[{"$nulls":28},415]
[{"$nulls":28},416]
[{"$nulls":28},417]
[{"$nulls":28},418]
[{"$nulls":28},419]
[{"$nulls":28},420]
[{"$nulls":28},421]
[{"$nulls":28},422]
[{"$nulls":28},423]
[{"$nulls":28},424]
[{"$nulls":28},425]
[{"$nulls":28},426]
[{"$nulls":28},427]
[{"$nulls":28},428]
[{"$nulls":28},429]
[{"$nulls":28},430]
[{"$nulls":28},431]
[{"$nulls":28},432]
[{"$nulls":28},433]
[{"$nulls":28},434]
[{"$nulls":28},435]
[{"$nulls":28},436]
[{"$nulls":28},437]
[{"$nulls":28},438]
[{"$nulls":28},439]
[{"$nulls":28},440]
[{"$nulls":28},441]
[{"$nulls":28},442]
[{"$nulls":28},443]
[{"$nulls":28},444]
[{"$nulls":28},445]
[{"$nulls":28},446]
[{"$nulls":28},447]
[{"$nulls":28},448]
[{"$nulls":28},449]
[{"$nulls":28},450]
[{"$nulls":28},451]
[{"$nulls":28},452]
[{"$nulls":28},453]
[{"$nulls":28},454]
[{"$nulls":28},455]
[{"$nulls":28},456]
[{"$nulls":28},457]
[{"$nulls":28},458]
[{"$nulls":28},459]
[{"$nulls":28},460]
[{"$nulls":28},461]
[{"$nulls":28},462]
[{"$nulls":28},463]
[{"$nulls":28},464]
[{"$nulls":28},465]
[{"$nulls":28},466]
[{"$nulls":28},467]
[{"$nulls":28},468]
[{"$nulls":28},469]
[{"$nulls":28},470]
[{"$nulls":28},471]
[{"$nulls":28},472]
[{"$nulls":28},473]
[{"$nulls":28},474]
[{"$nulls":28},475]
[{"$nulls":28},476]
[{"$nulls":28},477]
[{"$nulls":28},478]
[{"$nulls":28},479]
[{"$nulls":28},480]
[{"$nulls":28},481]
[{"$nulls":28},482]
[{"$nulls":28},483]
[{"$nulls":28},484]
[{"$nulls":28},485]
[{"$nulls":28},486]
[{"$nulls":28},487]
[{"$nulls":28},488]
[{"$nulls":28},489]
[{"$nulls":28},490]
[{"$nulls":28},491]
[{"$nulls":28},492]
[{"$nulls":28},493]
[{"$nulls":28},494]
[{"$nulls":28},495]
[{"$nulls":28},496]
[{"$nulls":28},497]
[{"$nulls":28},498]
[{"$nulls":28},499]
[{"$nulls":28},500]
[{"$nulls":28},501]
[{"$nulls":28},502]
[{"$nulls":28},503]
[{"$nulls":28},504]
[{"$nulls":28},505]
[{"$nulls":28},506]
[{"$nulls":28},507]
[{"$nulls":28},508]
[{"$nulls":28},509]
[{"$nulls":28},510]
[{"$nulls":28},511]
[{"$nulls":28},512]
[{"$nulls":28},513]
[{"$nulls":28},514]
[{"$nulls":28},515]
[{"$nulls":28},516]
[{"$nulls":28},517]
[{"$nulls":28},518]
[{"$nulls":28},519]
[{"$nulls":28},520]
[{"$nulls":28},521]
[{"$nulls":28},522]
[{"$nulls":28},523]
[{"$nulls":28},524]
[{"$nulls":28},525]
[{"$nulls":28},526]
[{"$nulls":28},527]
[{"$nulls":28},528]
[{"$nulls":28},529]
[{"$nulls":28},530]
[{"$nulls":28},531]
[{"$nulls":28},532]
[{"$nulls":28},533]
[{"$nulls":28},534]
[{"$nulls":28},535]
[{"$nulls":28},536]
[{"$nulls":28},537]
[{"$nulls":28},538]
[{"$nulls":28},539]
[{"$nulls":28},540]
[{"$nulls":28},541]
[{"$nulls":28},542]
[{"$nulls":28},543]
[{"$nulls":28},544]
[{"$nulls":28},545]
[{"$nulls":28},546]
[{"$nulls":28},547]
[{"$nulls":28},548]
[{"$nulls":28},549]
[{"$nulls":28},550]
[{"$nulls":28},551]
[{"$nulls":28},552]
[{"$nulls":28},553]
[{"$nulls":28},554]
[{"$nulls":28},555]
[{"$nulls":28},556]
[{"$nulls":28},557]
[{"$nulls":28},558]
[{"$nulls":28},559]
[{"$nulls":28},560]
[{"$nulls":28},561]
[{"$nulls":28},562]
[{"$nulls":28},563]
[{"$nulls":28},564]
[{"$nulls":28},565]
[{"$nulls":28},566]
[{"$nulls":28},567]
[{"$nulls":28},568]
[{"$nulls":28},569]
[{"$nulls":28},570]
[{"$nulls":28},571]
[{"$nulls":28},572]
[{"$nulls":28},573]
[{"$nulls":28},574]
[{"$nulls":28},575]
[{"$nulls":28},576]
[{"$nulls":28},577]
[{"$nulls":28},578]
[{"$nulls":28},579]
[{"$nulls":28},580]
[{"$nulls":28},581]
[{"$nulls":28},582]
[{"$nulls":28},583]
[{"$nulls":28},584]
[{"$nulls":28},585]
[{"$nulls":28},586]
[{"$nulls":28},587]
[{"$nulls":28},588]
[{"$nulls":28},589]
[{"$nulls":28},590]
[{"$nulls":28},591]
[{"$nulls":28},592]
[{"$nulls":28},593]
[{"$nulls":28},594]
[{"$nulls":28},595]
[{"$nulls":28},596]
[{"$nulls":28},597]
[{"$nulls":28},598]
[{"$nulls":28},599]
[{"$nulls":28},600]
[{"$nulls":28},601]
[{"$nulls":28},602]
[{"$nulls":28},603]
[{"$nulls":28},604]
[{"$nulls":28},605]
[{"$nulls":28},606]
[{"$nulls":28},607]
[{"$nulls":28},608]
[{"$nulls":28},609]
[{"$nulls":28},610]
[{"$nulls":28},611]
[{"$nulls":28},612]
[{"$nulls":28},613]
[{"$nulls":28},614]
[{"$nulls":28},615]
[{"$nulls":28},616]
[{"$nulls":28},617]
[{"$nulls":28},618]
[{"$nulls":28},619]
[{"$nulls":28},620]
[{"$nulls":28},621]
[{"$nulls":28},622]
[{"$nulls":28},623]
[{"$nulls":28},624]
[{"$nulls":28},625]
[{"$nulls":28},626]
[{"$nulls":28},627]
[{"$nulls":28},628]
[{"$nulls":28},629]
[{"$nulls":28},630]
[{"$nulls":28},631]
[{"$nulls":28},632]
[{"$nulls":28},633]
[{"$nulls":28},634]
[{"$nulls":28},635]
[{"$nulls":28},636]
[{"$nulls":28},637]
[{"$nulls":28},638]
[{"$nulls":28},639]
[{"$nulls":28},640]
[{"$nulls":28},641]
[{"$nulls":28},642]
[{"$nulls":28},643]
[{"$nulls":28},644]
[{"$nulls":28},645]
[{"$nulls":28},646]
[{"$nulls":28},647]
[{"$nulls":28},648]
[{"$nulls":28},649]
[{"$nulls":28},650]
[{"$nulls":28},651]
[{"$nulls":28},652]
[{"$nulls":28},653]
[{"$nulls":28},654]
[{"$nulls":28},655]
[{"$nulls":28},656]
[{"$nulls":28},657]
[{"$nulls":28},658]
[{"$nulls":28},659]
[{"$nulls":28},660]
[{"$nulls":28},661]
[{"$nulls":28},662]
[{"$nulls":28},663]
[{"$nulls":28},664]
[{"$nulls":28},665]
[{"$nulls":28},666]
[{"$nulls":28},667]
[{"$nulls":28},668]
[{"$nulls":28},669]
[{"$nulls":28},670]
[{"$nulls":28},671]
[{"$nulls":28},672]
[{"$nulls":28},673]
[{"$nulls":28},674]
[{"$nulls":28},675]
[{"$nulls":28},676]
[{"$nulls":28},677]
[{"$nulls":28},678]
[{"$nulls":28},679]
[{"$nulls":28},680]
[{"$nulls":28},681]
[{"$nulls":28},682]
[{"$nulls":28},683]
[{"$nulls":28},684]
[{"$nulls":28},685]
[{"$nulls":28},686]
[{"$nulls":28},687]
[{"$nulls":28},688]
[{"$nulls":28},689]
[{"$nulls":28},690]
[{"$nulls":28},691]
[{"$nulls":28},692]
[{"$nulls":28},693]
[{"$nulls":28},694]
[{"$nulls":28},695]
[{"$nulls":28},696]
[{"$nulls":28},697]
[{"$nulls":28},698]
[{"$nulls":28},699]
[{"$nulls":28},700]
[{"$nulls":28},701]
[{"$nulls":28},702]
[{"$nulls":28},703]
[{"$nulls":28},704]
[{"$nulls":28},705]
[{"$nulls":28},706]
[{"$nulls":28},707]
[{"$nulls":28},708]
[{"$nulls":28},709]
[{"$nulls":28},710]
[{"$nulls":28},711]
[{"$nulls":28},712]
[{"$nulls":28},713]
[{"$nulls":28},714]
[{"$nulls":28},715]
[{"$nulls":28},716]
[{"$nulls":28},717]
[{"$nulls":28},718]
[{"$nulls":28},719]
[{"$nulls":28},720]
[{"$nulls":28},721]
[{"$nulls":28},722]
[{"$nulls":28},723]
[{"$nulls":28},724]
[{"$nulls":28},725]
[{"$nulls":28},726]
[{"$nulls":28},727]
[{"$nulls":28},728]
[{"$nulls":28},729]
[{"$nulls":28},730]
[{"$nulls":28},731]
[{"$nulls":28},732]
[{"$nulls":28},733]
[{"$nulls":28},734]
[{"$nulls":28},735]
[{"$nulls":28},736]
[{"$nulls":28},737]
[{"$nulls":28},738]
[{"$nulls":28},739]
[{"$nulls":28},740]
[{"$nulls":28},741]
[{"$nulls":28},742]
[{"$nulls":28},743]
[{"$nulls":28},744]
[{"$nulls":28},745]
[{"$nulls":28},746]
[{"$nulls":28},747]
[{"$nulls":28},748]
[{"$nulls":28},749]
[{"$nulls":28},750]
[{"$nulls":28},751]
[{"$nulls":28},752]
[{"$nulls":28},753]
[{"$nulls":28},754]
[{"$nulls":28},755]
[{"$nulls":28},756]
[{"$nulls":28},757]
[{"$nulls":28},758]
[{"$nulls":28},759]
[{"$nulls":28},760]
[{"$nulls":28},761]
[{"$nulls":28},762]
[{"$nulls":28},763]
[{"$nulls":28},764]
[{"$nulls":28},765]
[{"$nulls":28},766]
[{"$nulls":28},767]
[{"$nulls":28},768]
[{"$nulls":28},769]
[{"$nulls":28},770]
[{"$nulls":28},771]
[{"$nulls":28},772]
[{"$nulls":28},773]
[{"$nulls":28},774]
[{"$nulls":28},775]
[{"$nulls":28},776]
[{"$nulls":28},777]
[{"$nulls":28},778]
[{"$nulls":28},779]
[{"$nulls":28},780]
[{"$nulls":28},781]
[{"$nulls":28},782]
[{"$nulls":28},783]
[{"$nulls":28},784]
[{"$nulls":28},785]
[{"$nulls":28},786]
[{"$nulls":28},787]
[{"$nulls":28},788]
[{"$nulls":28},789]
[{"$nulls":28},790]
[{"$nulls":28},791]
[{"$nulls":28},792]
[{"$nulls":28},793]
[{"$nulls":28},794]
[{"$nulls":28},795]
[{"$nulls":28},796]
[{"$nulls":28},797]
[{"$nulls":28},798]
[{"$nulls":28},799]
[{"$nulls":28},800]
[{"$nulls":28},801]
[{"$nulls":28},802]
[{"$nulls":28},803]
[{"$nulls":28},804]
[{"$nulls":28},805]
[{"$nulls":28},806]
[{"$nulls":28},807]
[{"$nulls":28},808]
[{"$nulls":28},809]
[{"$nulls":28},810]
[{"$nulls":28},811]
[{"$nulls":28},812]
[{"$nulls":28},813]
[{"$nulls":28},814]
[{"$nulls":28},815]
[{"$nulls":28},816]
[{"$nulls":28},817]
[{"$nulls":28},818]
[{"$nulls":28},819]
[{"$nulls":28},820]
[{"$nulls":28},821]
[{"$nulls":28},822]
[{"$nulls":28},823]
[{"$nulls":28},824]
[{"$nulls":28},825]
[{"$nulls":28},826]
[{"$nulls":28},827]
[{"$nulls":28},828]
[{"$nulls":28},829]
[{"$nulls":28},830]
[{"$nulls":28},831]
[{"$nulls":28},832]
[{"$nulls":28},833]
[{"$nulls":28},834]
[{"$nulls":28},835]
[{"$nulls":28},836]
[{"$nulls":28},837]
[{"$nulls":28},838]
[{"$nulls":28},839]
[{"$nulls":28},840]
[{"$nulls":28},841]
[{"$nulls":28},842]
[{"$nulls":28},843]
[{"$nulls":28},844]
[{"$nulls":28},845]
[{"$nulls":28},846]
[{"$nulls":28},847]
[{"$nulls":28},848]
[{"$nulls":28},849]
[{"$nulls":28},850]
[{"$nulls":28},851]
[{"$nulls":28},852]
[{"$nulls":28},853]
[{"$nulls":28},854]
[{"$nulls":28},855]
[{"$nulls":28},856]
[{"$nulls":28},857]
[{"$nulls":28},858]
[{"$nulls":28},859]
[{"$nulls":28},860]
[{"$nulls":28},861]
[{"$nulls":28},862]
[{"$nulls":28},863]
[{"$nulls":28},864]
[{"$nulls":28},865]
[{"$nulls":28},866]
[{"$nulls":28},867]
[{"$nulls":28},868]
[{"$nulls":28},869]
[{"$nulls":28},870]
[{"$nulls":28},871]
[{"$nulls":28},872]
[{"$nulls":28},873]
[{"$nulls":28},874]
[{"$nulls":28},875]
[{"$nulls":28},876]
[{"$nulls":28},877]
[{"$nulls":28},878]
[{"$nulls":28},879]
[{"$nulls":28},880]
[{"$nulls":28},881]
[{"$nulls":28},882]
[{"$nulls":28},883]
[{"$nulls":28},884]
[{"$nulls":28},885]
[{"$nulls":28},886]
[{"$nulls":28},887]
[{"$nulls":28},888]
[{"$nulls":28},889]
[{"$nulls":28},890]
[{"$nulls":28},891]
[{"$nulls":28},892]
[{"$nulls":28},893]
[{"$nulls":28},894]
[{"$nulls":28},895]
[{"$nulls":28},896]
[{"$nulls":28},897]
[{"$nulls":28},898]
[{"$nulls":28},899]
[{"$nulls":28},900]
[{"$nulls":28},901]
[{"$nulls":28},902]
[{"$nulls":28},903]
[{"$nulls":28},904]
[{"$nulls":28},905]
[{"$nulls":28},906]
[{"$nulls":28},907]
[{"$nulls":28},908]
[{"$nulls":28},909]
[{"$nulls":28},910]
[{"$nulls":28},911]
[{"$nulls":28},912]
[{"$nulls":28},913]
[{"$nulls":28},914]
[{"$nulls":28},915]
[{"$nulls":28},916]
[{"$nulls":28},917]
[{"$nulls":28},918]
[{"$nulls":28},919]
[{"$nulls":28},920]
[{"$nulls":28},921]
[{"$nulls":28},922]
[{"$nulls":28},923]
[{"$nulls":28},924]
[{"$nulls":28},925]
[{"$nulls":28},926]
[{"$nulls":28},927]
[{"$nulls":28},928]
[{"$nulls":28},929]
[{"$nulls":28},930]
[{"$nulls":28},931]
[{"$nulls":28},932]
[{"$nulls":28},933]
[{"$nulls":28},934]
[{"$nulls":28},935]
[{"$nulls":28},936]
[{"$nulls":28},937]
[{"$nulls":28},938]
[{"$nulls":28},939]
[{"$nulls":28},940]
[{"$nulls":28},941]
[{"$nulls":28},942]
[{"$nulls":28},943]
[{"$nulls":28},944]
[{"$nulls":28},945]
[{"$nulls":28},946]
[{"$nulls":28},947]
[{"$nulls":28},948]
[{"$nulls":28},949]
[{"$nulls":28},950]
[{"$nulls":28},951]
[{"$nulls":28},952]
[{"$nulls":28},953]
[{"$nulls":28},954]
[{"$nulls":28},955]
[{"$nulls":28},956]
[{"$nulls":28},957]
[{"$nulls":28},958]
[{"$nulls":28},959]
[{"$nulls":28},960]
[{"$nulls":28},961]
[{"$nulls":28},962]
[{"$nulls":28},963]
[{"$nulls":28},964]
[{"$nulls":28},965]
[{"$nulls":28},966]
[{"$nulls":28},967]
[{"$nulls":28},968]
[{"$nulls":28},969]
[{"$nulls":28},970]
[{"$nulls":28},971]
[{"$nulls":28},972]
[{"$nulls":28},973]
[{"$nulls":28},974]
[{"$nulls":28},975]
[{"$nulls":28},976]
[{"$nulls":28},977]
[{"$nulls":28},978]
[{"$nulls":28},979]
[{"$nulls":28},980]
[{"$nulls":28},981]
[{"$nulls":28},982]
[{"$nulls":28},983]
[{"$nulls":28},984]
[{"$nulls":28},985]
[{"$nulls":28},986]
[{"$nulls":28},987]
[{"$nulls":28},988]
[{"$nulls":28},989]
[{"$nulls":28},990]
[{"$nulls":28},991]
[{"$nulls":28},992]
[{"$nulls":28},993]
[{"$nulls":28},994]
[{"$nulls":28},995]
[{"$nulls":28},996]
[{"$nulls":28},997]
[{"$nulls":28},998]
[{"$nulls":28},999]
[{"$nulls":28},1000]
[{"$nulls":28},1001]
[{"$nulls":28},1002]
[{"$nulls":28},1003]
[{"$nulls":28},1004]
[{"$nulls":28},1005]
[{"$nulls":28},1006]
[{"$nulls":28},1007]
[{"$nulls":28},1008]
[{"$nulls":28},1009]
[{"$nulls":28},1010]
[{"$nulls":28},1011]
[{"$nulls":28},1012]
[{"$nulls":28},1013]
[{"$nulls":28},1014]
[{"$nulls":28},1015]
[{"$nulls":28},1016]
[{"$nulls":28},1017]
[{"$nulls":28},1018]
[{"$nulls":28},1019]
[{"$nulls":28},1020]
[{"$nulls":28},1021]
[{"$nulls":28},1022]
[{"$nulls":28},1023]
[{"$nulls":28},1024]
[{"$nulls":28},1025]
[{"$nulls":28},1026]
[{"$nulls":28},1027]
[{"$nulls":28},1028]
[{"$nulls":28},1029]
[{"$nulls":28},1030]
[{"$nulls":28},1031]
[{"$nulls":28},1032]
[{"$nulls":28},1033]
[{"$nulls":28},1034]
[{"$nulls":28},1035]
[{"$nulls":28},1036]
[{"$nulls":28},1037]
[{"$nulls":28},1038]
[{"$nulls":28},1039]
[{"$nulls":28},1040]
[{"$nulls":28},1041]
[{"$nulls":28},1042]
[{"$nulls":28},1043]
[{"$nulls":28},1044]
[{"$nulls":28},1045]
[{"$nulls":28},1046]
[{"$nulls":28},1047]
[{"$nulls":28},1048]
[{"$nulls":28},1049]
[{"$nulls":28},1050]
[{"$nulls":28},1051]
[{"$nulls":28},1052]
[{"$nulls":28},1053]
[{"$nulls":28},1054]
[{"$nulls":28},1055]
[{"$nulls":28},1056]
[{"$nulls":28},1057]
[{"$nulls":28},1058]
[{"$nulls":28},1059]
[{"$nulls":28},1060]
[{"$nulls":28},1061]
[{"$nulls":28},1062]
[{"$nulls":28},1063]
[{"$nulls":28},1064]
[{"$nulls":28},1065]
[{"$nulls":28},1066]
[{"$nulls":28},1067]
[{"$nulls":28},1068]
[{"$nulls":28},1069]
[{"$nulls":28},1070]
[{"$nulls":28},1071]
[{"$nulls":28},1072]
[{"$nulls":28},1073]
[{"$nulls":28},1074]
[{"$nulls":28},1075]
[{"$nulls":28},1076]
[{"$nulls":28},1077]
[{"$nulls":28},1078]
[{"$nulls":28},1079]
[{"$nulls":28},1080]
[{"$nulls":28},1081]
[{"$nulls":28},1082]
[{"$nulls":28},1083]
[{"$nulls":28},1084]
[{"$nulls":28},1085]
[{"$nulls":28},1086]
[{"$nulls":28},1087]
[{"$nulls":28},1088]
[{"$nulls":28},1089]
[{"$nulls":28},1090]
[{"$nulls":28},1091]
[{"$nulls":28},1092]
[{"$nulls":28},1093]
[{"$nulls":28},1094]
[{"$nulls":28},1095]
[{"$nulls":28},1096]
[{"$nulls":28},1097]
[{"$nulls":28},1098]
[{"$nulls":28},1099]
[{"$nulls":28},1100]
[{"$nulls":28},1101]
[{"$nulls":28},1102]
[{"$nulls":28},1103]
[{"$nulls":28},1104]
[{"$nulls":28},1105]
[{"$nulls":28},1106]
[{"$nulls":28},1107]
[{"$nulls":28},1108]
[{"$nulls":28},1109]
[{"$nulls":28},1110]
[{"$nulls":28},1111]
[{"$nulls":28},1112]
[{"$nulls":28},1113]
[{"$nulls":28},1114]
[{"$nulls":28},1115]
[{"$nulls":28},1116]
[{"$nulls":28},1117]
[{"$nulls":28},1118]
[{"$nulls":28},1119]
[{"$nulls":28},1120]
[{"$nulls":28},1121]
[{"$nulls":28},1122]
[{"$nulls":28},1123]
[{"$nulls":28},1124]
[{"$nulls":28},1125]
[{"$nulls":28},1126]
[{"$nulls":28},1127]
[{"$nulls":28},1128]
[{"$nulls":28},1129]
[{"$nulls":28},1130]
[{"$nulls":28},1131]
[{"$nulls":28},1132]
[{"$nulls":28},1133]
[{"$nulls":28},1134]
[{"$nulls":28},1135]
[{"$nulls":28},1136]
[{"$nulls":28},1137]
[{"$nulls":28},1138]
[{"$nulls":28},1139]
[{"$nulls":28},1140]
[{"$nulls":28},1141]
[{"$nulls":28},1142]
[{"$nulls":28},1143]
[{"$nulls":28},1144]
[{"$nulls":28},1145]
[{"$nulls":28},1146]
[{"$nulls":28},1147]
[{"$nulls":28},1148]
[{"$nulls":28},1149]
[{"$nulls":28},1150]
[{"$nulls":28},1151]
[{"$nulls":28},1152]
[{"$nulls":28},1153]
[{"$nulls":28},1154]
[{"$nulls":28},1155]
[{"$nulls":28},1156]
[{"$nulls":28},1157]
[{"$nulls":28},1158]
[{"$nulls":28},1159]
[{"$nulls":28},1160]
[{"$nulls":28},1161]
[{"$nulls":28},1162]
[{"$nulls":28},1163]
[{"$nulls":28},1164]
[{"$nulls":28},1165]
[{"$nulls":28},1166]
[{"$nulls":28},1167]
[{"$nulls":28},1168]
[{"$nulls":28},1169]
[{"$nulls":28},1170]
[{"$nulls":28},1171]
[{"$nulls":28},1172]
[{"$nulls":28},1173]
[{"$nulls":28},1174]
[{"$nulls":28},1175]
[{"$nulls":28},1176]
[{"$nulls":28},1177]
[{"$nulls":28},1178]
[{"$nulls":28},1179]
[{"$nulls":28},1180]
[{"$nulls":28},1181]
[{"$nulls":28},1182]
[{"$nulls":28},1183]
[{"$nulls":28},1184]
[{"$nulls":28},1185]
[{"$nulls":28},1186]
[{"$nulls":28},1187]
[{"$nulls":28},1188]
[{"$nulls":28},1189]
[{"$nulls":28},1190]
[{"$nulls":28},1191]
[{"$nulls":28},1192]
[{"$nulls":28},1193]
[{"$nulls":28},1194]
[{"$nulls":28},1195]
[{"$nulls":28},1196]
[{"$nulls":28},1197]
[{"$nulls":28},1198]
[{"$nulls":28},1199]
[{"$nulls":28},1200]
[{"$nulls":28},1201]
[{"$nulls":28},1202]
[{"$nulls":28},1203]
[{"$nulls":28},1204]
[{"$nulls":28},1205]
[{"$nulls":28},1206]
[{"$nulls":28},1207]
[{"$nulls":28},1208]
[{"$nulls":28},1209]
[{"$nulls":28},1210]
[{"$nulls":28},1211]
[{"$nulls":28},1212]
[{"$nulls":28},1213]
[{"$nulls":28},1214]
[{"$nulls":28},1215]
[{"$nulls":28},1216]
[{"$nulls":28},1217]
[{"$nulls":28},1218]
[{"$nulls":28},1219]
[{"$nulls":28},1220]
[{"$nulls":28},1221]
[{"$nulls":28},1222]
[{"$nulls":28},1223]
[{"$nulls":28},1224]
[{"$nulls":28},1225]
[{"$nulls":28},1226]
[{"$nulls":28},1227]
[{"$nulls":28},1228]
[{"$nulls":28},1229]
[{"$nulls":28},1230]
[{"$nulls":28},1231]
[{"$nulls":28},1232]
[{"$nulls":28},1233]
[{"$nulls":28},1234]
[{"$nulls":28},1235]
[{"$nulls":28},1236]
[{"$nulls":28},1237]
[{"$nulls":28},1238]
[{"$nulls":28},1239]
[{"$nulls":28},1240]
[{"$nulls":28},1241]
[{"$nulls":28},1242]
[{"$nulls":28},1243]
[{"$nulls":28},1244]
[{"$nulls":28},1245]
[{"$nulls":28},1246]
[{"$nulls":28},1247]
[{"$nulls":28},1248]
[{"$nulls":28},1249]
[{"$nulls":28},1250]
[{"$nulls":28},1251]
[{"$nulls":28},1252]
[{"$nulls":28},1253]
[{"$nulls":28},1254]
[{"$nulls":28},1255]
[{"$nulls":28},1256]
[{"$nulls":28},1257]
[{"$nulls":28},1258]
[{"$nulls":28},1259]
[{"$nulls":28},1260]
[{"$nulls":28},1261]
[{"$nulls":28},1262]
[{"$nulls":28},1263]
[{"$nulls":28},1264]
[{"$nulls":28},1265]
[{"$nulls":28},1266]
[{"$nulls":28},1267]
[{"$nulls":28},1268]
[{"$nulls":28},1269]
[{"$nulls":28},1270]
[{"$nulls":28},1271]
[{"$nulls":28},1272]
[{"$nulls":28},1273]
[{"$nulls":28},1274]
[{"$nulls":28},1275]
[{"$nulls":28},1276]
[{"$nulls":28},1277]
[{"$nulls":28},1278]
[{"$nulls":28},1279]
[{"$nulls":28},1280]
[{"$nulls":28},1281]
[{"$nulls":28},1282]
[{"$nulls":28},1283]
[{"$nulls":28},1284]
[{"$nulls":28},1285]
[{"$nulls":28},1286]
[{"$nulls":28},1287]
[{"$nulls":28},1288]
[{"$nulls":28},1289]
[{"$nulls":28},1290]
[{"$nulls":28},1291]
[{"$nulls":28},1292]
[{"$nulls":28},1293]
[{"$nulls":28},1294]
[{"$nulls":28},1295]
[{"$nulls":28},1296]
[{"$nulls":28},1297]
[{"$nulls":28},1298]
[{"$nulls":28},1299]
[{"$nulls":28},1300]
[{"$nulls":28},1301]
[{"$nulls":28},1302]
[{"$nulls":28},1303]
[{"$nulls":28},1304]
[{"$nulls":28},1305]
[{"$nulls":28},1306]
[{"$nulls":28},1307]
[{"$nulls":28},1308]
[{"$nulls":28},1309]
[{"$nulls":28},1310]
[{"$nulls":28},1311]
[{"$nulls":28},1312]
[{"$nulls":28},1313]
[{"$nulls":28},1314]
[{"$nulls":28},1315]
[{"$nulls":28},1316]
[{"$nulls":28},1317]
[{"$nulls":28},1318]
[{"$nulls":28},1319]
[{"$nulls":28},1320]
[{"$nulls":28},1321]
[{"$nulls":28},1322]
[{"$nulls":28},1323]
[{"$nulls":28},1324]
[{"$nulls":28},1325]
[{"$nulls":28},1326]
[{"$nulls":28},1327]
[{"$nulls":28},1328]
[{"$nulls":28},1329]
[{"$nulls":28},1330]
[{"$nulls":28},1331]
[{"$nulls":28},1332]
[{"$nulls":28},1333]
[{"$nulls":28},1334]
[{"$nulls":28},1335]
[{"$nulls":28},1336]
[{"$nulls":28},1337]
[{"$nulls":28},1338]
[{"$nulls":28},1339]
[{"$nulls":28},1340]
[{"$nulls":28},1341]
[{"$nulls":28},1342]
[{"$nulls":28},1343]
[{"$nulls":28},1344]
[{"$nulls":28},1345]
[{"$nulls":28},1346]
[{"$nulls":28},1347]
[{"$nulls":28},1348]
[{"$nulls":28},1349]
[{"$nulls":28},1350]
[{"$nulls":28},1351]
[{"$nulls":28},1352]
[{"$nulls":28},1353]
[{"$nulls":28},1354]
[{"$nulls":28},1355]
[{"$nulls":28},1356]
[{"$nulls":28},1357]
[{"$nulls":28},1358]
[{"$nulls":28},1359]
[{"$nulls":28},1360]
[{"$nulls":28},1361]
[{"$nulls":28},1362]
[{"$nulls":28},1363]
[{"$nulls":28},1364]
[{"$nulls":28},1365]
[{"$nulls":28},1366]
[{"$nulls":28},1367]
[{"$nulls":28},1368]
[{"$nulls":28},1369]
[{"$nulls":28},1370]
[{"$nulls":28},1371]
[{"$nulls":28},1372]
[{"$nulls":28},1373]
[{"$nulls":28},1374]
[{"$nulls":28},1375]
[{"$nulls":28},1376]
[{"$nulls":28},1377]
[{"$nulls":28},1378]
[{"$nulls":28},1379]
[{"$nulls":28},1380]
[{"$nulls":28},1381]
[{"$nulls":28},1382]
[{"$nulls":28},1383]
[{"$nulls":28},1384]
[{"$nulls":28},1385]
[{"$nulls":28},1386]
[{"$nulls":28},1387]
[{"$nulls":28},1388]
[{"$nulls":28},1389]
[{"$nulls":28},1390]
[{"$nulls":28},1391]
[{"$nulls":28},1392]
[{"$nulls":28},1393]
[{"$nulls":28},1394]
[{"$nulls":28},1395]
[{"$nulls":28},1396]
[{"$nulls":28},1397]
[{"$nulls":28},1398]
[{"$nulls":28},1399]
[{"$nulls":28},1400]
[{"$nulls":28},1401]
[{"$nulls":28},1402]
[{"$nulls":28},1403]
[{"$nulls":28},1404]
[{"$nulls":28},1405]
[{"$nulls":28},1406]
[{"$nulls":28},1407]
[{"$nulls":28},1408]
[{"$nulls":28},1409]
[{"$nulls":28},1410]
[{"$nulls":28},1411]
[{"$nulls":28},1412]
[{"$nulls":28},1413]
[{"$nulls":28},1414]
[{"$nulls":28},1415]
[{"$nulls":28},1416]
[{"$nulls":28},1417]
[{"$nulls":28},1418]
[{"$nulls":28},1419]
[{"$nulls":28},1420]
[{"$nulls":28},1421]
[{"$nulls":28},1422]
[{"$nulls":28},1423]
[{"$nulls":28},1424]
[{"$nulls":28},1425]
[{"$nulls":28},1426]
[{"$nulls":28},1427]
[{"$nulls":28},1428]
[{"$nulls":28},1429]
[{"$nulls":28},1430]
[{"$nulls":28},1431]
[{"$nulls":28},1432]
[{"$nulls":28},1433]
[{"$nulls":28},1434]
[{"$nulls":28},1435]
[{"$nulls":28},1436]
[{"$nulls":28},1437]
[{"$nulls":28},1438]
[{"$nulls":28},1439]
[{"$nulls":28},1440]
[{"$nulls":28},1441]
[{"$nulls":28},1442]
[{"$nulls":28},1443]
[{"$nulls":28},1444]
[{"$nulls":28},1445]
[{"$nulls":28},1446]
[{"$nulls":28},1447]
[{"$nulls":28},1448]
[{"$nulls":28},1449]
[{"$nulls":28},1450]
[{"$nulls":28},1451]
[{"$nulls":28},1452]
[{"$nulls":28},1453]
[{"$nulls":28},1454]
[{"$nulls":28},1455]
[{"$nulls":28},1456]
[{"$nulls":28},1457]
[{"$nulls":28},1458]
[{"$nulls":28},1459]
[{"$nulls":28},1460]
[{"$nulls":28},1461]
[{"$nulls":28},1462]
[{"$nulls":28},1463]
[{"$nulls":28},1464]
[{"$nulls":28},1465]
[{"$nulls":28},1466]
[{"$nulls":28},1467]
[{"$nulls":28},1468]
[{"$nulls":28},1469]
[{"$nulls":28},1470]
[{"$nulls":28},1471]
[{"$nulls":28},1472]
[{"$nulls":28},1473]
[{"$nulls":28},1474]
[{"$nulls":28},1475]
[{"$nulls":28},1476]
[{"$nulls":28},1477]
[{"$nulls":28},1478]
[{"$nulls":28},1479]
[{"$nulls":28},1480]
[{"$nulls":28},1481]
[{"$nulls":28},1482]
[{"$nulls":28},1483]
[{"$nulls":28},1484]
[{"$nulls":28},1485]
[{"$nulls":28},1486]
[{"$nulls":28},1487]
[{"$nulls":28},1488]
[{"$nulls":28},1489]
[{"$nulls":28},1490]
[{"$nulls":28},1491]
[{"$nulls":28},1492]
[{"$nulls":28},1493]
[{"$nulls":28},1494]
[{"$nulls":28},1495]
[{"$nulls":28},1496]
[{"$nulls":28},1497]
[{"$nulls":28},1498]
[{"$nulls":28},1499]
[{"$nulls":28},1500]
[{"$nulls":28},1501]
[{"$nulls":28},1502]
[{"$nulls":28},1503]
[{"$nulls":28},1504]
[{"$nulls":28},1505]
[{"$nulls":28},1506]
[{"$nulls":28},1507]
[{"$nulls":28},1508]
[{"$nulls":28},1509]
[{"$nulls":28},1510]
[{"$nulls":28},1511]
[{"$nulls":28},1512]
[{"$nulls":28},1513]
[{"$nulls":28},1514]
[{"$nulls":28},1515]
[{"$nulls":28},1516]
[{"$nulls":28},1517]
[{"$nulls":28},1518]
[{"$nulls":28},1519]
[{"$nulls":28},1520]
[{"$nulls":28},1521]
[{"$nulls":28},1522]
[{"$nulls":28},1523]
[{"$nulls":28},1524]
[{"$nulls":28},1525]
[{"$nulls":28},1526]
[{"$nulls":28},1527]
[{"$nulls":28},1528]
[{"$nulls":28},1529]
[{"$nulls":28},1530]
[{"$nulls":28},1531]
[{"$nulls":28},1532]
[{"$nulls":28},1533]
[{"$nulls":28},1534]
[{"$nulls":28},1535]
[{"$nulls":28},1536]
[{"$nulls":28},1537]
[{"$nulls":28},1538]
[{"$nulls":28},1539]
[{"$nulls":28},1540]
[{"$nulls":28},1541]
[{"$nulls":28},1542]
[{"$nulls":28},1543]
[{"$nulls":28},1544]
[{"$nulls":28},1545]
[{"$nulls":28},1546]
[{"$nulls":28},1547]
[{"$nulls":28},1548]
[{"$nulls":28},1549]
[{"$nulls":28},1550]
[{"$nulls":28},1551]
[{"$nulls":28},1552]
[{"$nulls":28},1553]
[{"$nulls":28},1554]
[{"$nulls":28},1555]
[{"$nulls":28},1556]
[{"$nulls":28},1557]
[{"$nulls":28},1558]
[{"$nulls":28},1559]
[{"$nulls":28},1560]
[{"$nulls":28},1561]
[{"$nulls":28},1562]
[{"$nulls":28},1563]
[{"$nulls":28},1564]
[{"$nulls":28},1565]
[{"$nulls":28},1566]
[{"$nulls":28},1567]
[{"$nulls":28},1568]
[{"$nulls":28},1569]
[{"$nulls":28},1570]
[{"$nulls":28},1571]
[{"$nulls":28},1572]
[{"$nulls":28},1573]
[{"$nulls":28},1574]
[{"$nulls":28},1575]
[{"$nulls":28},1576]
[{"$nulls":28},1577]
[{"$nulls":28},1578]
[{"$nulls":28},1579]
[{"$nulls":28},1580]
[{"$nulls":28},1581]
[{"$nulls":28},1582]
[{"$nulls":28},1583]
[{"$nulls":28},1584]
[{"$nulls":28},1585]
[{"$nulls":28},1586]
[{"$nulls":28},1587]
[{"$nulls":28},1588]
[{"$nulls":28},1589]
[{"$nulls":28},1590]
[{"$nulls":28},1591]
[{"$nulls":28},1592]
[{"$nulls":28},1593]
[{"$nulls":28},1594]
[{"$nulls":28},1595]
[{"$nulls":28},1596]
[{"$nulls":28},1597]
[{"$nulls":28},1598]
[{"$nulls":28},1599]
[{"$nulls":28},1600]
[{"$nulls":28},1601]
[{"$nulls":28},1602]
[{"$nulls":28},1603]
[{"$nulls":28},1604]
[{"$nulls":28},1605]
[{"$nulls":28},1606]
[{"$nulls":28},1607]
[{"$nulls":28},1608]
[{"$nulls":28},1609]
[{"$nulls":28},1610]
[{"$nulls":28},1611]
[{"$nulls":28},1612]
[{"$nulls":28},1613]
[{"$nulls":28},1614]
[{"$nulls":28},1615]
[{"$nulls":28},1616]
[{"$nulls":28},1617]
[{"$nulls":28},1618]
[{"$nulls":28},1619]
[{"$nulls":28},1620]
[{"$nulls":28},1621]
[{"$nulls":28},1622]
[{"$nulls":28},1623]
[{"$nulls":28},1624]
[{"$nulls":28},1625]
[{"$nulls":28},1626]
[{"$nulls":28},1627]
[{"$nulls":28},1628]
[{"$nulls":28},1629]
[{"$nulls":28},1630]
[{"$nulls":28},1631]
[{"$nulls":28},1632]
[{"$nulls":28},1633]
[{"$nulls":28},1634]
[{"$nulls":28},1635]
[{"$nulls":28},1636]
[{"$nulls":28},1637]
[{"$nulls":28},1638]
[{"$nulls":28},1639]
[{"$nulls":28},1640]
[{"$nulls":28},1641]
[{"$nulls":28},1642]
[{"$nulls":28},1643]
[{"$nulls":28},1644]
[{"$nulls":28},1645]
[{"$nulls":28},1646]
[{"$nulls":28},1647]
[{"$nulls":28},1648]
[{"$nulls":28},1649]
[{"$nulls":28},1650]
[{"$nulls":28},1651]
[{"$nulls":28},1652]
[{"$nulls":28},1653]
[{"$nulls":28},1654]
[{"$nulls":28},1655]
[{"$nulls":28},1656]
[{"$nulls":28},1657]
[{"$nulls":28},1658]
[{"$nulls":28},1659]
[{"$nulls":28},1660]
[{"$nulls":28},1661]
[{"$nulls":28},1662]
[{"$nulls":28},1663]
[{"$nulls":28},1664]
[{"$nulls":28},1665]
[{"$nulls":28},1666]
[{"$nulls":28},1667]
[{"$nulls":28},1668]
[{"$nulls":28},1669]
[{"$nulls":28},1670]
[{"$nulls":28},1671]
[{"$nulls":28},1672]
[{"$nulls":28},1673]
[{"$nulls":28},1674]
[{"$nulls":28},1675]
[{"$nulls":28},1676]
[{"$nulls":28},1677]
[{"$nulls":28},1678]
[{"$nulls":28},1679]
[{"$nulls":28},1680]
[{"$nulls":28},1681]
[{"$nulls":28},1682]
[{"$nulls":28},1683]
[{"$nulls":28},1684]
[{"$nulls":28},1685]
[{"$nulls":28},1686]
[{"$nulls":28},1687]
[{"$nulls":28},1688]
[{"$nulls":28},1689]
[{"$nulls":28},1690]
[{"$nulls":28},1691]
[{"$nulls":28},1692]
[{"$nulls":28},1693]
[{"$nulls":28},1694]
[{"$nulls":28},1695]
[{"$nulls":28},1696]
[{"$nulls":28},1697]
[{"$nulls":28},1698]
[{"$nulls":28},1699]
[{"$nulls":28},1700]
[{"$nulls":28},1701]
[{"$nulls":28},1702]
[{"$nulls":28},1703]
[{"$nulls":28},1704]
[{"$nulls":28},1705]
[{"$nulls":28},1706]
[{"$nulls":28},1707]
[{"$nulls":28},1708]
[{"$nulls":28},1709]
[{"$nulls":28},1710]
[{"$nulls":28},1711]
[{"$nulls":28},1712]
[{"$nulls":28},1713]
[{"$nulls":28},1714]
[{"$nulls":28},1715]
[{"$nulls":28},1716]
[{"$nulls":28},1717]
[{"$nulls":28},1718]
[{"$nulls":28},1719]
[{"$nulls":28},1720]
[{"$nulls":28},1721]
[{"$nulls":28},1722]
[{"$nulls":28},1723]
[{"$nulls":28},1724]
[{"$nulls":28},1725]
[{"$nulls":28},1726]
[{"$nulls":28},1727]
[{"$nulls":28},1728]
[{"$nulls":28},1729]
[{"$nulls":28},1730]
[{"$nulls":28},1731]
[{"$nulls":28},1732]
[{"$nulls":28},1733]
[{"$nulls":28},1734]
[{"$nulls":28},1735]
[{"$nulls":28},1736]
[{"$nulls":28},1737]
[{"$nulls":28},1738]
[{"$nulls":28},1739]
[{"$nulls":28},1740]
[{"$nulls":28},1741]
[{"$nulls":28},1742]
[{"$nulls":28},1743]
[{"$nulls":28},1744]
[{"$nulls":28},1745]
[{"$nulls":28},1746]
[{"$nulls":28},1747]
[{"$nulls":28},1748]
[{"$nulls":28},1749]
[{"$nulls":28},1750]
[{"$nulls":28},1751]
[{"$nulls":28},1752]
[{"$nulls":28},1753]
[{"$nulls":28},1754]
[{"$nulls":28},1755]
[{"$nulls":28},1756]
[{"$nulls":28},1757]
[{"$nulls":28},1758]
[{"$nulls":28},1759]
[{"$nulls":28},1760]
[{"$nulls":28},1761]
[{"$nulls":28},1762]
[{"$nulls":28},1763]
[{"$nulls":28},1764]
[{"$nulls":28},1765]
[{"$nulls":28},1766]
[{"$nulls":28},1767]
[{"$nulls":28},1768]
[{"$nulls":28},1769]
[{"$nulls":28},1770]
[{"$nulls":28},1771]
[{"$nulls":28},1772]
[{"$nulls":28},1773]
[{"$nulls":28},1774]
[{"$nulls":28},1775]
[{"$nulls":28},1776]
[{"$nulls":28},1777]
[{"$nulls":28},1778]
[{"$nulls":28},1779]
[{"$nulls":28},1780]
[{"$nulls":28},1781]
[{"$nulls":28},1782]
[{"$nulls":28},1783]
[{"$nulls":28},1784]
[{"$nulls":28},1785]
[{"$nulls":28},1786]
[{"$nulls":28},1787]
[{"$nulls":28},1788]
[{"$nulls":28},1789]
[{"$nulls":28},1790]
[{"$nulls":28},1791]
[{"$nulls":28},1792]
[{"$nulls":28},1793]
[{"$nulls":28},1794]
[{"$nulls":28},1795]
[{"$nulls":28},1796]
[{"$nulls":28},1797]
[{"$nulls":28},1798]
[{"$nulls":28},1799]
[{"$nulls":28},1800]
[{"$nulls":28},1801]
[{"$nulls":28},1802]
[{"$nulls":28},1803]
[{"$nulls":28},1804]
[{"$nulls":28},1805]
[{"$nulls":28},1806]
[{"$nulls":28},1807]
[{"$nulls":28},1808]
[{"$nulls":28},1809]
[{"$nulls":28},1810]
[{"$nulls":28},1811]
[{"$nulls":28},1812]
[{"$nulls":28},1813]
[{"$nulls":28},1814]
[{"$nulls":28},1815]
[{"$nulls":28},1816]
[{"$nulls":28},1817]
[{"$nulls":28},1818]
[{"$nulls":28},1819]
[{"$nulls":28},1820]
[{"$nulls":28},1821]
[{"$nulls":28},1822]
[{"$nulls":28},1823]
[{"$nulls":28},1824]
[{"$nulls":28},1825]
[{"$nulls":28},1826]
[{"$nulls":28},1827]
[{"$nulls":28},1828]
[{"$nulls":28},1829]
[{"$nulls":28},1830]
[{"$nulls":28},1831]
[{"$nulls":28},1832]
[{"$nulls":28},1833]
[{"$nulls":28},1834]
[{"$nulls":28},1835]
[{"$nulls":28},1836]
[{"$nulls":28},1837]
[{"$nulls":28},1838]
[{"$nulls":28},1839]
[{"$nulls":28},1840]
[{"$nulls":28},1841]
[{"$nulls":28},1842]
[{"$nulls":28},1843]
[{"$nulls":28},1844]
[{"$nulls":28},1845]
[{"$nulls":28},1846]
[{"$nulls":28},1847]
[{"$nulls":28},1848]
[{"$nulls":28},1849]
[{"$nulls":28},1850]
[{"$nulls":28},1851]
[{"$nulls":28},1852]
[{"$nulls":28},1853]
[{"$nulls":28},1854]
[{"$nulls":28},1855]
[{"$nulls":28},1856]
[{"$nulls":28},1857]
[{"$nulls":28},1858]
[{"$nulls":28},1859]
[{"$nulls":28},1860]
[{"$nulls":28},1861]
[{"$nulls":28},1862]
[{"$nulls":28},1863]
[{"$nulls":28},1864]
[{"$nulls":28},1865]
[{"$nulls":28},1866]
[{"$nulls":28},1867]
[{"$nulls":28},1868]
[{"$nulls":28},1869]
[{"$nulls":28},1870]
[{"$nulls":28},1871]
[{"$nulls":28},1872]
[{"$nulls":28},1873]
[{"$nulls":28},1874]
[{"$nulls":28},1875]
[{"$nulls":28},1876]
[{"$nulls":28},1877]
[{"$nulls":28},1878]
[{"$nulls":28},1879]
[{"$nulls":28},1880]
[{"$nulls":28},1881]
[{"$nulls":28},1882]
[{"$nulls":28},1883]
[{"$nulls":28},1884]
[{"$nulls":28},1885]
[{"$nulls":28},1886]
[{"$nulls":28},1887]
[{"$nulls":28},1888]
[{"$nulls":28},1889]
[{"$nulls":28},1890]
[{"$nulls":28},1891]
[{"$nulls":28},1892]
[{"$nulls":28},1893]
[{"$nulls":28},1894]
[{"$nulls":28},1895]
[{"$nulls":28},1896]
[{"$nulls":28},1897]
[{"$nulls":28},1898]
[{"$nulls":28},1899]
[{"$nulls":28},1900]
[{"$nulls":28},1901]
[{"$nulls":28},1902]
[{"$nulls":28},1903]
[{"$nulls":28},1904]
[{"$nulls":28},1905]
[{"$nulls":28},1906]
[{"$nulls":28},1907]
[{"$nulls":28},1908]
[{"$nulls":28},1909]
[{"$nulls":28},1910]
[{"$nulls":28},1911]
[{"$nulls":28},1912]
[{"$nulls":28},1913]
[{"$nulls":28},1914]
[{"$nulls":28},1915]
[{"$nulls":28},1916]
[{"$nulls":28},1917]
[{"$nulls":28},1918]
[{"$nulls":28},1919]
[{"$nulls":28},1920]
[{"$nulls":28},1921]
[{"$nulls":28},1922]
[{"$nulls":28},1923]
[{"$nulls":28},1924]
[{"$nulls":28},1925]
[{"$nulls":28},1926]
[{"$nulls":28},1927]
[{"$nulls":28},1928]
[{"$nulls":28},1929]
[{"$nulls":28},1930]
[{"$nulls":28},1931]
[{"$nulls":28},1932]
[{"$nulls":28},1933]
[{"$nulls":28},1934]
[{"$nulls":28},1935]
[{"$nulls":28},1936]
[{"$nulls":28},1937]
[{"$nulls":28},1938]
[{"$nulls":28},1939]
[{"$nulls":28},1940]
[{"$nulls":28},1941]
[{"$nulls":28},1942]
[{"$nulls":28},1943]
[{"$nulls":28},1944]
[{"$nulls":28},1945]
[{"$nulls":28},1946]
[{"$nulls":28},1947]
[{"$nulls":28},1948]
[{"$nulls":28},1949]
[{"$nulls":28},1950]
[{"$nulls":28},1951]
[{"$nulls":28},1952]
[{"$nulls":28},1953]
[{"$nulls":28},1954]
[{"$nulls":28},1955]
[{"$nulls":28},1956]
[{"$nulls":28},1957]
[{"$nulls":28},1958]
[{"$nulls":28},1959]
[{"$nulls":28},1960]
[{"$nulls":28},1961]
[{"$nulls":28},1962]
[{"$nulls":28},1963]
[{"$nulls":28},1964]
[{"$nulls":28},1965]
[{"$nulls":28},1966]
[{"$nulls":28},1967]
[{"$nulls":28},1968]
[{"$nulls":28},1969]
[{"$nulls":28},1970]
[{"$nulls":28},1971]
[{"$nulls":28},1972]
[{"$nulls":28},1973]
[{"$nulls":28},1974]
[{"$nulls":28},1975]
[{"$nulls":28},1976]
[{"$nulls":28},1977]
[{"$nulls":28},1978]
[{"$nulls":28},1979]
[{"$nulls":28},1980]
[{"$nulls":28},1981]
[{"$nulls":28},1982]
[{"$nulls":28},1983]
[{"$nulls":28},1984]
[{"$nulls":28},1985]
[{"$nulls":28},1986]
[{"$nulls":28},1987]
[{"$nulls":28},1988]
[{"$nulls":28},1989]
[{"$nulls":28},1990]
[{"$nulls":28},1991]
[{"$nulls":28},1992]
[{"$nulls":28},1993]
[{"$nulls":28},1994]
[{"$nulls":28},1995]
[{"$nulls":28},1996]
[{"$nulls":28},1997]
[{"$nulls":28},2007]
[{"$nulls":28},2062]
[{"$nulls":28},2140]
[{"$nulls":28},2159]
[{"$nulls":28},2222]
[{"$nulls":28},2265]
[{"$nulls":28},2333]
[{"$nulls":28},2362]
[{"$nulls":28},2389]
[{"$nulls":28},2458]
[{"$nulls":28},2487]
[{"$nulls":28},2555]
[{"$nulls":28},2588]
[{"$nulls":28},2661]
[{"$nulls":28},2680]
[{"$nulls":28},2758]
[{"$nulls":28},2803]
[{"$nulls":28},2854]
[{"$nulls":28},2883]
[{"$nulls":28},2951]
[{"$nulls":28},3002]
[{"$nulls":28},3047]
[{"$nulls":28},3076]
[{"$nulls":28},3154]
[{"$nulls":28},3169]
[{"$nulls":28},3250]
[{"$nulls":28},3279]
[{"$nulls":28},3347]
[{"$nulls":28},3368]
[{"$nulls":28},3443]
[{"$nulls":28},3472]
[{"$nulls":28},3550]
[{"$nulls":28},3583]
[{"$nulls":28},3646]
[{"$nulls":28},3675]
[{"$nulls":28},3743]
[{"$nulls":28},3782]
[{"$nulls":28},3839]
[{"$nulls":28},3868]
[{"$nulls":28},3946]
[{"$nulls":28},3949]
[{"$nulls":28},4042]
[{"$nulls":28},4061]
[{"$nulls":28},4139]
[{"$nulls":28},4148]
[{"$nulls":28},4235]
[{"$nulls":28},4264]
[{"$nulls":28},4293]
[{"$nulls":28},4363]
[{"$nulls":28},4389]
[{"$nulls":28},4457]
[{"$nulls":28},4486]
[{"$nulls":28},4562]
[{"$nulls":28},4582]
[{"$nulls":28},4660]
[{"$nulls":28},4679]
[{"$nulls":28},4729]
[{"$nulls":28},4785]
[{"$nulls":28},4853]
[{"$nulls":28},4882]
[{"$nulls":28},4928]
[{"$nulls":28},4978]
[{"$nulls":28},5056]
[{"$nulls":28},5075]
[{"$nulls":28},5143]
[{"$nulls":28},5181]
[{"$nulls":28},5249]
[{"$nulls":28},5278]
[{"$nulls":28},5342]
[{"$nulls":28},5374]
[{"$nulls":28},5452]
[{"$nulls":28},5471]
[{"$nulls":28},5509]
[{"$nulls":28},5577]
[{"$nulls":28},5645]
[{"$nulls":28},5674]
[{"$nulls":28},5724]
[{"$nulls":28},5770]
[{"$nulls":28},5848]
[{"$nulls":28},5867]
[{"$nulls":28},5923]
[{"$nulls":28},5973]
[{"$nulls":28},6041]
[{"$nulls":28},6070]
[{"$nulls":28},6138]
[{"$nulls":28},6166]
[{"$nulls":28},6195]
[{"$nulls":28},6263]
[{"$nulls":28},6289]
[{"$nulls":28},6369]
[{"$nulls":28},6388]
[{"$nulls":28},6466]
[{"$nulls":28},6504]
[{"$nulls":28},6562]
[{"$nulls":28},6591]
[{"$nulls":28},6659]
[{"$nulls":28},6703]
[{"$nulls":28},6755]
[{"$nulls":28},6784]
[{"$nulls":28},6862]
[{"$nulls":28},6918]
[{"$nulls":28},6958]
[{"$nulls":28},6987]
[{"$nulls":28},7055]
[{"$nulls":28},7069]
[{"$nulls":28},7151]
[{"$nulls":28},7180]
[{"$nulls":28},7258]
[{"$nulls":28},7284]
[{"$nulls":28},7354]
[{"$nulls":28},7373]
[{"$nulls":28},7451]
[{"$nulls":28},7483]
[{"$nulls":28},7547]
[{"$nulls":28},7576]
[{"$nulls":28},7605]
[{"$nulls":28},7698]
[{"$nulls":28},7701]
[{"$nulls":28},7769]
[{"$nulls":28},7847]
[{"$nulls":28},7849]
[{"$nulls":28},7943]
[{"$nulls":28},7972]
[{"$nulls":28},8001]
[{"$nulls":28},8064]
[{"$nulls":28},8097]
[{"$nulls":28},8165]
[{"$nulls":28},8194]
[{"$nulls":28},8263]
[{"$nulls":28},8290]
[{"$nulls":28},8368]
[{"$nulls":28},8387]
[{"$nulls":28},8478]
[{"$nulls":28},8493]
[{"$nulls":28},8561]
[{"$nulls":28},8590]
[{"$nulls":28},8629]
[{"$nulls":28},8686]
[{"$nulls":28},8764]
[{"$nulls":28},8783]
[{"$nulls":28},8844]
[{"$nulls":28},8889]
[{"$nulls":28},8957]
[{"$nulls":28},8986]
[{"$nulls":28},9059]
[{"$nulls":28},9082]
[{"$nulls":28},9160]
[{"$nulls":28},9179]
[{"$nulls":28},9258]
[{"$nulls":28},9285]
[{"$nulls":28},9353]
[{"$nulls":28},9382]
[{"$nulls":28},9425]
[{"$nulls":28},9478]
[{"$nulls":28},9507]
[{"$nulls":28},9575]
[{"$nulls":28},9624]
[{"$nulls":28},9681]
[{"$nulls":28},9700]
[{"$nulls":28},9778]
[{"$nulls":28},9839]
[{"$nulls":28},9874]
[{"$nulls":28},9903]
[{"$nulls":28},9971]
[{"$nulls":28},10038]
[{"$nulls":28},10067]
[{"$nulls":28},10096]
[{"$nulls":28},10174]
[{"$nulls":28},10193]
[{"$nulls":28},10239]
[{"$nulls":28},10299]
[{"$nulls":28},10367]
[{"$nulls":28},10396]
[{"$nulls":28},10454]
[{"$nulls":28},10492]
[{"$nulls":28},10570]
[{"$nulls":28},10589]
[{"$nulls":28},10653]
[{"$nulls":28},10695]
[{"$nulls":28},10763]
[{"$nulls":28},10792]
[{"$nulls":28},10868]
[{"$nulls":28},10888]
[{"$nulls":28},10966]
[{"$nulls":28},10985]
[{"$nulls":28},11019]
[{"$nulls":28},11081]
[{"$nulls":28},11159]
[{"$nulls":28},11188]
[{"$nulls":28},11234]
[{"$nulls":28},11284]
[{"$nulls":28},11313]
[{"$nulls":28},11381]
[{"$nulls":28},11433]
[{"$nulls":28},11477]
[{"$nulls":28},11506]
[{"$nulls":28},11584]
[{"$nulls":28},11648]
[{"$nulls":28},11680]
[{"$nulls":28},11699]
[{"$nulls":28},11777]
[{"$nulls":28},11799]
[{"$nulls":28},11873]
[{"$nulls":28},11902]
[{"$nulls":28},11980]
[{"$nulls":28},12014]
[{"$nulls":28},12076]
[{"$nulls":28},12095]
[{"$nulls":28},12173]
[{"$nulls":28},12213]
[{"$nulls":28},12269]
[{"$nulls":28},12298]
[{"$nulls":28},12376]
[{"$nulls":28},12428]
[{"$nulls":28},12472]
[{"$nulls":28},12491]
[{"$nulls":28},12569]
[{"$nulls":28},12579]
[{"$nulls":28},12665]
[{"$nulls":28},12694]
[{"$nulls":28},12762]
[{"$nulls":28},12794]
[{"$nulls":28},12868]
[{"$nulls":28},12887]
[{"$nulls":28},12965]
[{"$nulls":28},12993]
[{"$nulls":28},13061]
[{"$nulls":28},13090]
[{"$nulls":28},13158]
[{"$nulls":28},13208]
[{"$nulls":28},13215]
[{"$nulls":28},13283]
[{"$nulls":28},13312]
[{"$nulls":28},13359]
[{"$nulls":28},13408]
[{"$nulls":28},13486]
[{"$nulls":28},13505]
[{"$nulls":28},13574]
[{"$nulls":28},13611]
[{"$nulls":28},13679]
[{"$nulls":28},13708]
[{"$nulls":28},13789]
[{"$nulls":28},13804]
[{"$nulls":28},13882]
[{"$nulls":28},13901]
[{"$nulls":28},13988]
[{"$nulls":28},14007]
[{"$nulls":28},14075]
[{"$nulls":28},14104]
[{"$nulls":28},14155]
[{"$nulls":28},14200]
[{"$nulls":28},14278]
[{"$nulls":28},14297]
[{"$nulls":28},14354]
[{"$nulls":28},14393]
[{"$nulls":28},14471]
[{"$nulls":28},14500]
[{"$nulls":28},14569]
[{"$nulls":28},14596]
[{"$nulls":28},14625]
[{"$nulls":28},14693]
[{"$nulls":28},14768]
[{"$nulls":28},14789]
[{"$nulls":28},14867]
[{"$nulls":28},14896]
[{"$nulls":28},14935]
[{"$nulls":28},14992]
[{"$nulls":28},15021]
[{"$nulls":28},15089]
[{"$nulls":28},15134]
[{"$nulls":28},15185]
[{"$nulls":28},15214]
[{"$nulls":28},15292]
[{"$nulls":28},15349]
[{"$nulls":28},15388]
[{"$nulls":28},15407]
[{"$nulls":28},15485]
[{"$nulls":28},15548]
[{"$nulls":28},15581]
[{"$nulls":28},15610]
[{"$nulls":28},15688]
[{"$nulls":28},15715]
[{"$nulls":28},15784]
[{"$nulls":28},15803]
[{"$nulls":28},15881]
[{"$nulls":28},15914]
[{"$nulls":28},15977]
[{"$nulls":28},16006]
[{"$nulls":28},16074]
[{"$nulls":28},16129]
[{"$nulls":28},16180]
[{"$nulls":28},16199]
[{"$nulls":28},16277]
[{"$nulls":28},16328]
[{"$nulls":28},16373]
[{"$nulls":28},16402]
[{"$nulls":28},16470]
[{"$nulls":28},16495]
[{"$nulls":28},16527]
[{"$nulls":28},16595]
[{"$nulls":28},16624]
[{"$nulls":28},16694]
[{"$nulls":28},16720]
[{"$nulls":28},16798]
[{"$nulls":28},16866]
[{"$nulls":28},16909]
[{"$nulls":28},16923]
[{"$nulls":28},16991]
[{"$nulls":28},17020]
[{"$nulls":28},17076]
[{"$nulls":28},17116]
[{"$nulls":28},17194]
[{"$nulls":28},17213]
[{"$nulls":28},17275]
[{"$nulls":28},17319]
[{"$nulls":28},17387]
[{"$nulls":28},17416]
[{"$nulls":28},17490]
[{"$nulls":28},17512]
[{"$nulls":28},17590]
[{"$nulls":28},17609]
[{"$nulls":28},17689]
[{"$nulls":28},17715]
[{"$nulls":28},17783]
[{"$nulls":28},17812]
[{"$nulls":28},17856]
[{"$nulls":28},17908]
[{"$nulls":28},17986]
[{"$nulls":28},18005]
[{"$nulls":28},18055]
[{"$nulls":28},18101]
[{"$nulls":28},18179]
[{"$nulls":28},18208]
[{"$nulls":28},18276]
[{"$nulls":28},18304]
[{"$nulls":28},18333]
[{"$nulls":28},18401]
[{"$nulls":28},18430]
[{"$nulls":28},18519]
[{"$nulls":28},18526]
[{"$nulls":28},18604]
[{"$nulls":28},18623]
[{"$nulls":28},18718]
[{"$nulls":28},18719]
[{"$nulls":28},18797]
[{"$nulls":28},18826]
[{"$nulls":28},18885]
[{"$nulls":28},18922]
[{"$nulls":28},19000]
[{"$nulls":28},19019]
[{"$nulls":28},19084]
[{"$nulls":28},19115]
[{"$nulls":28},19193]
[{"$nulls":28},19222]
[{"$nulls":28},19299]
[{"$nulls":28},19318]
[{"$nulls":28},19396]
[{"$nulls":28},19415]
[{"$nulls":28},19498]
[{"$nulls":28},19511]
[{"$nulls":28},19589]
[{"$nulls":28},19618]
[{"$nulls":28},19665]
[{"$nulls":28},19714]
[{"$nulls":28},19782]
[{"$nulls":28},19811]
[{"$nulls":28},19864]
[{"$nulls":28},19907]
[{"$nulls":28},19985]
[{"$nulls":28},20014]
[{"$nulls":28},20079]
[{"$nulls":28},20110]
[{"$nulls":28},20178]
[{"$nulls":28},20207]
[{"$nulls":28},20278]
[{"$nulls":28},20303]
[{"$nulls":28},20332]
[{"$nulls":28},20400]
[{"$nulls":28},20445]
[{"$nulls":28},20506]
[{"$nulls":28},20525]
[{"$nulls":28},20603]
[{"$nulls":28},20644]
[{"$nulls":28},20699]
[{"$nulls":28},20728]
[{"$nulls":28},20796]
[{"$nulls":28},20859]
[{"$nulls":28},20902]
[{"$nulls":28},20921]
[{"$nulls":28},20999]
[{"$nulls":28},21058]
[{"$nulls":28},21095]
[{"$nulls":28},21124]
[{"$nulls":28},21192]
[{"$nulls":28},21225]
[{"$nulls":28},21298]
[{"$nulls":28},21317]
[{"$nulls":28},21395]
[{"$nulls":28},21440]
[{"$nulls":28},21491]
[{"$nulls":28},21520]
[{"$nulls":28},21588]
[{"$nulls":28},21639]
[{"$nulls":28},21645]
[{"$nulls":28},21713]
[{"$nulls":28},21742]
[{"$nulls":28},21806]
[{"$nulls":28},21887]
[{"$nulls":28},21916]
[{"$nulls":28},21984]
[{"$nulls":28},22005]
[{"$nulls":28},22041]
[{"$nulls":28},22109]
[{"$nulls":28},22138]
[{"$nulls":28},22220]
[{"$nulls":28},22234]
[{"$nulls":28},22312]
[{"$nulls":28},22331]
[{"$nulls":28},22419]
[{"$nulls":28},22427]
[{"$nulls":28},22505]
[{"$nulls":28},22534]
[{"$nulls":28},22586]
[{"$nulls":28},22630]
[{"$nulls":28},22708]
[{"$nulls":28},22727]
[{"$nulls":28},22785]
[{"$nulls":28},22823]
[{"$nulls":28},22901]
[{"$nulls":28},22930]
[{"$nulls":28},23000]
[{"$nulls":28},23026]
[{"$nulls":28},23094]
[{"$nulls":28},23123]
[{"$nulls":28},23199]
[{"$nulls":28},23219]
[{"$nulls":28},23297]
[{"$nulls":28},23326]
[{"$nulls":28},23366]
[{"$nulls":28},23422]
[{"$nulls":28},23490]
[{"$nulls":28},23519]
[{"$nulls":28},23565]
[{"$nulls":28},23615]
[{"$nulls":28},23644]
[{"$nulls":28},23722]
[{"$nulls":28},23780]
[{"$nulls":28},23818]
[{"$nulls":28},23886]
[{"$nulls":28},23915]
[{"$nulls":28},23979]
[{"$nulls":28},24011]
[{"$nulls":28},24040]
[{"$nulls":28},24108]
[{"$nulls":28},24146]
[{"$nulls":28},24214]
[{"$nulls":28},24233]
[{"$nulls":28},24311]
[{"$nulls":28},24345]
[{"$nulls":28},24407]
[{"$nulls":28},24436]
[{"$nulls":28},24504]
[{"$nulls":28},24560]
[{"$nulls":28},24610]
[{"$nulls":28},24629]
[{"$nulls":28},24707]
[{"$nulls":28},24759]
[{"$nulls":28},24803]
[{"$nulls":28},24832]
[{"$nulls":28},24900]
[{"$nulls":28},24926]
[{"$nulls":28},25006]
[{"$nulls":28},25025]
[{"$nulls":28},25103]
[{"$nulls":28},25141]
[{"$nulls":28},25199]
[{"$nulls":28},25228]
[{"$nulls":28},25296]
[{"$nulls":28},25340]
[{"$nulls":28},25353]
[{"$nulls":28},25421]
[{"$nulls":28},25450]
[{"$nulls":28},25507]
[{"$nulls":28},25546]
[{"$nulls":28},25624]
[{"$nulls":28},25643]
[{"$nulls":28},25706]
[{"$nulls":28},25739]
[{"$nulls":28},25817]
[{"$nulls":28},25846]
[{"$nulls":28},25921]
[{"$nulls":28},25942]
[{"$nulls":28},26020]
[{"$nulls":28},26039]
[{"$nulls":28},26120]
[{"$nulls":28},26135]
[{"$nulls":28},26213]
[{"$nulls":28},26242]
[{"$nulls":28},26287]
[{"$nulls":28},26338]
[{"$nulls":28},26416]
[{"$nulls":28},26435]
[{"$nulls":28},26513]
[{"$nulls":28},26536]
[{"$nulls":28},26609]
[{"$nulls":28},26638]
[{"$nulls":28},26706]
[{"$nulls":28},26735]
[{"$nulls":28},26802]
[{"$nulls":28},26831]
[{"$nulls":28},26909]
[{"$nulls":28},26950]
[{"$nulls":28},27005]
[{"$nulls":28},27034]
[{"$nulls":28},27102]
[{"$nulls":28},27149]
[{"$nulls":28},27198]
[{"$nulls":28},27227]
[{"$nulls":28},27256]
[{"$nulls":28},27316]
[{"$nulls":28},27352]
[{"$nulls":28},27420]
[{"$nulls":28},27449]
[{"$nulls":28},27515]
[{"$nulls":28},27545]
[{"$nulls":28},27623]
[{"$nulls":28},27652]
[{"$nulls":28},27730]
[{"$nulls":28},27748]
[{"$nulls":28},27816]
[{"$nulls":28},27845]
[{"$nulls":28},27929]
[{"$nulls":28},27941]
[{"$nulls":28},28019]
[{"$nulls":28},28048]
[{"$nulls":28},28096]
[{"$nulls":28},28144]
[{"$nulls":28},28212]
[{"$nulls":28},28241]
[{"$nulls":28},28295]
[{"$nulls":28},28337]
[{"$nulls":28},28415]
[{"$nulls":28},28434]
[{"$nulls":28},28510]
[{"$nulls":28},28540]
[{"$nulls":28},28608]
[{"$nulls":28},28637]
[{"$nulls":28},28709]
[{"$nulls":28},28733]
[{"$nulls":28},28762]
[{"$nulls":28},28830]
[{"$nulls":28},28876]
[{"$nulls":28},28936]
[{"$nulls":28},29004]
[{"$nulls":28},29033]
[{"$nulls":28},29075]
[{"$nulls":28},29129]
[{"$nulls":28},29158]
[{"$nulls":28},29226]
[{"$nulls":28},29290]
[{"$nulls":28},29332]
[{"$nulls":28},29351]
[{"$nulls":28},29429]
[{"$nulls":28},29457]
[{"$nulls":28},29525]
[{"$nulls":28},29554]
[{"$nulls":28},29622]
[{"$nulls":28},29656]
[{"$nulls":28},29728]
[{"$nulls":28},29747]
[{"$nulls":28},29825]
[{"$nulls":28},29871]
[{"$nulls":28},29921]
[{"$nulls":28},29950]
[{"$nulls":28},30018]
[{"$nulls":28},30070]
[{"$nulls":28},30114]
[{"$nulls":28},30143]
[{"$nulls":28},30221]
[{"$nulls":28},30237]
[{"$nulls":28},30317]
[{"$nulls":28},30346]
[{"$nulls":28},30414]
[{"$nulls":28},30436]
[{"$nulls":28},30510]
[{"$nulls":28},30539]
[{"$nulls":28},30568]
[{"$nulls":28},30651]
[{"$nulls":28},30664]
[{"$nulls":28},30742]
[{"$nulls":28},30761]
[{"$nulls":28},30850]
[{"$nulls":28},30906]
[{"$nulls":28},30935]
[{"$nulls":28},30964]
[{"$nulls":28},31017]
[{"$nulls":28},31060]
[{"$nulls":28},31128]
[{"$nulls":28},31157]
[{"$nulls":28},31216]
[{"$nulls":28},31253]
[{"$nulls":28},31331]
[{"$nulls":28},31360]
[{"$nulls":28},31431]
[{"$nulls":28},31456]
[{"$nulls":28},31524]
[{"$nulls":28},31553]
[{"$nulls":28},31630]
[{"$nulls":28},31649]
[{"$nulls":28},31727]
[{"$nulls":28},31756]
[{"$nulls":28},31797]
[{"$nulls":28},31852]
[{"$nulls":28},31920]
[{"$nulls":28},31949]
[{"$nulls":28},31996]
[{"$nulls":28},32045]
[{"$nulls":28},32123]
[{"$nulls":28},32142]
[{"$nulls":28},32211]
[{"$nulls":28},32248]
[{"$nulls":28},32316]
[{"$nulls":28},32345]
[{"$nulls":28},32410]
[{"$nulls":28},32441]
[{"$nulls":28},32470]
[{"$nulls":28},32538]
[{"$nulls":28},32577]
[{"$nulls":28},32644]
[{"$nulls":28},32663]
[{"$nulls":28},32741]
[{"$nulls":28},32792]
[{"$nulls":28},32837]
[{"$nulls":28},32866]
[{"$nulls":28},32934]
[{"$nulls":28},32991]
[{"$nulls":28},33040]
[{"$nulls":28},33059]
[{"$nulls":28},33137]
[{"$nulls":28},33158]
[{"$nulls":28},33233]
[{"$nulls":28},33262]
[{"$nulls":28},33330]
[{"$nulls":28},33357]
[{"$nulls":28},33436]
[{"$nulls":28},33455]
[{"$nulls":28},33533]
[{"$nulls":28},33572]
[{"$nulls":28},33629]
[{"$nulls":28},33658]
[{"$nulls":28},33726]
[{"$nulls":28},33771]
[{"$nulls":28},33822]
[{"$nulls":28},33851]
[{"$nulls":28},33929]
[{"$nulls":28},33938]
[{"$nulls":28},34025]
[{"$nulls":28},34054]
[{"$nulls":28},34122]
[{"$nulls":28},34137]
[{"$nulls":28},34218]
[{"$nulls":28},34247]
[{"$nulls":28},34276]
[{"$nulls":28},34352]
[{"$nulls":28},34372]
[{"$nulls":28},34440]
[{"$nulls":28},34469]
[{"$nulls":28},34547]
[{"$nulls":28},34601]
[{"$nulls":28},34643]
[{"$nulls":28},34672]
[{"$nulls":28},34740]
[{"$nulls":28},34800]
[{"$nulls":28},34836]
[{"$nulls":28},34865]
[{"$nulls":28},34943]
[{"$nulls":28},34967]
[{"$nulls":28},35039]
[{"$nulls":28},35068]
[{"$nulls":28},35136]
[{"$nulls":28},35166]
[{"$nulls":28},35232]
[{"$nulls":28},35261]
[{"$nulls":28},35339]
[{"$nulls":28},35381]
[{"$nulls":28},35435]
[{"$nulls":28},35454]
[{"$nulls":28},35532]
[{"$nulls":28},35580]
[{"$nulls":28},35628]
[{"$nulls":28},35657]
[{"$nulls":28},35686]
[{"$nulls":28},35747]
[{"$nulls":28},35782]
[{"$nulls":28},35850]
[{"$nulls":28},35928]
[{"$nulls":28},35946]
[{"$nulls":28},36024]
[{"$nulls":28},36053]
[{"$nulls":28},36082]
[{"$nulls":28},36161]
[{"$nulls":28},36178]
[{"$nulls":28},36246]
[{"$nulls":28},36275]
[{"$nulls":28},36360]
[{"$nulls":28},36371]
[{"$nulls":28},36449]
[{"$nulls":28},36468]
[{"$nulls":28},36527]
[{"$nulls":28},36574]
[{"$nulls":28},36642]
[{"$nulls":28},36671]
[{"$nulls":28},36726]
[{"$nulls":28},36767]
[{"$nulls":28},36845]
[{"$nulls":28},36864]
[{"$nulls":28},36941]
[{"$nulls":28},36970]
[{"$nulls":28},37038]
[{"$nulls":28},37067]
[{"$nulls":28},37108]
[{"$nulls":28},37163]
[{"$nulls":28},37241]
[{"$nulls":28},37260]
[{"$nulls":28},37307]
[{"$nulls":28},37366]
[{"$nulls":28},37434]
[{"$nulls":28},37463]
[{"$nulls":28},37522]
[{"$nulls":28},37559]
[{"$nulls":28},37588]
[{"$nulls":28},37656]
[{"$nulls":28},37721]
[{"$nulls":28},37762]
[{"$nulls":28},37781]
[{"$nulls":28},37859]
[{"$nulls":28},37888]
[{"$nulls":28},37955]
[{"$nulls":28},37984]
[{"$nulls":28},38052]
[{"$nulls":28},38087]
[{"$nulls":28},38148]
[{"$nulls":28},38177]
[{"$nulls":28},38255]
[{"$nulls":28},38302]
[{"$nulls":28},38351]
[{"$nulls":28},38380]
[{"$nulls":28},38448]
[{"$nulls":28},38501]
[{"$nulls":28},38544]
[{"$nulls":28},38573]
[{"$nulls":28},38651]
[{"$nulls":28},38668]
[{"$nulls":28},38747]
[{"$nulls":28},38766]
[{"$nulls":28},38844]
[{"$nulls":28},38867]
[{"$nulls":28},38940]
[{"$nulls":28},38969]
[{"$nulls":28},39047]
[{"$nulls":28},39082]
[{"$nulls":28},39143]
[{"$nulls":28},39162]
[{"$nulls":28},39240]
[{"$nulls":28},39281]
[{"$nulls":28},39336]
[{"$nulls":28},39365]
[{"$nulls":28},39394]
[{"$nulls":28},39448]
[{"$nulls":28},39490]
[{"$nulls":28},39558]
[{"$nulls":28},39587]
[{"$nulls":28},39647]
[{"$nulls":28},39683]
[{"$nulls":28},39761]
[{"$nulls":28},39780]
[{"$nulls":28},39862]
[{"$nulls":28},39886]
[{"$nulls":28},39954]
[{"$nulls":28},39983]
[{"$nulls":28},40061]
[{"$nulls":28},40079]
[{"$nulls":28},40157]
[{"$nulls":28},40176]
[{"$nulls":28},40228]
[{"$nulls":28},40282]
[{"$nulls":28},40350]
[{"$nulls":28},40379]
[{"$nulls":28},40427]
[{"$nulls":28},40475]
[{"$nulls":28},40553]
[{"$nulls":28},40572]
[{"$nulls":28},40642]
[{"$nulls":28},40678]
[{"$nulls":28},40746]
[{"$nulls":28},40775]
[{"$nulls":28},40809]
[{"$nulls":28},40871]
[{"$nulls":28},40949]
[{"$nulls":28},40968]
[{"$nulls":28},41008]
[{"$nulls":28},41074]
[{"$nulls":28},41142]
[{"$nulls":28},41171]
[{"$nulls":28},41223]
[{"$nulls":28},41267]
[{"$nulls":28},41296]
[{"$nulls":28},41364]
[{"$nulls":28},41422]
[{"$nulls":28},41460]
[{"$nulls":28},41489]
[{"$nulls":28},41567]
[{"$nulls":28},41589]
[{"$nulls":28},41663]
[{"$nulls":28},41692]
[{"$nulls":28},41760]
[{"$nulls":28},41788]
[{"$nulls":28},41856]
[{"$nulls":28},41885]
[{"$nulls":28},41963]
[{"$nulls":28},42003]
[{"$nulls":28},42059]
[{"$nulls":28},42088]
[{"$nulls":28},42156]
[{"$nulls":28},42202]
[{"$nulls":28},42252]
[{"$nulls":28},42281]
[{"$nulls":28},42359]
[{"$nulls":28},42369]
[{"$nulls":28},42455]
[{"$nulls":28},42474]
[{"$nulls":28},42552]
[{"$nulls":28},42568]
[{"$nulls":28},42648]
[{"$nulls":28},42677]
[{"$nulls":28},42706]
[{"$nulls":28},42774]
[{"$nulls":28},42817]
[{"$nulls":28},42870]
[{"$nulls":28},42948]
[{"$nulls":28},42977]
[{"$nulls":28},43032]
[{"$nulls":28},43073]
[{"$nulls":28},43102]
[{"$nulls":28},43170]
[{"$nulls":28},43231]
[{"$nulls":28},43266]
[{"$nulls":28},43295]
[{"$nulls":28},43373]
[{"$nulls":28},43398]
[{"$nulls":28},43469]
[{"$nulls":28},43488]
[{"$nulls":28},43566]
[{"$nulls":28},43597]
[{"$nulls":28},43662]
[{"$nulls":28},43691]
[{"$nulls":28},43769]
[{"$nulls":28},43812]
[{"$nulls":28},43865]
[{"$nulls":28},43884]
[{"$nulls":28},43962]
[{"$nulls":28},44011]
[{"$nulls":28},44058]
[{"$nulls":28},44087]
[{"$nulls":28},44155]
[{"$nulls":28},44178]
[{"$nulls":28},44261]
[{"$nulls":28},44280]
[{"$nulls":28},44358]
[{"$nulls":28},44377]
[{"$nulls":28},44454]
[{"$nulls":28},44483]
[{"$nulls":28},44551]
[{"$nulls":28},44592]
[{"$nulls":28},44608]
[{"$nulls":28},44676]
[{"$nulls":28},44705]
[{"$nulls":28},44791]
[{"$nulls":28},44801]
[{"$nulls":28},44879]
[{"$nulls":28},44947]
[{"$nulls":28},44958]
[{"$nulls":28},45004]
[{"$nulls":28},45072]
[{"$nulls":28},45101]
[{"$nulls":28},45173]
[{"$nulls":28},45197]
[{"$nulls":28},45275]
[{"$nulls":28},45294]
[{"$nulls":28},45372]
[{"$nulls":28},45400]
[{"$nulls":28},45468]
[{"$nulls":28},45497]
[{"$nulls":28},45539]
[{"$nulls":28},45593]
[{"$nulls":28},45671]
[{"$nulls":28},45690]
[{"$nulls":28},45738]
[{"$nulls":28},45786]
[{"$nulls":28},45864]
[{"$nulls":28},45893]
[{"$nulls":28},45953]
[{"$nulls":28},45989]
[{"$nulls":28},46067]
[{"$nulls":28},46086]
[{"$nulls":28},46152]
[{"$nulls":28},46182]
[{"$nulls":28},46260]
[{"$nulls":28},46289]
[{"$nulls":28},46319]
[{"$nulls":28},46385]
[{"$nulls":28},46414]
[{"$nulls":28},46482]
[{"$nulls":28},46518]
[{"$nulls":28},46578]
[{"$nulls":28},46607]
[{"$nulls":28},46685]
[{"$nulls":28},46733]
[{"$nulls":28},46781]
[{"$nulls":28},46800]
[{"$nulls":28},46878]
[{"$nulls":28},46932]
[{"$nulls":28},46974]
[{"$nulls":28},47003]
[{"$nulls":28},47081]
[{"$nulls":28},47099]
[{"$nulls":28},47177]
[{"$nulls":28},47196]
[{"$nulls":28},47274]
[{"$nulls":28},47298]
[{"$nulls":28},47370]
[{"$nulls":28},47399]
[{"$nulls":28},47477]
[{"$nulls":28},47513]
[{"$nulls":28},47573]
[{"$nulls":28},47592]
[{"$nulls":28},47670]
[{"$nulls":28},47712]
[{"$nulls":28},47766]
[{"$nulls":28},47795]
[{"$nulls":28},47863]
[{"$nulls":28},47879]
[{"$nulls":28},47969]
[{"$nulls":28},47988]
[{"$nulls":28},48066]
[{"$nulls":28},48078]
[{"$nulls":28},48162]
[{"$nulls":28},48191]
[{"$nulls":28},48259]
[{"$nulls":28},48293]
[{"$nulls":28},48316]
[{"$nulls":28},48384]
[{"$nulls":28},48413]
[{"$nulls":28},48460]
[{"$nulls":28},48509]
[{"$nulls":28},48587]
[{"$nulls":28},48606]
[{"$nulls":28},48659]
[{"$nulls":28},48712]
[{"$nulls":28},48780]
[{"$nulls":28},48809]
[{"$nulls":28},48874]
[{"$nulls":28},48905]
[{"$nulls":28},48983]
[{"$nulls":28},49002]
[{"$nulls":28},49073]
[{"$nulls":28},49108]
[{"$nulls":28},49176]
[{"$nulls":28},49205]
[{"$nulls":28},49240]
[{"$nulls":28},49301]
[{"$nulls":28},49379]
[{"$nulls":28},49398]
[{"$nulls":28},49439]
[{"$nulls":28},49494]
[{"$nulls":28},49572]
[{"$nulls":28},49601]
[{"$nulls":28},49654]
[{"$nulls":28},49697]
[{"$nulls":28},49726]
[{"$nulls":28},49794]
[{"$nulls":28},49853]
[{"$nulls":28},49890]
[{"$nulls":28},49968]
[{"$nulls":28},49997]
[{"$nulls":28},50020]
[{"$nulls":28},50093]
[{"$nulls":28},50161]
[{"$nulls":28},50190]
[{"$nulls":28},50219]
[{"$nulls":28},50286]
[{"$nulls":28},50315]
[{"$nulls":28},50393]
[{"$nulls":28},50434]
[{"$nulls":28},50489]
[{"$nulls":28},50508]
[{"$nulls":28},50586]
[{"$nulls":28},50633]
[{"$nulls":28},50682]
[{"$nulls":28},50711]
[{"$nulls":28},50789]
[{"$nulls":28},50808]
[{"$nulls":28},50882]
[{"$nulls":28},50904]
[{"$nulls":28},50982]
[{"$nulls":28},51011]
[{"$nulls":28},51049]
[{"$nulls":28},51107]
[{"$nulls":28},51175]
[{"$nulls":28},51204]
[{"$nulls":28},51248]
[{"$nulls":28},51300]
[{"$nulls":28},51378]
[{"$nulls":28},51407]
[{"$nulls":28},51463]
[{"$nulls":28},51503]
[{"$nulls":28},51571]
[{"$nulls":28},51600]
[{"$nulls":28},51662]
[{"$nulls":28},51696]
[{"$nulls":28},51725]
[{"$nulls":28},51803]
[{"$nulls":28},51829]
[{"$nulls":28},51899]
[{"$nulls":28},51967]
[{"$nulls":28},51996]
[{"$nulls":28},52028]
[{"$nulls":28},52092]
[{"$nulls":28},52121]
[{"$nulls":28},52189]
[{"$nulls":28},52243]
[{"$nulls":28},52295]
[{"$nulls":28},52314]
[{"$nulls":28},52392]
[{"$nulls":28},52442]
[{"$nulls":28},52488]
[{"$nulls":28},52517]
[{"$nulls":28},52585]
[{"$nulls":28},52609]
[{"$nulls":28},52691]
[{"$nulls":28},52710]
[{"$nulls":28},52788]
[{"$nulls":28},52824]
[{"$nulls":28},52884]
[{"$nulls":28},52913]
[{"$nulls":28},52981]
[{"$nulls":28},53023]
[{"$nulls":28},53087]
[{"$nulls":28},53106]
[{"$nulls":28},53184]
[{"$nulls":28},53190]
[{"$nulls":28},53280]
[{"$nulls":28},53309]
[{"$nulls":28},53377]
[{"$nulls":28},53389]
[{"$nulls":28},53434]
[{"$nulls":28},53502]
[{"$nulls":28},53531]
[{"$nulls":28},53604]
[{"$nulls":28},53627]
[{"$nulls":28},53705]
[{"$nulls":28},53724]
[{"$nulls":28},53803]
[{"$nulls":28},53820]
[{"$nulls":28},53898]
[{"$nulls":28},53927]
[{"$nulls":28},53970]
[{"$nulls":28},54023]
[{"$nulls":28},54101]
[{"$nulls":28},54120]
[{"$nulls":28},54169]
[{"$nulls":28},54216]
[{"$nulls":28},54294]
[{"$nulls":28},54323]
[{"$nulls":28},54384]
[{"$nulls":28},54419]
[{"$nulls":28},54497]
[{"$nulls":28},54516]
[{"$nulls":28},54583]
[{"$nulls":28},54612]
[{"$nulls":28},54690]
[{"$nulls":28},54719]
[{"$nulls":28},54750]
[{"$nulls":28},54815]
[{"$nulls":28},54883]
[{"$nulls":28},54912]
[{"$nulls":28},54949]
[{"$nulls":28},55008]
[{"$nulls":28},55086]
[{"$nulls":28},55115]
[{"$nulls":28},55164]
[{"$nulls":28},55211]
[{"$nulls":28},55279]
[{"$nulls":28},55308]
[{"$nulls":28},55363]
[{"$nulls":28},55404]
[{"$nulls":28},55433]
[{"$nulls":28},55501]
[{"$nulls":28},55530]
[{"$nulls":28},55607]
[{"$nulls":28},55626]
[{"$nulls":28},55704]
[{"$nulls":28},55729]
[{"$nulls":28},55800]
[{"$nulls":28},55829]
[{"$nulls":28},55897]
[{"$nulls":28},55944]
[{"$nulls":28},56003]
[{"$nulls":28},56022]
[{"$nulls":28},56100]
[{"$nulls":28},56143]
[{"$nulls":28},56196]
[{"$nulls":28},56225]
[{"$nulls":28},56293]
[{"$nulls":28},56310]
[{"$nulls":28},56399]
[{"$nulls":28},56418]
[{"$nulls":28},56496]
[{"$nulls":28},56525]
[{"$nulls":28},56592]
[{"$nulls":28},56621]
[{"$nulls":28},56689]
[{"$nulls":28},56724]
[{"$nulls":28},56746]
[{"$nulls":28},56814]
[{"$nulls":28},56843]
[{"$nulls":28},56939]
[{"$nulls":28},56988]
[{"$nulls":28},57017]
[{"$nulls":28},57085]
[{"$nulls":28},57090]
[{"$nulls":28},57181]
[{"$nulls":28},57210]
[{"$nulls":28},57239]
[{"$nulls":28},57305]
[{"$nulls":28},57335]
[{"$nulls":28},57413]
[{"$nulls":28},57432]
[{"$nulls":28},57504]
[{"$nulls":28},57528]
[{"$nulls":28},57606]
[{"$nulls":28},57635]
[{"$nulls":28},57719]
[{"$nulls":28},57731]
[{"$nulls":28},57809]
[{"$nulls":28},57828]
[{"$nulls":28},57870]
[{"$nulls":28},57924]
[{"$nulls":28},58002]
[{"$nulls":28},58031]
[{"$nulls":28},58085]
[{"$nulls":28},58127]
[{"$nulls":28},58195]
[{"$nulls":28},58224]
[{"$nulls":28},58284]
[{"$nulls":28},58320]
[{"$nulls":28},58398]
[{"$nulls":28},58427]
[{"$nulls":28},58499]
[{"$nulls":28},58523]
[{"$nulls":28},58591]
[{"$nulls":28},58620]
[{"$nulls":28},58650]
[{"$nulls":28},58716]
[{"$nulls":28},58745]
[{"$nulls":28},58823]
[{"$nulls":28},58842]
[{"$nulls":28},58899]
[{"$nulls":28},58987]
[{"$nulls":28},59016]
[{"$nulls":28},59045]
[{"$nulls":28},59114]
[{"$nulls":28},59141]
[{"$nulls":28},59209]
[{"$nulls":28},59238]
[{"$nulls":28},59313]
[{"$nulls":28},59334]
[{"$nulls":28},59412]
[{"$nulls":28},59441]
[{"$nulls":28},59480]
[{"$nulls":28},59537]
[{"$nulls":28},59605]
[{"$nulls":28},59634]
[{"$nulls":28},59679]
[{"$nulls":28},59730]
[{"$nulls":28},59808]
[{"$nulls":28},59827]
[{"$nulls":28},59894]
[{"$nulls":28},59933]
[{"$nulls":28},60001]
[{"$nulls":28},60030]
[{"$nulls":28},60093]
[{"$nulls":28},60126]
[{"$nulls":28},60204]
[{"$nulls":28},60223]
[{"$nulls":28},60260]
[{"$nulls":28},60329]
[{"$nulls":28},60397]
[{"$nulls":28},60426]
[{"$nulls":28},60459]
[{"$nulls":28},60522]
[{"$nulls":28},60551]
[{"$nulls":28},60619]
[{"$nulls":28},60674]
[{"$nulls":28},60725]
[{"$nulls":28},60744]
[{"$nulls":28},60822]
[{"$nulls":28},60841]
[{"$nulls":28},60918]
[{"$nulls":28},60947]
[{"$nulls":28},61015]
[{"$nulls":28},61040]
[{"$nulls":28},61121]
[{"$nulls":28},61140]
[{"$nulls":28},61218]
[{"$nulls":28},61255]
[{"$nulls":28},61314]
[{"$nulls":28},61343]
[{"$nulls":28},61411]
[{"$nulls":28},61454]
[{"$nulls":28},61517]
[{"$nulls":28},61536]
[{"$nulls":28},61614]
[{"$nulls":28},61621]
[{"$nulls":28},61710]
[{"$nulls":28},61739]
[{"$nulls":28},61807]
[{"$nulls":28},61820]
[{"$nulls":28},61903]
[{"$nulls":28},61932]
[{"$nulls":28},62010]
[{"$nulls":28},62035]
[{"$nulls":28},62106]
[{"$nulls":28},62135]
[{"$nulls":28},62203]
[{"$nulls":28},62234]
[{"$nulls":28},62299]
[{"$nulls":28},62328]
[{"$nulls":28},62357]
[{"$nulls":28},62401]
[{"$nulls":28},62453]
[{"$nulls":28},62521]
[{"$nulls":28},62550]
[{"$nulls":28},62600]
[{"$nulls":28},62646]
[{"$nulls":28},62724]
[{"$nulls":28},62753]
[{"$nulls":28},62815]
[{"$nulls":28},62849]
[{"$nulls":28},62917]
[{"$nulls":28},62946]
[{"$nulls":28},63014]
[{"$nulls":28},63042]
[{"$nulls":28},63120]
[{"$nulls":28},63149]
[{"$nulls":28},63181]
[{"$nulls":28},63245]
[{"$nulls":28},63313]
[{"$nulls":28},63342]
[{"$nulls":28},63380]
[{"$nulls":28},63438]
[{"$nulls":28},63516]
[{"$nulls":28},63535]
[{"$nulls":28},63595]
[{"$nulls":28},63641]
[{"$nulls":28},63709]
[{"$nulls":28},63738]
[{"$nulls":28},63794]
[{"$nulls":28},63834]
[{"$nulls":28},63863]
[{"$nulls":28},63931]
[{"$nulls":28},63961]
[{"$nulls":28},64037]
[{"$nulls":28},64105]
[{"$nulls":28},64134]
[{"$nulls":28},64176]
[{"$nulls":28},64230]
[{"$nulls":28},64259]
[{"$nulls":28},64327]
[{"$nulls":28},64375]
[{"$nulls":28},64433]
[{"$nulls":28},64452]
[{"$nulls":28},64530]
[{"$nulls":28},64590]
[{"$nulls":28},64626]
[{"$nulls":28},64655]
[{"$nulls":28},64723]
[{"$nulls":28},64741]
[{"$nulls":28},64829]
[{"$nulls":28},64848]
[{"$nulls":28},64926]
[{"$nulls":28},64956]
[{"$nulls":28},65022]
[{"$nulls":28},65051]
[{"$nulls":28},65119]
[{"$nulls":28},65155]
[{"$nulls":28},65215]
[{"$nulls":28},65244]
[{"$nulls":28},65322]
[{"$nulls":28},65370]
[{"$nulls":28},65418]
[{"$nulls":28},65447]
[{"$nulls":28},65515]
[{"$nulls":28},65521]
[{"$nulls":28},65611]
[{"$nulls":28},65640]
[{"$nulls":28},65669]
[{"$nulls":28},65736]
[{"$nulls":28},65765]
[{"$nulls":28},65843]
[{"$nulls":28},65862]
[{"$nulls":28},65935]
[{"$nulls":28},66007]
[{"$nulls":28},66036]
[{"$nulls":28},66065]
[{"$nulls":28},66150]
[{"$nulls":28},66161]
[{"$nulls":28},66229]
[{"$nulls":28},66258]
[{"$nulls":28},66301]
[{"$nulls":28},66354]
[{"$nulls":28},66432]
[{"$nulls":28},66461]
[{"$nulls":28},66516]
[{"$nulls":28},66557]
[{"$nulls":28},66625]
[{"$nulls":28},66654]
[{"$nulls":28},66715]
[{"$nulls":28},66750]
[{"$nulls":28},66828]
[{"$nulls":28},66847]
[{"$nulls":28},66930]
[{"$nulls":28},66953]
[{"$nulls":28},67021]
[{"$nulls":28},67050]
[{"$nulls":28},67128]
[{"$nulls":28},67131]
[{"$nulls":28},67224]
[{"$nulls":28},67243]
[{"$nulls":28},67321]
[{"$nulls":28},67330]
[{"$nulls":28},67417]
[{"$nulls":28},67446]
[{"$nulls":28},67475]
[{"$nulls":28},67545]
[{"$nulls":28},67571]
[{"$nulls":28},67639]
[{"$nulls":28},67668]
[{"$nulls":28},67744]
[{"$nulls":28},67764]
[{"$nulls":28},67842]
[{"$nulls":28},67861]
[{"$nulls":28},67911]
[{"$nulls":28},67967]
[{"$nulls":28},68035]
[{"$nulls":28},68064]
[{"$nulls":28},68110]
[{"$nulls":28},68160]
[{"$nulls":28},68238]
[{"$nulls":28},68257]
[{"$nulls":28},68325]
[{"$nulls":28},68363]
[{"$nulls":28},68431]
[{"$nulls":28},68460]
[{"$nulls":28},68540]
[{"$nulls":28},68556]
[{"$nulls":28},68634]
[{"$nulls":28},68653]
[{"$nulls":28},68691]
[{"$nulls":28},68759]
[{"$nulls":28},68827]
[{"$nulls":28},68856]
[{"$nulls":28},68906]
[{"$nulls":28},68952]
[{"$nulls":28},69030]
[{"$nulls":28},69049]
[{"$nulls":28},69105]
[{"$nulls":28},69155]
[{"$nulls":28},69223]
[{"$nulls":28},69252]
[{"$nulls":28},69320]
[{"$nulls":28},69348]
[{"$nulls":28},69377]
[{"$nulls":28},69445]
[{"$nulls":28},69471]
[{"$nulls":28},69541]
[{"$nulls":28},69570]
[{"$nulls":28},69648]
[{"$nulls":28},69686]
[{"$nulls":28},69744]
[{"$nulls":28},69773]
[{"$nulls":28},69841]
[{"$nulls":28},69885]
[{"$nulls":28},69937]
[{"$nulls":28},69966]
[{"$nulls":28},70044]
[{"$nulls":28},70100]
[{"$nulls":28},70140]
[{"$nulls":28},70169]
[{"$nulls":28},70237]
[{"$nulls":28},70251]
[{"$nulls":28},70333]
[{"$nulls":28},70362]
[{"$nulls":28},70440]
[{"$nulls":28},70466]
[{"$nulls":28},70536]
[{"$nulls":28},70555]
[{"$nulls":28},70633]
[{"$nulls":28},70665]
[{"$nulls":28},70729]
[{"$nulls":28},70758]
[{"$nulls":28},70787]
[{"$nulls":28},70880]
[{"$nulls":28},70883]
[{"$nulls":28},70951]
[{"$nulls":28},71029]
[{"$nulls":28},71031]
[{"$nulls":28},71125]
[{"$nulls":28},71154]
[{"$nulls":28},71222]
[{"$nulls":28},71246]
[{"$nulls":28},71279]
[{"$nulls":28},71347]
[{"$nulls":28},71376]
[{"$nulls":28},71445]
[{"$nulls":28},71472]
[{"$nulls":28},71550]
[{"$nulls":28},71569]
[{"$nulls":28},71660]
[{"$nulls":28},71675]
[{"$nulls":28},71743]
[{"$nulls":28},71772]
[{"$nulls":28},71811]
[{"$nulls":28},71868]
[{"$nulls":28},71946]
[{"$nulls":28},71965]
[{"$nulls":28},72026]
[{"$nulls":28},72071]
[{"$nulls":28},72139]
[{"$nulls":28},72168]
[{"$nulls":28},72241]
[{"$nulls":28},72264]
[{"$nulls":28},72342]
[{"$nulls":28},72361]
[{"$nulls":28},72440]
[{"$nulls":28},72467]
[{"$nulls":28},72535]
[{"$nulls":28},72564]
[{"$nulls":28},72607]
[{"$nulls":28},72660]
[{"$nulls":28},72689]
[{"$nulls":28},72757]
[{"$nulls":28},72806]
[{"$nulls":28},72863]
[{"$nulls":28},72882]
[{"$nulls":28},72960]
[{"$nulls":28},73021]
[{"$nulls":28},73056]
[{"$nulls":28},73085]
[{"$nulls":28},73153]
[{"$nulls":28},73220]
[{"$nulls":28},73249]
[{"$nulls":28},73278]
[{"$nulls":28},73356]
[{"$nulls":28},73387]
[{"$nulls":28},73452]
[{"$nulls":28},73481]
[{"$nulls":28},73549]
[{"$nulls":28},73586]
[{"$nulls":28},73645]
[{"$nulls":28},73674]
[{"$nulls":28},73752]
[{"$nulls":28},73801]
[{"$nulls":28},73848]
[{"$nulls":28},73867]
[{"$nulls":28},73945]
[{"$nulls":28},74000]
[{"$nulls":28},74041]
[{"$nulls":28},74070]
[{"$nulls":28},74148]
[{"$nulls":28},74167]
[{"$nulls":28},74244]
[{"$nulls":28},74263]
[{"$nulls":28},74341]
[{"$nulls":28},74366]
[{"$nulls":28},74437]
[{"$nulls":28},74466]
[{"$nulls":28},74495]
[{"$nulls":28},74581]
[{"$nulls":28},74591]
[{"$nulls":28},74659]
[{"$nulls":28},74688]
[{"$nulls":28},74780]
[{"$nulls":28},74784]
[{"$nulls":28},74862]
[{"$nulls":28},74881]
[{"$nulls":28},74947]
[{"$nulls":28},74987]
[{"$nulls":28},75055]
[{"$nulls":28},75084]
[{"$nulls":28},75162]
[{"$nulls":28},75196]
[{"$nulls":28},75258]
[{"$nulls":28},75277]
[{"$nulls":28},75355]
[{"$nulls":28},75395]
[{"$nulls":28},75451]
[{"$nulls":28},75480]
[{"$nulls":28},75548]
[{"$nulls":28},75610]
[{"$nulls":28},75654]
[{"$nulls":28},75673]
[{"$nulls":28},75751]
[{"$nulls":28},75761]
[{"$nulls":28},75847]
[{"$nulls":28},75876]
[{"$nulls":28},75944]
[{"$nulls":28},75976]
[{"$nulls":28},76050]
[{"$nulls":28},76069]
[{"$nulls":28},76147]
[{"$nulls":28},76175]
[{"$nulls":28},76243]
[{"$nulls":28},76272]
[{"$nulls":28},76340]
[{"$nulls":28},76390]
[{"$nulls":28},76397]
[{"$nulls":28},76465]
[{"$nulls":28},76494]
[{"$nulls":28},76557]
[{"$nulls":28},76590]
[{"$nulls":28},76668]
[{"$nulls":28},76687]
[{"$nulls":28},76756]
[{"$nulls":28},76793]
[{"$nulls":28},76861]
[{"$nulls":28},76890]
[{"$nulls":28},76971]
[{"$nulls":28},76986]
[{"$nulls":28},77064]
[{"$nulls":28},77083]
[{"$nulls":28},77170]
[{"$nulls":28},77189]
[{"$nulls":28},77257]
[{"$nulls":28},77286]
[{"$nulls":28},77337]
[{"$nulls":28},77382]
[{"$nulls":28},77460]
[{"$nulls":28},77479]
[{"$nulls":28},77536]
[{"$nulls":28},77575]
[{"$nulls":28},77653]
[{"$nulls":28},77682]
[{"$nulls":28},77751]
[{"$nulls":28},77778]
[{"$nulls":28},77807]
[{"$nulls":28},77875]
[{"$nulls":28},77950]
[{"$nulls":28},77971]
[{"$nulls":28},78049]
[{"$nulls":28},78078]
[{"$nulls":28},78117]
[{"$nulls":28},78174]
[{"$nulls":28},78242]
[{"$nulls":28},78271]
[{"$nulls":28},78316]
[{"$nulls":28},78367]
[{"$nulls":28},78396]
[{"$nulls":28},78474]
[{"$nulls":28},78531]
[{"$nulls":28},78570]
[{"$nulls":28},78589]
[{"$nulls":28},78667]
[{"$nulls":28},78730]
[{"$nulls":28},78763]
[{"$nulls":28},78792]
[{"$nulls":28},78870]
[{"$nulls":28},78897]
[{"$nulls":28},78966]
[{"$nulls":28},78985]
[{"$nulls":28},79063]
[{"$nulls":28},79096]
[{"$nulls":28},79159]
[{"$nulls":28},79188]
[{"$nulls":28},79256]
[{"$nulls":28},79311]
[{"$nulls":28},79362]
[{"$nulls":28},79381]
[{"$nulls":28},79459]
[{"$nulls":28},79510]
[{"$nulls":28},79555]
[{"$nulls":28},79584]
[{"$nulls":28},79652]
[{"$nulls":28},79677]
[{"$nulls":28},79709]
[{"$nulls":28},79777]
[{"$nulls":28},79806]
[{"$nulls":28},79876]
[{"$nulls":28},79902]
[{"$nulls":28},79980]
[{"$nulls":28},80048]
[{"$nulls":28},80091]
[{"$nulls":28},80105]
[{"$nulls":28},80173]
[{"$nulls":28},80202]
[{"$nulls":28},80258]
[{"$nulls":28},80298]
[{"$nulls":28},80376]
[{"$nulls":28},80395]
[{"$nulls":28},80457]
[{"$nulls":28},80501]
[{"$nulls":28},80569]
[{"$nulls":28},80598]
[{"$nulls":28},80672]
[{"$nulls":28},80694]
[{"$nulls":28},80772]
[{"$nulls":28},80791]
[{"$nulls":28},80871]
[{"$nulls":28},80887]
[{"$nulls":28},80965]
[{"$nulls":28},80994]
[{"$nulls":28},81038]
[{"$nulls":28},81090]
[{"$nulls":28},81168]
[{"$nulls":28},81187]
[{"$nulls":28},81237]
[{"$nulls":28},81283]
[{"$nulls":28},81361]
[{"$nulls":28},81390]
[{"$nulls":28},81452]
[{"$nulls":28},81486]
[{"$nulls":28},81515]
[{"$nulls":28},81583]
[{"$nulls":28},81651]
[{"$nulls":28},81679]
[{"$nulls":28},81708]
[{"$nulls":28},81786]
[{"$nulls":28},81818]
[{"$nulls":28},81882]
[{"$nulls":28},81901]
[{"$nulls":28},81979]
[{"$nulls":28},82017]
[{"$nulls":28},82075]
[{"$nulls":28},82104]
[{"$nulls":28},82182]
[{"$nulls":28},82232]
[{"$nulls":28},82278]
[{"$nulls":28},82297]
[{"$nulls":28},82375]
[{"$nulls":28},82431]
[{"$nulls":28},82471]
[{"$nulls":28},82500]
[{"$nulls":28},82568]
[{"$nulls":28},82598]
[{"$nulls":28},82674]
[{"$nulls":28},82693]
[{"$nulls":28},82771]
[{"$nulls":28},82797]
[{"$nulls":28},82867]
[{"$nulls":28},82896]
[{"$nulls":28},82964]
[{"$nulls":28},83012]
[{"$nulls":28},83070]
[{"$nulls":28},83089]
[{"$nulls":28},83167]
[{"$nulls":28},83211]
[{"$nulls":28},83263]
[{"$nulls":28},83292]
[{"$nulls":28},83360]
[{"$nulls":28},83389]
[{"$nulls":28},83460]
[{"$nulls":28},83485]
[{"$nulls":28},83514]
[{"$nulls":28},83582]
[{"$nulls":28},83627]
[{"$nulls":28},83688]
[{"$nulls":28},83707]
[{"$nulls":28},83785]
[{"$nulls":28},83826]
[{"$nulls":28},83881]
[{"$nulls":28},83910]
[{"$nulls":28},83978]
[{"$nulls":28},84041]
[{"$nulls":28},84084]
[{"$nulls":28},84103]
[{"$nulls":28},84181]
[{"$nulls":28},84240]
[{"$nulls":28},84277]
[{"$nulls":28},84306]
[{"$nulls":28},84374]
[{"$nulls":28},84407]
[{"$nulls":28},84480]
[{"$nulls":28},84499]
[{"$nulls":28},84577]
[{"$nulls":28},84622]
[{"$nulls":28},84673]
[{"$nulls":28},84702]
[{"$nulls":28},84770]
[{"$nulls":28},84821]
[{"$nulls":28},84827]
[{"$nulls":28},84895]
[{"$nulls":28},84924]
[{"$nulls":28},84988]
[{"$nulls":28},85069]
[{"$nulls":28},85098]
[{"$nulls":28},85166]
[{"$nulls":28},85187]
[{"$nulls":28},85262]
[{"$nulls":28},85291]
[{"$nulls":28},85320]
[{"$nulls":28},85402]
[{"$nulls":28},85416]
[{"$nulls":28},85494]
[{"$nulls":28},85513]
[{"$nulls":28},85601]
[{"$nulls":28},85609]
[{"$nulls":28},85687]
[{"$nulls":28},85716]
[{"$nulls":28},85768]
[{"$nulls":28},85812]
[{"$nulls":28},85890]
[{"$nulls":28},85909]
[{"$nulls":28},85967]
[{"$nulls":28},86005]
[{"$nulls":28},86083]
[{"$nulls":28},86112]
[{"$nulls":28},86182]
[{"$nulls":28},86208]
[{"$nulls":28},86276]
[{"$nulls":28},86305]
[{"$nulls":28},86381]
[{"$nulls":28},86401]
[{"$nulls":28},86479]
[{"$nulls":28},86508]
[{"$nulls":28},86548]
[{"$nulls":28},86604]
[{"$nulls":28},86672]
[{"$nulls":28},86701]
[{"$nulls":28},86747]
[{"$nulls":28},86797]
[{"$nulls":28},86826]
[{"$nulls":28},86894]
[{"$nulls":28},86962]
[{"$nulls":28},87000]
[{"$nulls":28},87068]
[{"$nulls":28},87097]
[{"$nulls":28},87161]
[{"$nulls":28},87193]
[{"$nulls":28},87222]
[{"$nulls":28},87290]
[{"$nulls":28},87328]
[{"$nulls":28},87396]
[{"$nulls":28},87415]
[{"$nulls":28},87493]
[{"$nulls":28},87527]
[{"$nulls":28},87589]
[{"$nulls":28},87618]
[{"$nulls":28},87686]
[{"$nulls":28},87742]
[{"$nulls":28},87792]
[{"$nulls":28},87811]
[{"$nulls":28},87889]
[{"$nulls":28},87909]
[{"$nulls":28},87985]
[{"$nulls":28},88014]
[{"$nulls":28},88082]
[{"$nulls":28},88108]
[{"$nulls":28},88188]
[{"$nulls":28},88207]
[{"$nulls":28},88285]
[{"$nulls":28},88323]
[{"$nulls":28},88381]
[{"$nulls":28},88410]
[{"$nulls":28},88478]
[{"$nulls":28},88522]
[{"$nulls":28},88535]
[{"$nulls":28},88603]
[{"$nulls":28},88632]
[{"$nulls":28},88689]
[{"$nulls":28},88728]
[{"$nulls":28},88806]
[{"$nulls":28},88825]
[{"$nulls":28},88888]
[{"$nulls":28},88921]
[{"$nulls":28},88999]
[{"$nulls":28},89028]
[{"$nulls":28},89103]
[{"$nulls":28},89124]
[{"$nulls":28},89202]
[{"$nulls":28},89221]
[{"$nulls":28},89302]
[{"$nulls":28},89317]
[{"$nulls":28},89395]
[{"$nulls":28},89424]
[{"$nulls":28},89469]
[{"$nulls":28},89520]
[{"$nulls":28},89588]
[{"$nulls":28},89617]
[{"$nulls":28},89668]
[{"$nulls":28},89713]
[{"$nulls":28},89791]
[{"$nulls":28},89820]
[{"$nulls":28},89883]
[{"$nulls":28},89916]
[{"$nulls":28},89984]
[{"$nulls":28},90013]
[{"$nulls":28},90082]
[{"$nulls":28},90109]
[{"$nulls":28},90187]
[{"$nulls":28},90216]
[{"$nulls":28},90249]
[{"$nulls":28},90312]
[{"$nulls":28},90380]
[{"$nulls":28},90409]
[{"$nulls":28},90448]
[{"$nulls":28},90505]
[{"$nulls":28},90534]
[{"$nulls":28},90602]
[{"$nulls":28},90663]
[{"$nulls":28},90708]
[{"$nulls":28},90727]
[{"$nulls":28},90805]
[{"$nulls":28},90862]
[{"$nulls":28},90901]
[{"$nulls":28},90930]
[{"$nulls":28},90998]
[{"$nulls":28},91029]
[{"$nulls":28},91104]
[{"$nulls":28},91123]
[{"$nulls":28},91201]
[{"$nulls":28},91228]
[{"$nulls":28},91297]
[{"$nulls":28},91326]
[{"$nulls":28},91394]
[{"$nulls":28},91423]
[{"$nulls":28},91477]
[{"$nulls":28},91519]
[{"$nulls":28},91597]
[{"$nulls":28},91616]
[{"$nulls":28},91692]
[{"$nulls":28},91722]
[{"$nulls":28},91790]
[{"$nulls":28},91819]
[{"$nulls":28},91891]
[{"$nulls":28},91915]
[{"$nulls":28},91944]
[{"$nulls":28},92012]
[{"$nulls":28},92058]
[{"$nulls":28},92118]
[{"$nulls":28},92186]
[{"$nulls":28},92215]
[{"$nulls":28},92273]
[{"$nulls":28},92311]
[{"$nulls":28},92340]
[{"$nulls":28},92408]
[{"$nulls":28},92472]
[{"$nulls":28},92514]
[{"$nulls":28},92533]
[{"$nulls":28},92611]
[{"$nulls":28},92639]
[{"$nulls":28},92707]
[{"$nulls":28},92736]
[{"$nulls":28},92804]
[{"$nulls":28},92838]
[{"$nulls":28},92910]
[{"$nulls":28},92929]
[{"$nulls":28},93007]
[{"$nulls":28},93053]
[{"$nulls":28},93103]
[{"$nulls":28},93132]
[{"$nulls":28},93200]
[{"$nulls":28},93252]
[{"$nulls":28},93296]
[{"$nulls":28},93325]
[{"$nulls":28},93403]
[{"$nulls":28},93419]
[{"$nulls":28},93499]
[{"$nulls":28},93528]
[{"$nulls":28},93596]
[{"$nulls":28},93618]
[{"$nulls":28},93692]
[{"$nulls":28},93721]
[{"$nulls":28},93750]
[{"$nulls":28},93833]
[{"$nulls":28},93846]
[{"$nulls":28},93914]
[{"$nulls":28},93943]
[{"$nulls":28},94032]
[{"$nulls":28},94088]
[{"$nulls":28},94117]
[{"$nulls":28},94146]
[{"$nulls":28},94199]
[{"$nulls":28},94242]
[{"$nulls":28},94310]
[{"$nulls":28},94339]
[{"$nulls":28},94398]
[{"$nulls":28},94435]
[{"$nulls":28},94513]
[{"$nulls":28},94542]
[{"$nulls":28},94613]
[{"$nulls":28},94638]
[{"$nulls":28},94706]
[{"$nulls":28},94735]
[{"$nulls":28},94812]
[{"$nulls":28},94831]
[{"$nulls":28},94909]
[{"$nulls":28},94928]
[{"$nulls":28},94979]
[{"$nulls":28},95034]
[{"$nulls":28},95102]
[{"$nulls":28},95131]
[{"$nulls":28},95178]
[{"$nulls":28},95227]
[{"$nulls":28},95305]
[{"$nulls":28},95324]
[{"$nulls":28},95393]
[{"$nulls":28},95430]
[{"$nulls":28},95498]
[{"$nulls":28},95527]
[{"$nulls":28},95592]
[{"$nulls":28},95623]
[{"$nulls":28},95652]
[{"$nulls":28},95720]
[{"$nulls":28},95759]
[{"$nulls":28},95826]
[{"$nulls":28},95845]
[{"$nulls":28},95923]
[{"$nulls":28},95974]
[{"$nulls":28},96019]
[{"$nulls":28},96048]
[{"$nulls":28},96116]
[{"$nulls":28},96173]
[{"$nulls":28},96222]
[{"$nulls":28},96241]
[{"$nulls":28},96319]
[{"$nulls":28},96340]
[{"$nulls":28},96415]
[{"$nulls":28},96444]
[{"$nulls":28},96512]
[{"$nulls":28},96539]
[{"$nulls":28},96608]
[{"$nulls":28},96637]
[{"$nulls":28},96715]
[{"$nulls":28},96754]
[{"$nulls":28},96811]
[{"$nulls":28},96840]
[{"$nulls":28},96908]
[{"$nulls":28},96953]
[{"$nulls":28},97004]
[{"$nulls":28},97033]
[{"$nulls":28},97111]
[{"$nulls":28},97120]
[{"$nulls":28},97207]
[{"$nulls":28},97236]
[{"$nulls":28},97304]
[{"$nulls":28},97319]
[{"$nulls":28},97400]
[{"$nulls":28},97429]
[{"$nulls":28},97458]
[{"$nulls":28},97534]
[{"$nulls":28},97554]
[{"$nulls":28},97622]
[{"$nulls":28},97651]
[{"$nulls":28},97733]
[{"$nulls":28},97747]
[{"$nulls":28},97825]
[{"$nulls":28},97854]
[{"$nulls":28},97900]
[{"$nulls":28},97950]
[{"$nulls":28},98018]
[{"$nulls":28},98047]
[{"$nulls":28},98099]
[{"$nulls":28},98143]
[{"$nulls":28},98221]
[{"$nulls":28},98240]
[{"$nulls":28},98314]
[{"$nulls":28},98346]
[{"$nulls":28},98414]
[{"$nulls":28},98443]
[{"$nulls":28},98513]
[{"$nulls":28},98539]
[{"$nulls":28},98617]
[{"$nulls":28},98636]
[{"$nulls":28},98680]
[{"$nulls":28},98742]
[{"$nulls":28},98810]
[{"$nulls":28},98839]
[{"$nulls":28},98879]
[{"$nulls":28},98935]
[{"$nulls":28},98964]
[{"$nulls":28},99032]
[{"$nulls":28},99094]
[{"$nulls":28},99138]
[{"$nulls":28},99206]
[{"$nulls":28},99235]
[{"$nulls":28},99261]
[{"$nulls":28},99331]
[{"$nulls":28},99360]
[{"$nulls":28},99428]
[{"$nulls":28},99457]
[{"$nulls":28},99501]
[{"$nulls":28},99502]
[{"$nulls":28},99503]
[{"$nulls":28},99504]
[{"$nulls":28},99505]
[{"$nulls":28},99506]
[{"$nulls":28},99507]
[{"$nulls":28},99508]
[{"$nulls":28},99509]
[{"$nulls":28},99510]
[{"$nulls":28},99511]
[{"$nulls":28},99512]
[{"$nulls":28},99513]
[{"$nulls":28},99514]
[{"$nulls":28},99515]
[{"$nulls":28},99516]
[{"$nulls":28},99517]
[{"$nulls":28},99518]
[{"$nulls":28},99519]
[{"$nulls":28},99520]
[{"$nulls":28},99521]
[{"$nulls":28},99522]
[{"$nulls":28},99523]
[{"$nulls":28},99524]
[{"$nulls":28},99525]
[{"$nulls":28},99526]
[{"$nulls":28},99527]
[{"$nulls":28},99528]
[{"$nulls":28},99529]
[{"$nulls":28},99530]
[{"$nulls":28},99531]
[{"$nulls":28},99532]
[{"$nulls":28},99533]
[{"$nulls":28},99534]
[{"$nulls":28},99535]
[{"$nulls":28},99536]
[{"$nulls":28},99537]
[{"$nulls":28},99538]
[{"$nulls":28},99539]
[{"$nulls":28},99540]
[{"$nulls":28},99541]
[{"$nulls":28},99542]
[{"$nulls":28},99543]
[{"$nulls":28},99544]
[{"$nulls":28},99545]
[{"$nulls":28},99546]
[{"$nulls":28},99547]
[{"$nulls":28},99548]
[{"$nulls":28},99549]
[{"$nulls":28},99550]
[{"$nulls":28},99551]
[{"$nulls":28},99552]
[{"$nulls":28},99553]
[{"$nulls":28},99554]
[{"$nulls":28},99555]
[{"$nulls":28},99556]
[{"$nulls":28},99557]
[{"$nulls":28},99558]
[{"$nulls":28},99559]
[{"$nulls":28},99560]
[{"$nulls":28},99561]
[{"$nulls":28},99562]
[{"$nulls":28},99563]
[{"$nulls":28},99564]
[{"$nulls":28},99565]
[{"$nulls":28},99566]
[{"$nulls":28},99567]
[{"$nulls":28},99568]
[{"$nulls":28},99569]
[{"$nulls":28},99570]
[{"$nulls":28},99571]
[{"$nulls":28},99572]
[{"$nulls":28},99573]
[{"$nulls":28},99574]
[{"$nulls":28},99575]
[{"$nulls":28},99576]
[{"$nulls":28},99577]
[{"$nulls":28},99578]
[{"$nulls":28},99579]
[{"$nulls":28},99580]
[{"$nulls":28},99581]
[{"$nulls":28},99582]
[{"$nulls":28},99583]
[{"$nulls":28},99584]
[{"$nulls":28},99585]
[{"$nulls":28},99586]
[{"$nulls":28},99587]
[{"$nulls":28},99588]
[{"$nulls":28},99589]
[{"$nulls":28},99590]
[{"$nulls":28},99591]
[{"$nulls":28},99592]
[{"$nulls":28},99593]
[{"$nulls":28},99594]
[{"$nulls":28},99595]
[{"$nulls":28},99596]
[{"$nulls":28},99597]
[{"$nulls":28},99598]
[{"$nulls":28},99599]
[{"$nulls":28},99600]
[{"$nulls":28},99601]
[{"$nulls":28},99602]
[{"$nulls":28},99603]
[{"$nulls":28},99604]
[{"$nulls":28},99605]
[{"$nulls":28},99606]
[{"$nulls":28},99607]
[{"$nulls":28},99608]
[{"$nulls":28},99609]
[{"$nulls":28},99610]
[{"$nulls":28},99611]
[{"$nulls":28},99612]
[{"$nulls":28},99613]
[{"$nulls":28},99614]
[{"$nulls":28},99615]
[{"$nulls":28},99616]
[{"$nulls":28},99617]
[{"$nulls":28},99618]
[{"$nulls":28},99619]
[{"$nulls":28},99620]
[{"$nulls":28},99621]
[{"$nulls":28},99622]
[{"$nulls":28},99623]
[{"$nulls":28},99624]
[{"$nulls":28},99625]
[{"$nulls":28},99626]
[{"$nulls":28},99627]
[{"$nulls":28},99628]
[{"$nulls":28},99629]
[{"$nulls":28},99630]
[{"$nulls":28},99631]
[{"$nulls":28},99632]
[{"$nulls":28},99633]
[{"$nulls":28},99634]
[{"$nulls":28},99635]
[{"$nulls":28},99636]
[{"$nulls":28},99637]
[{"$nulls":28},99638]
[{"$nulls":28},99639]
[{"$nulls":28},99640]
[{"$nulls":28},99641]
[{"$nulls":28},99642]
[{"$nulls":28},99643]
[{"$nulls":28},99644]
[{"$nulls":28},99645]
[{"$nulls":28},99646]
[{"$nulls":28},99647]
[{"$nulls":28},99648]
[{"$nulls":28},99649]
[{"$nulls":28},99650]
[{"$nulls":28},99651]
[{"$nulls":28},99652]
[{"$nulls":28},99653]
[{"$nulls":28},99654]
[{"$nulls":28},99655]
[{"$nulls":28},99656]
[{"$nulls":28},99657]
[{"$nulls":28},99658]
[{"$nulls":28},99659]
[{"$nulls":28},99660]
[{"$nulls":28},99661]
[{"$nulls":28},99662]
[{"$nulls":28},99663]
[{"$nulls":28},99664]
[{"$nulls":28},99665]
[{"$nulls":28},99666]
[{"$nulls":28},99667]
[{"$nulls":28},99668]
[{"$nulls":28},99669]
[{"$nulls":28},99670]
[{"$nulls":28},99671]
[{"$nulls":28},99672]
[{"$nulls":28},99673]
[{"$nulls":28},99674]
[{"$nulls":28},99675]
[{"$nulls":28},99676]
[{"$nulls":28},99677]
[{"$nulls":28},99678]
[{"$nulls":28},99679]
[{"$nulls":28},99680]
[{"$nulls":28},99681]
[{"$nulls":28},99682]
[{"$nulls":28},99683]
[{"$nulls":28},99684]
[{"$nulls":28},99685]
[{"$nulls":28},99686]
[{"$nulls":28},99687]
[{"$nulls":28},99688]
[{"$nulls":28},99689]
[{"$nulls":28},99690]
[{"$nulls":28},99691]
[{"$nulls":28},99692]
[{"$nulls":28},99693]
[{"$nulls":28},99694]
[{"$nulls":28},99695]
[{"$nulls":28},99696]
[{"$nulls":28},99697]
[{"$nulls":28},99698]
[{"$nulls":28},99699]
[{"$nulls":28},99700]
[{"$nulls":28},99701]
[{"$nulls":28},99702]
[{"$nulls":28},99703]
[{"$nulls":28},99704]
[{"$nulls":28},99705]
[{"$nulls":28},99706]
[{"$nulls":28},99707]
[{"$nulls":28},99708]
[{"$nulls":28},99709]
[{"$nulls":28},99710]
[{"$nulls":28},99711]
[{"$nulls":28},99712]
[{"$nulls":28},99713]
[{"$nulls":28},99714]
[{"$nulls":28},99715]
[{"$nulls":28},99716]
[{"$nulls":28},99717]
[{"$nulls":28},99718]
[{"$nulls":28},99719]
[{"$nulls":28},99720]
[{"$nulls":28},99721]
[{"$nulls":28},99722]
[{"$nulls":28},99723]
[{"$nulls":28},99724]
[{"$nulls":28},99725]
[{"$nulls":28},99726]
[{"$nulls":28},99727]
[{"$nulls":28},99728]
[{"$nulls":28},99729]
[{"$nulls":28},99730]
[{"$nulls":28},99731]
[{"$nulls":28},99732]
[{"$nulls":28},99733]
[{"$nulls":28},99734]
[{"$nulls":28},99735]
[{"$nulls":28},99736]
[{"$nulls":28},99737]
[{"$nulls":28},99738]
[{"$nulls":28},99739]
[{"$nulls":28},99740]
[{"$nulls":28},99741]
[{"$nulls":28},99742]
[{"$nulls":28},99743]
[{"$nulls":28},99744]
[{"$nulls":28},99745]
[{"$nulls":28},99746]
[{"$nulls":28},99747]
[{"$nulls":28},99748]
[{"$nulls":28},99749]
[{"$nulls":28},99750]
[{"$nulls":28},99751]
[{"$nulls":28},99752]
[{"$nulls":28},99753]
[{"$nulls":28},99754]
[{"$nulls":28},99755]
[{"$nulls":28},99756]
[{"$nulls":28},99757]
[{"$nulls":28},99758]
[{"$nulls":28},99759]
[{"$nulls":28},99760]
[{"$nulls":28},99761]
[{"$nulls":28},99762]
[{"$nulls":28},99763]
[{"$nulls":28},99764]
[{"$nulls":28},99765]
[{"$nulls":28},99766]
[{"$nulls":28},99767]
[{"$nulls":28},99768]
[{"$nulls":28},99769]
[{"$nulls":28},99770]
[{"$nulls":28},99771]
[{"$nulls":28},99772]
[{"$nulls":28},99773]
[{"$nulls":28},99774]
[{"$nulls":28},99775]
[{"$nulls":28},99776]
[{"$nulls":28},99777]
[{"$nulls":28},99778]
[{"$nulls":28},99779]
[{"$nulls":28},99780]
[{"$nulls":28},99781]
[{"$nulls":28},99782]
[{"$nulls":28},99783]
[{"$nulls":28},99784]
[{"$nulls":28},99785]
[{"$nulls":28},99786]
[{"$nulls":28},99787]
[{"$nulls":28},99788]
[{"$nulls":28},99789]
[{"$nulls":28},99790]
[{"$nulls":28},99791]
[{"$nulls":28},99792]
[{"$nulls":28},99793]
[{"$nulls":28},99794]
[{"$nulls":28},99795]
[{"$nulls":28},99796]
[{"$nulls":28},99797]
[{"$nulls":28},99798]
[{"$nulls":28},99799]
[{"$nulls":28},99800]
[{"$nulls":28},99801]
[{"$nulls":28},99802]
[{"$nulls":28},99803]
[{"$nulls":28},99804]
[{"$nulls":28},99805]
[{"$nulls":28},99806]
[{"$nulls":28},99807]
[{"$nulls":28},99808]
[{"$nulls":28},99809]
[{"$nulls":28},99810]
[{"$nulls":28},99811]
[{"$nulls":28},99812]
[{"$nulls":28},99813]
[{"$nulls":28},99814]
[{"$nulls":28},99815]
[{"$nulls":28},99816]
[{"$nulls":28},99817]
[{"$nulls":28},99818]
[{"$nulls":28},99819]
[{"$nulls":28},99820]
[{"$nulls":28},99821]
[{"$nulls":28},99822]
[{"$nulls":28},99823]
[{"$nulls":28},99824]
[{"$nulls":28},99825]
[{"$nulls":28},99826]
[{"$nulls":28},99827]
[{"$nulls":28},99828]
[{"$nulls":28},99829]
[{"$nulls":28},99830]
[{"$nulls":28},99831]
[{"$nulls":28},99832]
[{"$nulls":28},99833]
[{"$nulls":28},99834]
[{"$nulls":28},99835]
[{"$nulls":28},99836]
[{"$nulls":28},99837]
[{"$nulls":28},99838]
[{"$nulls":28},99839]
[{"$nulls":28},99840]
[{"$nulls":28},99841]
[{"$nulls":28},99842]
[{"$nulls":28},99843]
[{"$nulls":28},99844]
[{"$nulls":28},99845]
[{"$nulls":28},99846]
[{"$nulls":28},99847]
[{"$nulls":28},99848]
[{"$nulls":28},99849]
[{"$nulls":28},99850]
[{"$nulls":28},99851]
[{"$nulls":28},99852]
[{"$nulls":28},99853]
[{"$nulls":28},99854]
[{"$nulls":28},99855]
[{"$nulls":28},99856]
[{"$nulls":28},99857]
[{"$nulls":28},99858]
[{"$nulls":28},99859]
[{"$nulls":28},99860]
[{"$nulls":28},99861]
[{"$nulls":28},99862]
[{"$nulls":28},99863]
[{"$nulls":28},99864]
[{"$nulls":28},99865]
[{"$nulls":28},99866]
[{"$nulls":28},99867]
[{"$nulls":28},99868]
[{"$nulls":28},99869]
[{"$nulls":28},99870]
[{"$nulls":28},99871]
[{"$nulls":28},99872]
[{"$nulls":28},99873]
[{"$nulls":28},99874]
[{"$nulls":28},99875]
[{"$nulls":28},99876]
[{"$nulls":28},99877]
[{"$nulls":28},99878]
[{"$nulls":28},99879]
[{"$nulls":28},99880]
[{"$nulls":28},99881]
[{"$nulls":28},99882]
[{"$nulls":28},99883]
[{"$nulls":28},99884]
[{"$nulls":28},99885]
[{"$nulls":28},99886]
[{"$nulls":28},99887]
[{"$nulls":28},99888]
[{"$nulls":28},99889]
[{"$nulls":28},99890]
[{"$nulls":28},99891]
[{"$nulls":28},99892]
[{"$nulls":28},99893]
[{"$nulls":28},99894]
[{"$nulls":28},99895]
[{"$nulls":28},99896]
[{"$nulls":28},99897]
[{"$nulls":28},99898]
[{"$nulls":28},99899]
[{"$nulls":28},99900]
[{"$nulls":28},99901]
[{"$nulls":28},99902]
[{"$nulls":28},99903]
[{"$nulls":28},99904]
[{"$nulls":28},99905]
[{"$nulls":28},99906]
[{"$nulls":28},99907]
[{"$nulls":28},99908]
[{"$nulls":28},99909]
[{"$nulls":28},99910]
[{"$nulls":28},99911]
[{"$nulls":28},99912]
[{"$nulls":28},99913]
[{"$nulls":28},99914]
[{"$nulls":28},99915]
[{"$nulls":28},99916]
[{"$nulls":28},99917]
[{"$nulls":28},99918]
[{"$nulls":28},99919]
[{"$nulls":28},99920]
[{"$nulls":28},99921]
[{"$nulls":28},99922]
[{"$nulls":28},99923]
[{"$nulls":28},99924]
[{"$nulls":28},99925]
[{"$nulls":28},99926]
[{"$nulls":28},99927]
[{"$nulls":28},99928]
[{"$nulls":28},99929]
[{"$nulls":28},99930]
[{"$nulls":28},99931]
[{"$nulls":28},99932]
[{"$nulls":28},99933]
[{"$nulls":28},99934]
[{"$nulls":28},99935]
[{"$nulls":28},99936]
[{"$nulls":28},99937]
[{"$nulls":28},99938]
[{"$nulls":28},99939]
[{"$nulls":28},99940]
[{"$nulls":28},99941]
[{"$nulls":28},99942]
[{"$nulls":28},99943]
[{"$nulls":28},99944]
[{"$nulls":28},99945]
[{"$nulls":28},99946]
[{"$nulls":28},99947]
[{"$nulls":28},99948]
[{"$nulls":28},99949]
[{"$nulls":28},99950]
[{"$nulls":28},99951]
[{"$nulls":28},99952]
[{"$nulls":28},99953]
[{"$nulls":28},99954]
[{"$nulls":28},99955]
[{"$nulls":28},99956]
[{"$nulls":28},99957]
[{"$nulls":28},99958]
[{"$nulls":28},99959]
[{"$nulls":28},99960]
[{"$nulls":28},99961]
[{"$nulls":28},99962]
[{"$nulls":28},99963]
[{"$nulls":28},99964]
[{"$nulls":28},99965]
[{"$nulls":28},99966]
[{"$nulls":28},99967]
[{"$nulls":28},99968]
[{"$nulls":28},99969]
[{"$nulls":28},99970]
[{"$nulls":28},99971]
[{"$nulls":28},99972]
[{"$nulls":28},99973]
[{"$nulls":28},99974]
[{"$nulls":28},99975]
[{"$nulls":28},99976]
[{"$nulls":28},99977]
[{"$nulls":28},99978]
[{"$nulls":28},99979]
[{"$nulls":28},99980]
[{"$nulls":28},99981]
[{"$nulls":28},99982]
[{"$nulls":28},99983]
[{"$nulls":28},99984]
[{"$nulls":28},99985]
[{"$nulls":28},99986]
[{"$nulls":28},99987]
[{"$nulls":28},99988]
[{"$nulls":28},99989]
[{"$nulls":28},99990]
[{"$nulls":28},99991]
[{"$nulls":28},99992]
[{"$nulls":28},99993]
[{"$nulls":28},99994]
[{"$nulls":28},99995]
[{"$nulls":28},99996]
[{"$nulls":28},99997]
[{"$nulls":28},99998]
[{"$nulls":28},99999]
[{"$nulls":28},100000]

{"sheet":"在庫表示","index":6,"n_rows":210,"n_cols":6,"rows_kept":210,"merged":[[9,2,9,4]]}
[]
[]
[]
[]
[{"$nulls":4},"在庫状況"]
[]
[{"$nulls":4},"現在の在庫数を表示しています。"]
[]
[]
[null,"商品番号","商品名",null,null,"在庫数"]
[null,{"$f":"IF(商品マスタ!$B5=\"\",\"\",商品マスタ!$B5)","v":1},{"$f":"IF(商品マスタ!$C5=\"\",\"\",商品マスタ!$C5)","v":"LIFESPAN（ライフスパン）―老いなき世界"},null,null,{"$f":"IF(C11=\"\",\"\",棚卸入力!R11+SUMIF(棚卸後在庫変更履歴!$H$2:$H$1048576,在庫表示!B11,棚卸後在庫変更履歴!$J$2:$J$1048576))","v":0}]
[null,{"$f":"IF(商品マスタ!$B6=\"\",\"\",商品マスタ!$B6)","v":2},{"$f":"IF(商品マスタ!$C6=\"\",\"\",商品マスタ!$C6)","v":"WHAT IS LIFE？（ホワット・イズ・ライフ？）生命とは何か"},null,null,{"$f":"IF(C12=\"\",\"\",棚卸入力!R12+SUMIF(棚卸後在庫変更履歴!$H$2:$H$1048576,在庫表示!B12,棚卸後在庫変更履歴!$J$2:$J$1048576))","v":0}]
[null,{"$f":"IF(商品マスタ!$B7=\"\",\"\",商品マスタ!$B7)","v":3},{"$f":"IF(商品マスタ!$C7=\"\",\"\",商品マスタ!$C7)","v":"科学的とはどういう意味か"},null,null,{"$f":"IF(C13=\"\",\"\",棚卸入力!R13+SUMIF(棚卸後在庫変更履歴!$H$2:$H$1048576,在庫表示!B13,棚卸後在庫変更履歴!$J$2:$J$1048576))","v":0}]
[null,{"$f":"IF(商品マスタ!$B8=\"\",\"\",商品マスタ!$B8)","v":4},{"$f":"IF(商品マスタ!$C8=\"\",\"\",商品マスタ!$C8)","v":"コトPOP（R）を書いたら あっ、売れちゃった！"},null,null,{"$f":"IF(C14=\"\",\"\",棚卸入力!R14+SUMIF(棚卸後在庫変更履歴!$H$2:$H$1048576,在庫表示!B14,棚卸後在庫変更履歴!$J$2:$J$1048576))","v":0}]
[null,{"$f":"IF(商品マスタ!$B9=\"\",\"\",商品マスタ!$B9)","v":5},{"$f":"IF(商品マスタ!$C9=\"\",\"\",商品マスタ!$C9)","v":"鉄腕アトム 地球最大の冒険"},null,null,{"$f":"IF(C15=\"\",\"\",棚卸入力!R15+SUMIF(棚卸後在庫変更履歴!$H$2:$H$1048576,在庫表示!B15,棚卸後在庫変更履歴!$J$2:$J$1048576))","v":0}]
[null,{"$f":"IF(商品マスタ!$B10=\"\",\"\",商品マスタ!$B10)","v":6},{"$f":"IF(商品マスタ!$C10=\"\",\"\",商品マスタ!$C10)","v":"鉄腕アトム 地球防衛隊"},null,null,{"$f":"IF(C16=\"\",\"\",棚卸入力!R16+SUMIF(棚卸後在庫変更履歴!$H$2:$H$1048576,在庫表示!B16,棚卸後在庫変更履歴!$J$2:$J$1048576))","v":0}]
[null,{"$f":"IF(商品マスタ!$B11=\"\",\"\",商品マスタ!$B11)","v":7},{"$f":"IF(商品マスタ!$C11=\"\",\"\",商品マスタ!$C11)","v":"どうする？デザイン クライアントとのやりとりでよくわかる！デザインの決め方、伝え方"},null,null,{"$f":"IF(C17=\"\",\"\",棚卸入力!R17+SUMIF(棚卸後在庫変更履歴!$H$2:$H$1048576,在庫表示!B17,棚卸後在庫変更履歴!$J$2:$J$1048576))","v":0}]
[null,{"$f":"IF(商品マスタ!$B12=\"\",\"\",商品マスタ!$B12)","v":8},{"$f":"IF(商品マスタ!$C12=\"\",\"\",商品マスタ!$C12)","v":"ハッブル宇宙望遠鏡が見た絶景宇宙 SELECT 10 Vol.1"},null,null,{"$f":"IF(C18=\"\",\"\",棚卸入力!R18+SUMIF(棚卸後在庫変更履歴!$H$2:$H$1048576,在庫表示!B18,棚卸後在庫変更履歴!$J$2:$J$1048576))","v":0}]
[null,{"$f":"IF(商品マスタ!$B13=\"\",\"\",商品マスタ!$B13)","v":9},{"$f":"IF(商品マスタ!$C13=\"\",\"\",商品マスタ!$C13)","v":"ハムスターがおうちにやってきた！"},null,null,{"$f":"IF(C19=\"\",\"\",棚卸入力!R19+SUMIF(棚卸後在庫変更履歴!$H$2:$H$1048576,在庫表示!B19,棚卸後在庫変更履歴!$J$2:$J$1048576))","v":0}]
[null,{"$f":"IF(商品マスタ!$B14=\"\",\"\",商品マスタ!$B14)","v":10},{"$f":"IF(商品マスタ!$C14=\"\",\"\",商品マスタ!$C14)","v":"ビーカーくんのゆかいな化学実験"},null,null,{"$f":"IF(C20=\"\",\"\",棚卸入力!R20+SUMIF(棚卸後在庫変更履歴!$H$2:$H$1048576,在庫表示!B20,棚卸後在庫変更履歴!$J$2:$J$1048576))","v":0}]
[null,{"$f":"IF(商品マスタ!$B15=\"\",\"\",商品マスタ!$B15)","v":11},{"$f":"IF(商品マスタ!$C15=\"\",\"\",商品マスタ!$C15)","v":"ヒトを理解するための 生物学"},null,null,{"$f":"IF(C21=\"\",\"\",棚卸入力!R21+SUMIF(棚卸後在庫変更履歴!$H$2:$H$1048576,在庫表示!B21,棚卸後在庫変更履歴!$J$2:$J$1048576))","v":0}]
[null,{"$f":"IF(商品マスタ!$B16=\"\",\"\",商品マスタ!$B16)","v":12},{"$f":"IF(商品マスタ!$C16=\"\",\"\",商品マスタ!$C16)","v":"富士山はどうしてそこにあるのか 地形から見る日本列島史"},null,null,{"$f":"IF(C22=\"\",\"\",棚卸入力!R22+SUMIF(棚卸後在庫変更履歴!$H$2:$H$1048576,在庫表示!B22,棚卸後在庫変更履歴!$J$2:$J$1048576))","v":0}]
[null,{"$f":"IF(商品マスタ!$B17=\"\",\"\",商品マスタ!$B17)","v":13},{"$f":"IF(商品マスタ!$C17=\"\",\"\",商品マスタ!$C17)","v":"宇宙の「果て」になにがあるのか 最新天文学が描く、時間と空間の終わり"},null,null,{"$f":"IF(C23=\"\",\"\",棚卸入力!R23+SUMIF(棚卸後在庫変更履歴!$H$2:$H$1048576,在庫表示!B23,棚卸後在庫変更履歴!$J$2:$J$1048576))","v":0}]
[null,{"$f":"IF(商品マスタ!$B18=\"\",\"\",商品マスタ!$B18)","v":14},{"$f":"IF(商品マスタ!$C18=\"\",\"\",商品マスタ!$C18)","v":"宇宙は本当にひとつなのか―最新宇宙論入門"},null,null,{"$f":"IF(C24=\"\",\"\",棚卸入力!R24+SUMIF(棚卸後在庫変更履歴!$H$2:$H$1048576,在庫表示!B24,棚卸後在庫変更履歴!$J$2:$J$1048576))","v":0}]
[null,{"$f":"IF(商品マスタ!$B19=\"\",\"\",商品マスタ!$B19)","v":15},{"$f":"IF(商品マスタ!$C19=\"\",\"\",商品マスタ!$C19)","v":"宇宙創成（上）"},null,null,{"$f":"IF(C25=\"\",\"\",棚卸入力!R25+SUMIF(棚卸後在庫変更履歴!$H$2:$H$1048576,在庫表示!B25,棚卸後在庫変更履歴!$J$2:$J$1048576))","v":0}]
[null,{"$f":"IF(商品マスタ!$B20=\"\",\"\",商品マスタ!$B20)","v":16},{"$f":"IF(商品マスタ!$C20=\"\",\"\",商品マスタ!$C20)","v":"宇宙望遠鏡がとらえた 銀河（ブックブライト）"},null,null,{"$f":"IF(C26=\"\",\"\",棚卸入力!R26+SUMIF(棚卸後在庫変更履歴!$H$2:$H$1048576,在庫表示!B26,棚卸後在庫変更履歴!$J$2:$J$1048576))","v":0}]
[null,{"$f":"IF(商品マスタ!$B21=\"\",\"\",商品マスタ!$B21)","v":17},{"$f":"IF(商品マスタ!$C21=\"\",\"\",商品マスタ!$C21)","v":"見てわかる、迷わず決まる配色アイデア 3色だけでセンスのいい色"},null,null,{"$f":"IF(C27=\"\",\"\",棚卸入力!R27+SUMIF(棚卸後在庫変更履歴!$H$2:$H$1048576,在庫表示!B27,棚卸後在庫変更履歴!$J$2:$J$1048576))","v":0}]
[null,{"$f":"IF(商品マスタ!$B22=\"\",\"\",商品マスタ!$B22)","v":18},{"$f":"IF(商品マスタ!$C22=\"\",\"\",商品マスタ!$C22)","v":"写真加工で作る風景イラスト 神技作画シリーズ"},null,null,{"$f":"IF(C28=\"\",\"\",棚卸入力!R28+SUMIF(棚卸後在庫変更履歴!$H$2:$H$1048576,在庫表示!B28,棚卸後在庫変更履歴!$J$2:$J$1048576))","v":0}]
[null,{"$f":"IF(商品マスタ!$B23=\"\",\"\",商品マスタ!$B23)","v":19},{"$f":"IF(商品マスタ!$C23=\"\",\"\",商品マスタ!$C23)","v":"写真加工で作る風景イラスト 神技作画シリーズ"},null,null,{"$f":"IF(C29=\"\",\"\",棚卸入力!R29+SUMIF(棚卸後在庫変更履歴!$H$2:$H$1048576,在庫表示!B29,棚卸後在庫変更履歴!$J$2:$J$1048576))","v":0}]
[null,{"$f":"IF(商品マスタ!$B24=\"\",\"\",商品マスタ!$B24)","v":20},{"$f":"IF(商品マスタ!$C24=\"\",\"\",商品マスタ!$C24)","v":"重力とは何か アインシュタインから超弦理論へ、宇宙の謎に迫る"},null,null,{"$f":"IF(C30=\"\",\"\",棚卸入力!R30+SUMIF(棚卸後在庫変更履歴!$H$2:$H$1048576,在庫表示!B30,棚卸後在庫変更履歴!$J$2:$J$1048576))","v":0}]
[null,{"$f":"IF(商品マスタ!$B25=\"\",\"\",商品マスタ!$B25)","v":21},{"$f":"IF(商品マスタ!$C25=\"\",\"\",商品マスタ!$C25)","v":"図説 メイドインアビス 探窟記録【電子特典付き】"},null,null,{"$f":"IF(C31=\"\",\"\",棚卸入力!R31+SUMIF(棚卸後在庫変更履歴!$H$2:$H$1048576,在庫表示!B31,棚卸後在庫変更履歴!$J$2:$J$1048576))","v":0}]
[null,{"$f":"IF(商品マスタ!$B26=\"\",\"\",商品マスタ!$B26)","v":22},{"$f":"IF(商品マスタ!$C26=\"\",\"\",商品マスタ!$C26)","v":"成功の秘密にアクセスできるギャラクシー・コード"},null,null,{"$f":"IF(C32=\"\",\"\",棚卸入力!R32+SUMIF(棚卸後在庫変更履歴!$H$2:$H$1048576,在庫表示!B32,棚卸後在庫変更履歴!$J$2:$J$1048576))","v":0}]
[null,{"$f":"IF(商品マスタ!$B27=\"\",\"\",商品マスタ!$B27)","v":23},{"$f":"IF(商品マスタ!$C27=\"\",\"\",商品マスタ!$C27)","v":"太陽系 絶景画像50"},null,null,{"$f":"IF(C33=\"\",\"\",棚卸入力!R33+SUMIF(棚卸後在庫変更履歴!$H$2:$H$1048576,在庫表示!B33,棚卸後在庫変更履歴!$J$2:$J$1048576))","v":0}]
[null,{"$f":"IF(商品マスタ!$B28=\"\",\"\",商品マスタ!$B28)","v":24},{"$f":"IF(商品マスタ!$C28=\"\",\"\",商品マスタ!$C28)","v":"踊りませんか？ 社交ダンスの世界"},null,null,{"$f":"IF(C34=\"\",\"\",棚卸入力!R34+SUMIF(棚卸後在庫変更履歴!$H$2:$H$1048576,在庫表示!B34,棚卸後在庫変更履歴!$J$2:$J$1048576))","v":0}]
[null,{"$f":"IF(商品マスタ!$B29=\"\",\"\",商品マスタ!$B29)","v":25},{"$f":"IF(商品マスタ!$C29=\"\",\"\",商品マスタ!$C29)","v":""},null,null,{"$f":"IF(C35=\"\",\"\",棚卸入力!R35+SUMIF(棚卸後在庫変更履歴!$H$2:$H$1048576,在庫表示!B35,棚卸後在庫変更履歴!$J$2:$J$1048576))","v":""}]
[null,{"$f":"IF(商品マスタ!$B30=\"\",\"\",商品マスタ!$B30)","v":26},{"$f":"IF(商品マスタ!$C30=\"\",\"\",商品マスタ!$C30)","v":""},null,null,{"$f":"IF(C36=\"\",\"\",棚卸入力!R36+SUMIF(棚卸後在庫変更履歴!$H$2:$H$1048576,在庫表示!B36,棚卸後在庫変更履歴!$J$2:$J$1048576))","v":""}]
[null,{"$f":"IF(商品マスタ!$B31=\"\",\"\",商品マスタ!$B31)","v":27},{"$f":"IF(商品マスタ!$C31=\"\",\"\",商品マスタ!$C31)","v":""},null,null,{"$f":"IF(C37=\"\",\"\",棚卸入力!R37+SUMIF(棚卸後在庫変更履歴!$H$2:$H$1048576,在庫表示!B37,棚卸後在庫変更履歴!$J$2:$J$1048576))","v":""}]
[null,{"$f":"IF(商品マスタ!$B32=\"\",\"\",商品マスタ!$B32)","v":28},{"$f":"IF(商品マスタ!$C32=\"\",\"\",商品マスタ!$C32)","v":""},null,null,{"$f":"IF(C38=\"\",\"\",棚卸入力!R38+SUMIF(棚卸後在庫変更履歴!$H$2:$H$1048576,在庫表示!B38,棚卸後在庫変更履歴!$J$2:$J$1048576))","v":""}]
[null,{"$f":"IF(商品マスタ!$B33=\"\",\"\",商品マスタ!$B33)","v":29},{"$f":"IF(商品マスタ!$C33=\"\",\"\",商品マスタ!$C33)","v":""},null,null,{"$f":"IF(C39=\"\",\"\",棚卸入力!R39+SUMIF(棚卸後在庫変更履歴!$H$2:$H$1048576,在庫表示!B39,棚卸後在庫変更履歴!$J$2:$J$1048576))","v":""}]
[null,{"$f":"IF(商品マスタ!$B34=\"\",\"\",商品マスタ!$B34)","v":30},{"$f":"IF(商品マスタ!$C34=\"\",\"\",商品マスタ!$C34)","v":""},null,null,{"$f":"IF(C40=\"\",\"\",棚卸入力!R40+SUMIF(棚卸後在庫変更履歴!$H$2:$H$1048576,在庫表示!B40,棚卸後在庫変更履歴!$J$2:$J$1048576))","v":""}]
[null,{"$f":"IF(商品マスタ!$B35=\"\",\"\",商品マスタ!$B35)","v":31},{"$f":"IF(商品マスタ!$C35=\"\",\"\",商品マスタ!$C35)","v":""},null,null,{"$f":"IF(C41=\"\",\"\",棚卸入力!R41+SUMIF(棚卸後在庫変更履歴!$H$2:$H$1048576,在庫表示!B41,棚卸後在庫変更履歴!$J$2:$J$1048576))","v":""}]
[null,{"$f":"IF(商品マスタ!$B36=\"\",\"\",商品マスタ!$B36)","v":32},{"$f":"IF(商品マスタ!$C36=\"\",\"\",商品マスタ!$C36)","v":""},null,null,{"$f":"IF(C42=\"\",\"\",棚卸入力!R42+SUMIF(棚卸後在庫変更履歴!$H$2:$H$1048576,在庫表示!B42,棚卸後在庫変更履歴!$J$2:$J$1048576))","v":""}]
[null,{"$f":"IF(商品マスタ!$B37=\"\",\"\",商品マスタ!$B37)","v":33},{"$f":"IF(商品マスタ!$C37=\"\",\"\",商品マスタ!$C37)","v":""},null,null,{"$f":"IF(C43=\"\",\"\",棚卸入力!R43+SUMIF(棚卸後在庫変更履歴!$H$2:$H$1048576,在庫表示!B43,棚卸後在庫変更履歴!$J$2:$J$1048576))","v":""}]
[null,{"$f":"IF(商品マスタ!$B38=\"\",\"\",商品マスタ!$B38)","v":34},{"$f":"IF(商品マスタ!$C38=\"\",\"\",商品マスタ!$C38)","v":""},null,null,{"$f":"IF(C44=\"\",\"\",棚卸入力!R44+SUMIF(棚卸後在庫変更履歴!$H$2:$H$1048576,在庫表示!B44,棚卸後在庫変更履歴!$J$2:$J$1048576))","v":""}]
[null,{"$f":"IF(商品マスタ!$B39=\"\",\"\",商品マスタ!$B39)","v":35},{"$f":"IF(商品マスタ!$C39=\"\",\"\",商品マスタ!$C39)","v":""},null,null,{"$f":"IF(C45=\"\",\"\",棚卸入力!R45+SUMIF(棚卸後在庫変更履歴!$H$2:$H$1048576,在庫表示!B45,棚卸後在庫変更履歴!$J$2:$J$1048576))","v":""}]
[null,{"$f":"IF(商品マスタ!$B40=\"\",\"\",商品マスタ!$B40)","v":36},{"$f":"IF(商品マスタ!$C40=\"\",\"\",商品マスタ!$C40)","v":""},null,null,{"$f":"IF(C46=\"\",\"\",棚卸入力!R46+SUMIF(棚卸後在庫変更履歴!$H$2:$H$1048576,在庫表示!B46,棚卸後在庫変更履歴!$J$2:$J$1048576))","v":""}]
[null,{"$f":"IF(商品マスタ!$B41=\"\",\"\",商品マスタ!$B41)","v":37},{"$f":"IF(商品マスタ!$C41=\"\",\"\",商品マスタ!$C41)","v":""},null,null,{"$f":"IF(C47=\"\",\"\",棚卸入力!R47+SUMIF(棚卸後在庫変更履歴!$H$2:$H$1048576,在庫表示!B47,棚卸後在庫変更履歴!$J$2:$J$1048576))","v":""}]
[null,{"$f":"IF(商品マスタ!$B42=\"\",\"\",商品マスタ!$B42)","v":38},{"$f":"IF(商品マスタ!$C42=\"\",\"\",商品マスタ!$C42)","v":""},null,null,{"$f":"IF(C48=\"\",\"\",棚卸入力!R48+SUMIF(棚卸後在庫変更履歴!$H$2:$H$1048576,在庫表示!B48,棚卸後在庫変更履歴!$J$2:$J$1048576))","v":""}]
[null,{"$f":"IF(商品マスタ!$B43=\"\",\"\",商品マスタ!$B43)","v":39},{"$f":"IF(商品マスタ!$C43=\"\",\"\",商品マスタ!$C43)","v":""},null,null,{"$f":"IF(C49=\"\",\"\",棚卸入力!R49+SUMIF(棚卸後在庫変更履歴!$H$2:$H$1048576,在庫表示!B49,棚卸後在庫変更履歴!$J$2:$J$1048576))","v":""}]
[null,{"$f":"IF(商品マスタ!$B44=\"\",\"\",商品マスタ!$B44)","v":40},{"$f":"IF(商品マスタ!$C44=\"\",\"\",商品マスタ!$C44)","v":""},null,null,{"$f":"IF(C50=\"\",\"\",棚卸入力!R50+SUMIF(棚卸後在庫変更履歴!$H$2:$H$1048576,在庫表示!B50,棚卸後在庫変更履歴!$J$2:$J$1048576))","v":""}]
[null,{"$f":"IF(商品マスタ!$B45=\"\",\"\",商品マスタ!$B45)","v":41},{"$f":"IF(商品マスタ!$C45=\"\",\"\",商品マスタ!$C45)","v":""},null,null,{"$f":"IF(C51=\"\",\"\",棚卸入力!R51+SUMIF(棚卸後在庫変更履歴!$H$2:$H$1048576,在庫表示!B51,棚卸後在庫変更履歴!$J$2:$J$1048576))","v":""}]
[null,{"$f":"IF(商品マスタ!$B46=\"\",\"\",商品マスタ!$B46)","v":42},{"$f":"IF(商品マスタ!$C46=\"\",\"\",商品マスタ!$C46)","v":""},null,null,{"$f":"IF(C52=\"\",\"\",棚卸入力!R52+SUMIF(棚卸後在庫変更履歴!$H$2:$H$1048576,在庫表示!B52,棚卸後在庫変更履歴!$J$2:$J$1048576))","v":""}]
[null,{"$f":"IF(商品マスタ!$B47=\"\",\"\",商品マスタ!$B47)","v":43},{"$f":"IF(商品マスタ!$C47=\"\",\"\",商品マスタ!$C47)","v":""},null,null,{"$f":"IF(C53=\"\",\"\",棚卸入力!R53+SUMIF(棚卸後在庫変更履歴!$H$2:$H$1048576,在庫表示!B53,棚卸後在庫変更履歴!$J$2:$J$1048576))","v":""}]
[null,{"$f":"IF(商品マスタ!$B48=\"\",\"\",商品マスタ!$B48)","v":44},{"$f":"IF(商品マスタ!$C48=\"\",\"\",商品マスタ!$C48)","v":""},null,null,{"$f":"IF(C54=\"\",\"\",棚卸入力!R54+SUMIF(棚卸後在庫変更履歴!$H$2:$H$1048576,在庫表示!B54,棚卸後在庫変更履歴!$J$2:$J$1048576))","v":""}]
[null,{"$f":"IF(商品マスタ!$B49=\"\",\"\",商品マスタ!$B49)","v":45},{"$f":"IF(商品マスタ!$C49=\"\",\"\",商品マスタ!$C49)","v":""},null,null,{"$f":"IF(C55=\"\",\"\",棚卸入力!R55+SUMIF(棚卸後在庫変更履歴!$H$2:$H$1048576,在庫表示!B55,棚卸後在庫変更履歴!$J$2:$J$1048576))","v":""}]
[null,{"$f":"IF(商品マスタ!$B50=\"\",\"\",商品マスタ!$B50)","v":46},{"$f":"IF(商品マスタ!$C50=\"\",\"\",商品マスタ!$C50)","v":""},null,null,{"$f":"IF(C56=\"\",\"\",棚卸入力!R56+SUMIF(棚卸後在庫変更履歴!$H$2:$H$1048576,在庫表示!B56,棚卸後在庫変更履歴!$J$2:$J$1048576))","v":""}]
[null,{"$f":"IF(商品マスタ!$B51=\"\",\"\",商品マスタ!$B51)","v":47},{"$f":"IF(商品マスタ!$C51=\"\",\"\",商品マスタ!$C51)","v":""},null,null,{"$f":"IF(C57=\"\",\"\",棚卸入力!R57+SUMIF(棚卸後在庫変更履歴!$H$2:$H$1048576,在庫表示!B57,棚卸後在庫変更履歴!$J$2:$J$1048576))","v":""}]
[null,{"$f":"IF(商品マスタ!$B52=\"\",\"\",商品マスタ!$B52)","v":48},{"$f":"IF(商品マスタ!$C52=\"\",\"\",商品マスタ!$C52)","v":""},null,null,{"$f":"IF(C58=\"\",\"\",棚卸入力!R58+SUMIF(棚卸後在庫変更履歴!$H$2:$H$1048576,在庫表示!B58,棚卸後在庫変更履歴!$J$2:$J$1048576))","v":""}]
[null,{"$f":"IF(商品マスタ!$B53=\"\",\"\",商品マスタ!$B53)","v":49},{"$f":"IF(商品マスタ!$C53=\"\",\"\",商品マスタ!$C53)","v":""},null,null,{"$f":"IF(C59=\"\",\"\",棚卸入力!R59+SUMIF(棚卸後在庫変更履歴!$H$2:$H$1048576,在庫表示!B59,棚卸後在庫変更履歴!$J$2:$J$1048576))","v":""}]
[null,{"$f":"IF(商品マスタ!$B54=\"\",\"\",商品マスタ!$B54)","v":50},{"$f":"IF(商品マスタ!$C54=\"\",\"\",商品マスタ!$C54)","v":""},null,null,{"$f":"IF(C60=\"\",\"\",棚卸入力!R60+SUMIF(棚卸後在庫変更履歴!$H$2:$H$1048576,在庫表示!B60,棚卸後在庫変更履歴!$J$2:$J$1048576))","v":""}]
[null,{"$f":"IF(商品マスタ!$B55=\"\",\"\",商品マスタ!$B55)","v":51},{"$f":"IF(商品マスタ!$C55=\"\",\"\",商品マスタ!$C55)","v":""},null,null,{"$f":"IF(C61=\"\",\"\",棚卸入力!R61+SUMIF(棚卸後在庫変更履歴!$H$2:$H$1048576,在庫表示!B61,棚卸後在庫変更履歴!$J$2:$J$1048576))","v":""}]
[null,{"$f":"IF(商品マスタ!$B56=\"\",\"\",商品マスタ!$B56)","v":52},{"$f":"IF(商品マスタ!$C56=\"\",\"\",商品マスタ!$C56)","v":""},null,null,{"$f":"IF(C62=\"\",\"\",棚卸入力!R62+SUMIF(棚卸後在庫変更履歴!$H$2:$H$1048576,在庫表示!B62,棚卸後在庫変更履歴!$J$2:$J$1048576))","v":""}]
[null,{"$f":"IF(商品マスタ!$B57=\"\",\"\",商品マスタ!$B57)","v":53},{"$f":"IF(商品マスタ!$C57=\"\",\"\",商品マスタ!$C57)","v":""},null,null,{"$f":"IF(C63=\"\",\"\",棚卸入力!R63+SUMIF(棚卸後在庫変更履歴!$H$2:$H$1048576,在庫表示!B63,棚卸後在庫変更履歴!$J$2:$J$1048576))","v":""}]
[null,{"$f":"IF(商品マスタ!$B58=\"\",\"\",商品マスタ!$B58)","v":54},{"$f":"IF(商品マスタ!$C58=\"\",\"\",商品マスタ!$C58)","v":""},null,null,{"$f":"IF(C64=\"\",\"\",棚卸入力!R64+SUMIF(棚卸後在庫変更履歴!$H$2:$H$1048576,在庫表示!B64,棚卸後在庫変更履歴!$J$2:$J$1048576))","v":""}]
[null,{"$f":"IF(商品マスタ!$B59=\"\",\"\",商品マスタ!$B59)","v":55},{"$f":"IF(商品マスタ!$C59=\"\",\"\",商品マスタ!$C59)","v":""},null,null,{"$f":"IF(C65=\"\",\"\",棚卸入力!R65+SUMIF(棚卸後在庫変更履歴!$H$2:$H$1048576,在庫表示!B65,棚卸後在庫変更履歴!$J$2:$J$1048576))","v":""}]
[null,{"$f":"IF(商品マスタ!$B60=\"\",\"\",商品マスタ!$B60)","v":56},{"$f":"IF(商品マスタ!$C60=\"\",\"\",商品マスタ!$C60)","v":""},null,null,{"$f":"IF(C66=\"\",\"\",棚卸入力!R66+SUMIF(棚卸後在庫変更履歴!$H$2:$H$1048576,在庫表示!B66,棚卸後在庫変更履歴!$J$2:$J$1048576))","v":""}]
[null,{"$f":"IF(商品マスタ!$B61=\"\",\"\",商品マスタ!$B61)","v":57},{"$f":"IF(商品マスタ!$C61=\"\",\"\",商品マスタ!$C61)","v":""},null,null,{"$f":"IF(C67=\"\",\"\",棚卸入力!R67+SUMIF(棚卸後在庫変更履歴!$H$2:$H$1048576,在庫表示!B67,棚卸後在庫変更履歴!$J$2:$J$1048576))","v":""}]
[null,{"$f":"IF(商品マスタ!$B62=\"\",\"\",商品マスタ!$B62)","v":58},{"$f":"IF(商品マスタ!$C62=\"\",\"\",商品マスタ!$C62)","v":""},null,null,{"$f":"IF(C68=\"\",\"\",棚卸入力!R68+SUMIF(棚卸後在庫変更履歴!$H$2:$H$1048576,在庫表示!B68,棚卸後在庫変更履歴!$J$2:$J$1048576))","v":""}]
[null,{"$f":"IF(商品マスタ!$B63=\"\",\"\",商品マスタ!$B63)","v":59},{"$f":"IF(商品マスタ!$C63=\"\",\"\",商品マスタ!$C63)","v":""},null,null,{"$f":"IF(C69=\"\",\"\",棚卸入力!R69+SUMIF(棚卸後在庫変更履歴!$H$2:$H$1048576,在庫表示!B69,棚卸後在庫変更履歴!$J$2:$J$1048576))","v":""}]
[null,{"$f":"IF(商品マスタ!$B64=\"\",\"\",商品マスタ!$B64)","v":60},{"$f":"IF(商品マスタ!$C64=\"\",\"\",商品マスタ!$C64)","v":""},null,null,{"$f":"IF(C70=\"\",\"\",棚卸入力!R70+SUMIF(棚卸後在庫変更履歴!$H$2:$H$1048576,在庫表示!B70,棚卸後在庫変更履歴!$J$2:$J$1048576))","v":""}]
[null,{"$f":"IF(商品マスタ!$B65=\"\",\"\",商品マスタ!$B65)","v":61},{"$f":"IF(商品マスタ!$C65=\"\",\"\",商品マスタ!$C65)","v":""},null,null,{"$f":"IF(C71=\"\",\"\",棚卸入力!R71+SUMIF(棚卸後在庫変更履歴!$H$2:$H$1048576,在庫表示!B71,棚卸後在庫変更履歴!$J$2:$J$1048576))","v":""}]
[null,{"$f":"IF(商品マスタ!$B66=\"\",\"\",商品マスタ!$B66)","v":62},{"$f":"IF(商品マスタ!$C66=\"\",\"\",商品マスタ!$C66)","v":""},null,null,{"$f":"IF(C72=\"\",\"\",棚卸入力!R72+SUMIF(棚卸後在庫変更履歴!$H$2:$H$1048576,在庫表示!B72,棚卸後在庫変更履歴!$J$2:$J$1048576))","v":""}]
[null,{"$f":"IF(商品マスタ!$B67=\"\",\"\",商品マスタ!$B67)","v":63},{"$f":"IF(商品マスタ!$C67=\"\",\"\",商品マスタ!$C67)","v":""},null,null,{"$f":"IF(C73=\"\",\"\",棚卸入力!R73+SUMIF(棚卸後在庫変更履歴!$H$2:$H$1048576,在庫表示!B73,棚卸後在庫変更履歴!$J$2:$J$1048576))","v":""}]
[null,{"$f":"IF(商品マスタ!$B68=\"\",\"\",商品マスタ!$B68)","v":64},{"$f":"IF(商品マスタ!$C68=\"\",\"\",商品マスタ!$C68)","v":""},null,null,{"$f":"IF(C74=\"\",\"\",棚卸入力!R74+SUMIF(棚卸後在庫変更履歴!$H$2:$H$1048576,在庫表示!B74,棚卸後在庫変更履歴!$J$2:$J$1048576))","v":""}]
[null,{"$f":"IF(商品マスタ!$B69=\"\",\"\",商品マスタ!$B69)","v":65},{"$f":"IF(商品マスタ!$C69=\"\",\"\",商品マスタ!$C69)","v":""},null,null,{"$f":"IF(C75=\"\",\"\",棚卸入力!R75+SUMIF(棚卸後在庫変更履歴!$H$2:$H$1048576,在庫表示!B75,棚卸後在庫変更履歴!$J$2:$J$1048576))","v":""}]
[null,{"$f":"IF(商品マスタ!$B70=\"\",\"\",商品マスタ!$B70)","v":66},{"$f":"IF(商品マスタ!$C70=\"\",\"\",商品マスタ!$C70)","v":""},null,null,{"$f":"IF(C76=\"\",\"\",棚卸入力!R76+SUMIF(棚卸後在庫変更履歴!$H$2:$H$1048576,在庫表示!B76,棚卸後在庫変更履歴!$J$2:$J$1048576))","v":""}]
[null,{"$f":"IF(商品マスタ!$B71=\"\",\"\",商品マスタ!$B71)","v":67},{"$f":"IF(商品マスタ!$C71=\"\",\"\",商品マスタ!$C71)","v":""},null,null,{"$f":"IF(C77=\"\",\"\",棚卸入力!R77+SUMIF(棚卸後在庫変更履歴!$H$2:$H$1048576,在庫表示!B77,棚卸後在庫変更履歴!$J$2:$J$1048576))","v":""}]
[null,{"$f":"IF(商品マスタ!$B72=\"\",\"\",商品マスタ!$B72)","v":68},{"$f":"IF(商品マスタ!$C72=\"\",\"\",商品マスタ!$C72)","v":""},null,null,{"$f":"IF(C78=\"\",\"\",棚卸入力!R78+SUMIF(棚卸後在庫変更履歴!$H$2:$H$1048576,在庫表示!B78,棚卸後在庫変更履歴!$J$2:$J$1048576))","v":""}]
[null,{"$f":"IF(商品マスタ!$B73=\"\",\"\",商品マスタ!$B73)","v":69},{"$f":"IF(商品マスタ!$C73=\"\",\"\",商品マスタ!$C73)","v":""},null,null,{"$f":"IF(C79=\"\",\"\",棚卸入力!R79+SUMIF(棚卸後在庫変更履歴!$H$2:$H$1048576,在庫表示!B79,棚卸後在庫変更履歴!$J$2:$J$1048576))","v":""}]
[null,{"$f":"IF(商品マスタ!$B74=\"\",\"\",商品マスタ!$B74)","v":70},{"$f":"IF(商品マスタ!$C74=\"\",\"\",商品マスタ!$C74)","v":""},null,null,{"$f":"IF(C80=\"\",\"\",棚卸入力!R80+SUMIF(棚卸後在庫変更履歴!$H$2:$H$1048576,在庫表示!B80,棚卸後在庫変更履歴!$J$2:$J$1048576))","v":""}]
[null,{"$f":"IF(商品マスタ!$B75=\"\",\"\",商品マスタ!$B75)","v":71},{"$f":"IF(商品マスタ!$C75=\"\",\"\",商品マスタ!$C75)","v":""},null,null,{"$f":"IF(C81=\"\",\"\",棚卸入力!R81+SUMIF(棚卸後在庫変更履歴!$H$2:$H$1048576,在庫表示!B81,棚卸後在庫変更履歴!$J$2:$J$1048576))","v":""}]
[null,{"$f":"IF(商品マスタ!$B76=\"\",\"\",商品マスタ!$B76)","v":72},{"$f":"IF(商品マスタ!$C76=\"\",\"\",商品マスタ!$C76)","v":""},null,null,{"$f":"IF(C82=\"\",\"\",棚卸入力!R82+SUMIF(棚卸後在庫変更履歴!$H$2:$H$1048576,在庫表示!B82,棚卸後在庫変更履歴!$J$2:$J$1048576))","v":""}]
[null,{"$f":"IF(商品マスタ!$B77=\"\",\"\",商品マスタ!$B77)","v":73},{"$f":"IF(商品マスタ!$C77=\"\",\"\",商品マスタ!$C77)","v":""},null,null,{"$f":"IF(C83=\"\",\"\",棚卸入力!R83+SUMIF(棚卸後在庫変更履歴!$H$2:$H$1048576,在庫表示!B83,棚卸後在庫変更履歴!$J$2:$J$1048576))","v":""}]
[null,{"$f":"IF(商品マスタ!$B78=\"\",\"\",商品マスタ!$B78)","v":74},{"$f":"IF(商品マスタ!$C78=\"\",\"\",商品マスタ!$C78)","v":""},null,null,{"$f":"IF(C84=\"\",\"\",棚卸入力!R84+SUMIF(棚卸後在庫変更履歴!$H$2:$H$1048576,在庫表示!B84,棚卸後在庫変更履歴!$J$2:$J$1048576))","v":""}]
[null,{"$f":"IF(商品マスタ!$B79=\"\",\"\",商品マスタ!$B79)","v":75},{"$f":"IF(商品マスタ!$C79=\"\",\"\",商品マスタ!$C79)","v":""},null,null,{"$f":"IF(C85=\"\",\"\",棚卸入力!R85+SUMIF(棚卸後在庫変更履歴!$H$2:$H$1048576,在庫表示!B85,棚卸後在庫変更履歴!$J$2:$J$1048576))","v":""}]
[null,{"$f":"IF(商品マスタ!$B80=\"\",\"\",商品マスタ!$B80)","v":76},{"$f":"IF(商品マスタ!$C80=\"\",\"\",商品マスタ!$C80)","v":""},null,null,{"$f":"IF(C86=\"\",\"\",棚卸入力!R86+SUMIF(棚卸後在庫変更履歴!$H$2:$H$1048576,在庫表示!B86,棚卸後在庫変更履歴!$J$2:$J$1048576))","v":""}]
[null,{"$f":"IF(商品マスタ!$B81=\"\",\"\",商品マスタ!$B81)","v":77},{"$f":"IF(商品マスタ!$C81=\"\",\"\",商品マスタ!$C81)","v":""},null,null,{"$f":"IF(C87=\"\",\"\",棚卸入力!R87+SUMIF(棚卸後在庫変更履歴!$H$2:$H$1048576,在庫表示!B87,棚卸後在庫変更履歴!$J$2:$J$1048576))","v":""}]
[null,{"$f":"IF(商品マスタ!$B82=\"\",\"\",商品マスタ!$B82)","v":78},{"$f":"IF(商品マスタ!$C82=\"\",\"\",商品マスタ!$C82)","v":""},null,null,{"$f":"IF(C88=\"\",\"\",棚卸入力!R88+SUMIF(棚卸後在庫変更履歴!$H$2:$H$1048576,在庫表示!B88,棚卸後在庫変更履歴!$J$2:$J$1048576))","v":""}]
[null,{"$f":"IF(商品マスタ!$B83=\"\",\"\",商品マスタ!$B83)","v":79},{"$f":"IF(商品マスタ!$C83=\"\",\"\",商品マスタ!$C83)","v":""},null,null,{"$f":"IF(C89=\"\",\"\",棚卸入力!R89+SUMIF(棚卸後在庫変更履歴!$H$2:$H$1048576,在庫表示!B89,棚卸後在庫変更履歴!$J$2:$J$1048576))","v":""}]
[null,{"$f":"IF(商品マスタ!$B84=\"\",\"\",商品マスタ!$B84)","v":80},{"$f":"IF(商品マスタ!$C84=\"\",\"\",商品マスタ!$C84)","v":""},null,null,{"$f":"IF(C90=\"\",\"\",棚卸入力!R90+SUMIF(棚卸後在庫変更履歴!$H$2:$H$1048576,在庫表示!B90,棚卸後在庫変更履歴!$J$2:$J$1048576))","v":""}]
[null,{"$f":"IF(商品マスタ!$B85=\"\",\"\",商品マスタ!$B85)","v":81},{"$f":"IF(商品マスタ!$C85=\"\",\"\",商品マスタ!$C85)","v":""},null,null,{"$f":"IF(C91=\"\",\"\",棚卸入力!R91+SUMIF(棚卸後在庫変更履歴!$H$2:$H$1048576,在庫表示!B91,棚卸後在庫変更履歴!$J$2:$J$1048576))","v":""}]
[null,{"$f":"IF(商品マスタ!$B86=\"\",\"\",商品マスタ!$B86)","v":82},{"$f":"IF(商品マスタ!$C86=\"\",\"\",商品マスタ!$C86)","v":""},null,null,{"$f":"IF(C92=\"\",\"\",棚卸入力!R92+SUMIF(棚卸後在庫変更履歴!$H$2:$H$1048576,在庫表示!B92,棚卸後在庫変更履歴!$J$2:$J$1048576))","v":""}]
[null,{"$f":"IF(商品マスタ!$B87=\"\",\"\",商品マスタ!$B87)","v":83},{"$f":"IF(商品マスタ!$C87=\"\",\"\",商品マスタ!$C87)","v":""},null,null,{"$f":"IF(C93=\"\",\"\",棚卸入力!R93+SUMIF(棚卸後在庫変更履歴!$H$2:$H$1048576,在庫表示!B93,棚卸後在庫変更履歴!$J$2:$J$1048576))","v":""}]
[null,{"$f":"IF(商品マスタ!$B88=\"\",\"\",商品マスタ!$B88)","v":84},{"$f":"IF(商品マスタ!$C88=\"\",\"\",商品マスタ!$C88)","v":""},null,null,{"$f":"IF(C94=\"\",\"\",棚卸入力!R94+SUMIF(棚卸後在庫変更履歴!$H$2:$H$1048576,在庫表示!B94,棚卸後在庫変更履歴!$J$2:$J$1048576))","v":""}]
[null,{"$f":"IF(商品マスタ!$B89=\"\",\"\",商品マスタ!$B89)","v":85},{"$f":"IF(商品マスタ!$C89=\"\",\"\",商品マスタ!$C89)","v":""},null,null,{"$f":"IF(C95=\"\",\"\",棚卸入力!R95+SUMIF(棚卸後在庫変更履歴!$H$2:$H$1048576,在庫表示!B95,棚卸後在庫変更履歴!$J$2:$J$1048576))","v":""}]
[null,{"$f":"IF(商品マスタ!$B90=\"\",\"\",商品マスタ!$B90)","v":86},{"$f":"IF(商品マスタ!$C90=\"\",\"\",商品マスタ!$C90)","v":""},null,null,{"$f":"IF(C96=\"\",\"\",棚卸入力!R96+SUMIF(棚卸後在庫変更履歴!$H$2:$H$1048576,在庫表示!B96,棚卸後在庫変更履歴!$J$2:$J$1048576))","v":""}]
[null,{"$f":"IF(商品マスタ!$B91=\"\",\"\",商品マスタ!$B91)","v":87},{"$f":"IF(商品マスタ!$C91=\"\",\"\",商品マスタ!$C91)","v":""},null,null,{"$f":"IF(C97=\"\",\"\",棚卸入力!R97+SUMIF(棚卸後在庫変更履歴!$H$2:$H$1048576,在庫表示!B97,棚卸後在庫変更履歴!$J$2:$J$1048576))","v":""}]
[null,{"$f":"IF(商品マスタ!$B92=\"\",\"\",商品マスタ!$B92)","v":88},{"$f":"IF(商品マスタ!$C92=\"\",\"\",商品マスタ!$C92)","v":""},null,null,{"$f":"IF(C98=\"\",\"\",棚卸入力!R98+SUMIF(棚卸後在庫変更履歴!$H$2:$H$1048576,在庫表示!B98,棚卸後在庫変更履歴!$J$2:$J$1048576))","v":""}]
[null,{"$f":"IF(商品マスタ!$B93=\"\",\"\",商品マスタ!$B93)","v":89},{"$f":"IF(商品マスタ!$C93=\"\",\"\",商品マスタ!$C93)","v":""},null,null,{"$f":"IF(C99=\"\",\"\",棚卸入力!R99+SUMIF(棚卸後在庫変更履歴!$H$2:$H$1048576,在庫表示!B99,棚卸後在庫変更履歴!$J$2:$J$1048576))","v":""}]
[null,{"$f":"IF(商品マスタ!$B94=\"\",\"\",商品マスタ!$B94)","v":90},{"$f":"IF(商品マスタ!$C94=\"\",\"\",商品マスタ!$C94)","v":""},null,null,{"$f":"IF(C100=\"\",\"\",棚卸入力!R100+SUMIF(棚卸後在庫変更履歴!$H$2:$H$1048576,在庫表示!B100,棚卸後在庫変更履歴!$J$2:$J$1048576))","v":""}]
[null,{"$f":"IF(商品マスタ!$B95=\"\",\"\",商品マスタ!$B95)","v":91},{"$f":"IF(商品マスタ!$C95=\"\",\"\",商品マスタ!$C95)","v":""},null,null,{"$f":"IF(C101=\"\",\"\",棚卸入力!R101+SUMIF(棚卸後在庫変更履歴!$H$2:$H$1048576,在庫表示!B101,棚卸後在庫変更履歴!$J$2:$J$1048576))","v":""}]
[null,{"$f":"IF(商品マスタ!$B96=\"\",\"\",商品マスタ!$B96)","v":92},{"$f":"IF(商品マスタ!$C96=\"\",\"\",商品マスタ!$C96)","v":""},null,null,{"$f":"IF(C102=\"\",\"\",棚卸入力!R102+SUMIF(棚卸後在庫変更履歴!$H$2:$H$1048576,在庫表示!B102,棚卸後在庫変更履歴!$J$2:$J$1048576))","v":""}]
[null,{"$f":"IF(商品マスタ!$B97=\"\",\"\",商品マスタ!$B97)","v":93},{"$f":"IF(商品マスタ!$C97=\"\",\"\",商品マスタ!$C97)","v":""},null,null,{"$f":"IF(C103=\"\",\"\",棚卸入力!R103+SUMIF(棚卸後在庫変更履歴!$H$2:$H$1048576,在庫表示!B103,棚卸後在庫変更履歴!$J$2:$J$1048576))","v":""}]
[null,{"$f":"IF(商品マスタ!$B98=\"\",\"\",商品マスタ!$B98)","v":94},{"$f":"IF(商品マスタ!$C98=\"\",\"\",商品マスタ!$C98)","v":""},null,null,{"$f":"IF(C104=\"\",\"\",棚卸入力!R104+SUMIF(棚卸後在庫変更履歴!$H$2:$H$1048576,在庫表示!B104,棚卸後在庫変更履歴!$J$2:$J$1048576))","v":""}]
[null,{"$f":"IF(商品マスタ!$B99=\"\",\"\",商品マスタ!$B99)","v":95},{"$f":"IF(商品マスタ!$C99=\"\",\"\",商品マスタ!$C99)","v":""},null,null,{"$f":"IF(C105=\"\",\"\",棚卸入力!R105+SUMIF(棚卸後在庫変更履歴!$H$2:$H$1048576,在庫表示!B105,棚卸後在庫変更履歴!$J$2:$J$1048576))","v":""}]
[null,{"$f":"IF(商品マスタ!$B100=\"\",\"\",商品マスタ!$B100)","v":96},{"$f":"IF(商品マスタ!$C100=\"\",\"\",商品マスタ!$C100)","v":""},null,null,{"$f":"IF(C106=\"\",\"\",棚卸入力!R106+SUMIF(棚卸後在庫変更履歴!$H$2:$H$1048576,在庫表示!B106,棚卸後在庫変更履歴!$J$2:$J$1048576))","v":""}]
[null,{"$f":"IF(商品マスタ!$B101=\"\",\"\",商品マスタ!$B101)","v":97},{"$f":"IF(商品マスタ!$C101=\"\",\"\",商品マスタ!$C101)","v":""},null,null,{"$f":"IF(C107=\"\",\"\",棚卸入力!R107+SUMIF(棚卸後在庫変更履歴!$H$2:$H$1048576,在庫表示!B107,棚卸後在庫変更履歴!$J$2:$J$1048576))","v":""}]
[null,{"$f":"IF(商品マスタ!$B102=\"\",\"\",商品マスタ!$B102)","v":98},{"$f":"IF(商品マスタ!$C102=\"\",\"\",商品マスタ!$C102)","v":""},null,null,{"$f":"IF(C108=\"\",\"\",棚卸入力!R108+SUMIF(棚卸後在庫変更履歴!$H$2:$H$1048576,在庫表示!B108,棚卸後在庫変更履歴!$J$2:$J$1048576))","v":""}]
[null,{"$f":"IF(商品マスタ!$B103=\"\",\"\",商品マスタ!$B103)","v":99},{"$f":"IF(商品マスタ!$C103=\"\",\"\",商品マスタ!$C103)","v":""},null,null,{"$f":"IF(C109=\"\",\"\",棚卸入力!R109+SUMIF(棚卸後在庫変更履歴!$H$2:$H$1048576,在庫表示!B109,棚卸後在庫変更履歴!$J$2:$J$1048576))","v":""}]
[null,{"$f":"IF(商品マスタ!$B104=\"\",\"\",商品マスタ!$B104)","v":100},{"$f":"IF(商品マスタ!$C104=\"\",\"\",商品マスタ!$C104)","v":""},null,null,{"$f":"IF(C110=\"\",\"\",棚卸入力!R110+SUMIF(棚卸後在庫変更履歴!$H$2:$H$1048576,在庫表示!B110,棚卸後在庫変更履歴!$J$2:$J$1048576))","v":""}]
[null,{"$f":"IF(商品マスタ!$B105=\"\",\"\",商品マスタ!$B105)","v":101},{"$f":"IF(商品マスタ!$C105=\"\",\"\",商品マスタ!$C105)","v":""},null,null,{"$f":"IF(C111=\"\",\"\",棚卸入力!R111+SUMIF(棚卸後在庫変更履歴!$H$2:$H$1048576,在庫表示!B111,棚卸後在庫変更履歴!$J$2:$J$1048576))","v":""}]
[null,{"$f":"IF(商品マスタ!$B106=\"\",\"\",商品マスタ!$B106)","v":102},{"$f":"IF(商品マスタ!$C106=\"\",\"\",商品マスタ!$C106)","v":""},null,null,{"$f":"IF(C112=\"\",\"\",棚卸入力!R112+SUMIF(棚卸後在庫変更履歴!$H$2:$H$1048576,在庫表示!B112,棚卸後在庫変更履歴!$J$2:$J$1048576))","v":""}]
[null,{"$f":"IF(商品マスタ!$B107=\"\",\"\",商品マスタ!$B107)","v":103},{"$f":"IF(商品マスタ!$C107=\"\",\"\",商品マスタ!$C107)","v":""},null,null,{"$f":"IF(C113=\"\",\"\",棚卸入力!R113+SUMIF(棚卸後在庫変更履歴!$H$2:$H$1048576,在庫表示!B113,棚卸後在庫変更履歴!$J$2:$J$1048576))","v":""}]
[null,{"$f":"IF(商品マスタ!$B108=\"\",\"\",商品マスタ!$B108)","v":104},{"$f":"IF(商品マスタ!$C108=\"\",\"\",商品マスタ!$C108)","v":""},null,null,{"$f":"IF(C114=\"\",\"\",棚卸入力!R114+SUMIF(棚卸後在庫変更履歴!$H$2:$H$1048576,在庫表示!B114,棚卸後在庫変更履歴!$J$2:$J$1048576))","v":""}]
[null,{"$f":"IF(商品マスタ!$B109=\"\",\"\",商品マスタ!$B109)","v":105},{"$f":"IF(商品マスタ!$C109=\"\",\"\",商品マスタ!$C109)","v":""},null,null,{"$f":"IF(C115=\"\",\"\",棚卸入力!R115+SUMIF(棚卸後在庫変更履歴!$H$2:$H$1048576,在庫表示!B115,棚卸後在庫変更履歴!$J$2:$J$1048576))","v":""}]
[null,{"$f":"IF(商品マスタ!$B110=\"\",\"\",商品マスタ!$B110)","v":106},{"$f":"IF(商品マスタ!$C110=\"\",\"\",商品マスタ!$C110)","v":""},null,null,{"$f":"IF(C116=\"\",\"\",棚卸入力!R116+SUMIF(棚卸後在庫変更履歴!$H$2:$H$1048576,在庫表示!B116,棚卸後在庫変更履歴!$J$2:$J$1048576))","v":""}]
[null,{"$f":"IF(商品マスタ!$B111=\"\",\"\",商品マスタ!$B111)","v":107},{"$f":"IF(商品マスタ!$C111=\"\",\"\",商品マスタ!$C111)","v":""},null,null,{"$f":"IF(C117=\"\",\"\",棚卸入力!R117+SUMIF(棚卸後在庫変更履歴!$H$2:$H$1048576,在庫表示!B117,棚卸後在庫変更履歴!$J$2:$J$1048576))","v":""}]
[null,{"$f":"IF(商品マスタ!$B112=\"\",\"\",商品マスタ!$B112)","v":108},{"$f":"IF(商品マスタ!$C112=\"\",\"\",商品マスタ!$C112)","v":""},null,null,{"$f":"IF(C118=\"\",\"\",棚卸入力!R118+SUMIF(棚卸後在庫変更履歴!$H$2:$H$1048576,在庫表示!B118,棚卸後在庫変更履歴!$J$2:$J$1048576))","v":""}]
[null,{"$f":"IF(商品マスタ!$B113=\"\",\"\",商品マスタ!$B113)","v":109},{"$f":"IF(商品マスタ!$C113=\"\",\"\",商品マスタ!$C113)","v":""},null,null,{"$f":"IF(C119=\"\",\"\",棚卸入力!R119+SUMIF(棚卸後在庫変更履歴!$H$2:$H$1048576,在庫表示!B119,棚卸後在庫変更履歴!$J$2:$J$1048576))","v":""}]
[null,{"$f":"IF(商品マスタ!$B114=\"\",\"\",商品マスタ!$B114)","v":110},{"$f":"IF(商品マスタ!$C114=\"\",\"\",商品マスタ!$C114)","v":""},null,null,{"$f":"IF(C120=\"\",\"\",棚卸入力!R120+SUMIF(棚卸後在庫変更履歴!$H$2:$H$1048576,在庫表示!B120,棚卸後在庫変更履歴!$J$2:$J$1048576))","v":""}]
[null,{"$f":"IF(商品マスタ!$B115=\"\",\"\",商品マスタ!$B115)","v":111},{"$f":"IF(商品マスタ!$C115=\"\",\"\",商品マスタ!$C115)","v":""},null,null,{"$f":"IF(C121=\"\",\"\",棚卸入力!R121+SUMIF(棚卸後在庫変更履歴!$H$2:$H$1048576,在庫表示!B121,棚卸後在庫変更履歴!$J$2:$J$1048576))","v":""}]
[null,{"$f":"IF(商品マスタ!$B116=\"\",\"\",商品マスタ!$B116)","v":112},{"$f":"IF(商品マスタ!$C116=\"\",\"\",商品マスタ!$C116)","v":""},null,null,{"$f":"IF(C122=\"\",\"\",棚卸入力!R122+SUMIF(棚卸後在庫変更履歴!$H$2:$H$1048576,在庫表示!B122,棚卸後在庫変更履歴!$J$2:$J$1048576))","v":""}]
[null,{"$f":"IF(商品マスタ!$B117=\"\",\"\",商品マスタ!$B117)","v":113},{"$f":"IF(商品マスタ!$C117=\"\",\"\",商品マスタ!$C117)","v":""},null,null,{"$f":"IF(C123=\"\",\"\",棚卸入力!R123+SUMIF(棚卸後在庫変更履歴!$H$2:$H$1048576,在庫表示!B123,棚卸後在庫変更履歴!$J$2:$J$1048576))","v":""}]
[null,{"$f":"IF(商品マスタ!$B118=\"\",\"\",商品マスタ!$B118)","v":114},{"$f":"IF(商品マスタ!$C118=\"\",\"\",商品マスタ!$C118)","v":""},null,null,{"$f":"IF(C124=\"\",\"\",棚卸入力!R124+SUMIF(棚卸後在庫変更履歴!$H$2:$H$1048576,在庫表示!B124,棚卸後在庫変更履歴!$J$2:$J$1048576))","v":""}]
[null,{"$f":"IF(商品マスタ!$B119=\"\",\"\",商品マスタ!$B119)","v":115},{"$f":"IF(商品マスタ!$C119=\"\",\"\",商品マスタ!$C119)","v":""},null,null,{"$f":"IF(C125=\"\",\"\",棚卸入力!R125+SUMIF(棚卸後在庫変更履歴!$H$2:$H$1048576,在庫表示!B125,棚卸後在庫変更履歴!$J$2:$J$1048576))","v":""}]
[null,{"$f":"IF(商品マスタ!$B120=\"\",\"\",商品マスタ!$B120)","v":116},{"$f":"IF(商品マスタ!$C120=\"\",\"\",商品マスタ!$C120)","v":""},null,null,{"$f":"IF(C126=\"\",\"\",棚卸入力!R126+SUMIF(棚卸後在庫変更履歴!$H$2:$H$1048576,在庫表示!B126,棚卸後在庫変更履歴!$J$2:$J$1048576))","v":""}]
[null,{"$f":"IF(商品マスタ!$B121=\"\",\"\",商品マスタ!$B121)","v":117},{"$f":"IF(商品マスタ!$C121=\"\",\"\",商品マスタ!$C121)","v":""},null,null,{"$f":"IF(C127=\"\",\"\",棚卸入力!R127+SUMIF(棚卸後在庫変更履歴!$H$2:$H$1048576,在庫表示!B127,棚卸後在庫変更履歴!$J$2:$J$1048576))","v":""}]
[null,{"$f":"IF(商品マスタ!$B122=\"\",\"\",商品マスタ!$B122)","v":118},{"$f":"IF(商品マスタ!$C122=\"\",\"\",商品マスタ!$C122)","v":""},null,null,{"$f":"IF(C128=\"\",\"\",棚卸入力!R128+SUMIF(棚卸後在庫変更履歴!$H$2:$H$1048576,在庫表示!B128,棚卸後在庫変更履歴!$J$2:$J$1048576))","v":""}]
[null,{"$f":"IF(商品マスタ!$B123=\"\",\"\",商品マスタ!$B123)","v":119},{"$f":"IF(商品マスタ!$C123=\"\",\"\",商品マスタ!$C123)","v":""},null,null,{"$f":"IF(C129=\"\",\"\",棚卸入力!R129+SUMIF(棚卸後在庫変更履歴!$H$2:$H$1048576,在庫表示!B129,棚卸後在庫変更履歴!$J$2:$J$1048576))","v":""}]
[null,{"$f":"IF(商品マスタ!$B124=\"\",\"\",商品マスタ!$B124)","v":120},{"$f":"IF(商品マスタ!$C124=\"\",\"\",商品マスタ!$C124)","v":""},null,null,{"$f":"IF(C130=\"\",\"\",棚卸入力!R130+SUMIF(棚卸後在庫変更履歴!$H$2:$H$1048576,在庫表示!B130,棚卸後在庫変更履歴!$J$2:$J$1048576))","v":""}]
[null,{"$f":"IF(商品マスタ!$B125=\"\",\"\",商品マスタ!$B125)","v":121},{"$f":"IF(商品マスタ!$C125=\"\",\"\",商品マスタ!$C125)","v":""},null,null,{"$f":"IF(C131=\"\",\"\",棚卸入力!R131+SUMIF(棚卸後在庫変更履歴!$H$2:$H$1048576,在庫表示!B131,棚卸後在庫変更履歴!$J$2:$J$1048576))","v":""}]
[null,{"$f":"IF(商品マスタ!$B126=\"\",\"\",商品マスタ!$B126)","v":122},{"$f":"IF(商品マスタ!$C126=\"\",\"\",商品マスタ!$C126)","v":""},null,null,{"$f":"IF(C132=\"\",\"\",棚卸入力!R132+SUMIF(棚卸後在庫変更履歴!$H$2:$H$1048576,在庫表示!B132,棚卸後在庫変更履歴!$J$2:$J$1048576))","v":""}]
[null,{"$f":"IF(商品マスタ!$B127=\"\",\"\",商品マスタ!$B127)","v":123},{"$f":"IF(商品マスタ!$C127=\"\",\"\",商品マスタ!$C127)","v":""},null,null,{"$f":"IF(C133=\"\",\"\",棚卸入力!R133+SUMIF(棚卸後在庫変更履歴!$H$2:$H$1048576,在庫表示!B133,棚卸後在庫変更履歴!$J$2:$J$1048576))","v":""}]
[null,{"$f":"IF(商品マスタ!$B128=\"\",\"\",商品マスタ!$B128)","v":124},{"$f":"IF(商品マスタ!$C128=\"\",\"\",商品マスタ!$C128)","v":""},null,null,{"$f":"IF(C134=\"\",\"\",棚卸入力!R134+SUMIF(棚卸後在庫変更履歴!$H$2:$H$1048576,在庫表示!B134,棚卸後在庫変更履歴!$J$2:$J$1048576))","v":""}]
[null,{"$f":"IF(商品マスタ!$B129=\"\",\"\",商品マスタ!$B129)","v":125},{"$f":"IF(商品マスタ!$C129=\"\",\"\",商品マスタ!$C129)","v":""},null,null,{"$f":"IF(C135=\"\",\"\",棚卸入力!R135+SUMIF(棚卸後在庫変更履歴!$H$2:$H$1048576,在庫表示!B135,棚卸後在庫変更履歴!$J$2:$J$1048576))","v":""}]
[null,{"$f":"IF(商品マスタ!$B130=\"\",\"\",商品マスタ!$B130)","v":126},{"$f":"IF(商品マスタ!$C130=\"\",\"\",商品マスタ!$C130)","v":""},null,null,{"$f":"IF(C136=\"\",\"\",棚卸入力!R136+SUMIF(棚卸後在庫変更履歴!$H$2:$H$1048576,在庫表示!B136,棚卸後在庫変更履歴!$J$2:$J$1048576))","v":""}]
[null,{"$f":"IF(商品マスタ!$B131=\"\",\"\",商品マスタ!$B131)","v":127},{"$f":"IF(商品マスタ!$C131=\"\",\"\",商品マスタ!$C131)","v":""},null,null,{"$f":"IF(C137=\"\",\"\",棚卸入力!R137+SUMIF(棚卸後在庫変更履歴!$H$2:$H$1048576,在庫表示!B137,棚卸後在庫変更履歴!$J$2:$J$1048576))","v":""}]
[null,{"$f":"IF(商品マスタ!$B132=\"\",\"\",商品マスタ!$B132)","v":128},{"$f":"IF(商品マスタ!$C132=\"\",\"\",商品マスタ!$C132)","v":""},null,null,{"$f":"IF(C138=\"\",\"\",棚卸入力!R138+SUMIF(棚卸後在庫変更履歴!$H$2:$H$1048576,在庫表示!B138,棚卸後在庫変更履歴!$J$2:$J$1048576))","v":""}]
[null,{"$f":"IF(商品マスタ!$B133=\"\",\"\",商品マスタ!$B133)","v":129},{"$f":"IF(商品マスタ!$C133=\"\",\"\",商品マスタ!$C133)","v":""},null,null,{"$f":"IF(C139=\"\",\"\",棚卸入力!R139+SUMIF(棚卸後在庫変更履歴!$H$2:$H$1048576,在庫表示!B139,棚卸後在庫変更履歴!$J$2:$J$1048576))","v":""}]
[null,{"$f":"IF(商品マスタ!$B134=\"\",\"\",商品マスタ!$B134)","v":130},{"$f":"IF(商品マスタ!$C134=\"\",\"\",商品マスタ!$C134)","v":""},null,null,{"$f":"IF(C140=\"\",\"\",棚卸入力!R140+SUMIF(棚卸後在庫変更履歴!$H$2:$H$1048576,在庫表示!B140,棚卸後在庫変更履歴!$J$2:$J$1048576))","v":""}]
[null,{"$f":"IF(商品マスタ!$B135=\"\",\"\",商品マスタ!$B135)","v":131},{"$f":"IF(商品マスタ!$C135=\"\",\"\",商品マスタ!$C135)","v":""},null,null,{"$f":"IF(C141=\"\",\"\",棚卸入力!R141+SUMIF(棚卸後在庫変更履歴!$H$2:$H$1048576,在庫表示!B141,棚卸後在庫変更履歴!$J$2:$J$1048576))","v":""}]
[null,{"$f":"IF(商品マスタ!$B136=\"\",\"\",商品マスタ!$B136)","v":132},{"$f":"IF(商品マスタ!$C136=\"\",\"\",商品マスタ!$C136)","v":""},null,null,{"$f":"IF(C142=\"\",\"\",棚卸入力!R142+SUMIF(棚卸後在庫変更履歴!$H$2:$H$1048576,在庫表示!B142,棚卸後在庫変更履歴!$J$2:$J$1048576))","v":""}]
[null,{"$f":"IF(商品マスタ!$B137=\"\",\"\",商品マスタ!$B137)","v":133},{"$f":"IF(商品マスタ!$C137=\"\",\"\",商品マスタ!$C137)","v":""},null,null,{"$f":"IF(C143=\"\",\"\",棚卸入力!R143+SUMIF(棚卸後在庫変更履歴!$H$2:$H$1048576,在庫表示!B143,棚卸後在庫変更履歴!$J$2:$J$1048576))","v":""}]
[null,{"$f":"IF(商品マスタ!$B138=\"\",\"\",商品マスタ!$B138)","v":134},{"$f":"IF(商品マスタ!$C138=\"\",\"\",商品マスタ!$C138)","v":""},null,null,{"$f":"IF(C144=\"\",\"\",棚卸入力!R144+SUMIF(棚卸後在庫変更履歴!$H$2:$H$1048576,在庫表示!B144,棚卸後在庫変更履歴!$J$2:$J$1048576))","v":""}]
[null,{"$f":"IF(商品マスタ!$B139=\"\",\"\",商品マスタ!$B139)","v":135},{"$f":"IF(商品マスタ!$C139=\"\",\"\",商品マスタ!$C139)","v":""},null,null,{"$f":"IF(C145=\"\",\"\",棚卸入力!R145+SUMIF(棚卸後在庫変更履歴!$H$2:$H$1048576,在庫表示!B145,棚卸後在庫変更履歴!$J$2:$J$1048576))","v":""}]
[null,{"$f":"IF(商品マスタ!$B140=\"\",\"\",商品マスタ!$B140)","v":136},{"$f":"IF(商品マスタ!$C140=\"\",\"\",商品マスタ!$C140)","v":""},null,null,{"$f":"IF(C146=\"\",\"\",棚卸入力!R146+SUMIF(棚卸後在庫変更履歴!$H$2:$H$1048576,在庫表示!B146,棚卸後在庫変更履歴!$J$2:$J$1048576))","v":""}]
[null,{"$f":"IF(商品マスタ!$B141=\"\",\"\",商品マスタ!$B141)","v":137},{"$f":"IF(商品マスタ!$C141=\"\",\"\",商品マスタ!$C141)","v":""},null,null,{"$f":"IF(C147=\"\",\"\",棚卸入力!R147+SUMIF(棚卸後在庫変更履歴!$H$2:$H$1048576,在庫表示!B147,棚卸後在庫変更履歴!$J$2:$J$1048576))","v":""}]
[null,{"$f":"IF(商品マスタ!$B142=\"\",\"\",商品マスタ!$B142)","v":138},{"$f":"IF(商品マスタ!$C142=\"\",\"\",商品マスタ!$C142)","v":""},null,null,{"$f":"IF(C148=\"\",\"\",棚卸入力!R148+SUMIF(棚卸後在庫変更履歴!$H$2:$H$1048576,在庫表示!B148,棚卸後在庫変更履歴!$J$2:$J$1048576))","v":""}]
[null,{"$f":"IF(商品マスタ!$B143=\"\",\"\",商品マスタ!$B143)","v":139},{"$f":"IF(商品マスタ!$C143=\"\",\"\",商品マスタ!$C143)","v":""},null,null,{"$f":"IF(C149=\"\",\"\",棚卸入力!R149+SUMIF(棚卸後在庫変更履歴!$H$2:$H$1048576,在庫表示!B149,棚卸後在庫変更履歴!$J$2:$J$1048576))","v":""}]
[null,{"$f":"IF(商品マスタ!$B144=\"\",\"\",商品マスタ!$B144)","v":140},{"$f":"IF(商品マスタ!$C144=\"\",\"\",商品マスタ!$C144)","v":""},null,null,{"$f":"IF(C150=\"\",\"\",棚卸入力!R150+SUMIF(棚卸後在庫変更履歴!$H$2:$H$1048576,在庫表示!B150,棚卸後在庫変更履歴!$J$2:$J$1048576))","v":""}]
[null,{"$f":"IF(商品マスタ!$B145=\"\",\"\",商品マスタ!$B145)","v":141},{"$f":"IF(商品マスタ!$C145=\"\",\"\",商品マスタ!$C145)","v":""},null,null,{"$f":"IF(C151=\"\",\"\",棚卸入力!R151+SUMIF(棚卸後在庫変更履歴!$H$2:$H$1048576,在庫表示!B151,棚卸後在庫変更履歴!$J$2:$J$1048576))","v":""}]
[null,{"$f":"IF(商品マスタ!$B146=\"\",\"\",商品マスタ!$B146)","v":142},{"$f":"IF(商品マスタ!$C146=\"\",\"\",商品マスタ!$C146)","v":""},null,null,{"$f":"IF(C152=\"\",\"\",棚卸入力!R152+SUMIF(棚卸後在庫変更履歴!$H$2:$H$1048576,在庫表示!B152,棚卸後在庫変更履歴!$J$2:$J$1048576))","v":""}]
[null,{"$f":"IF(商品マスタ!$B147=\"\",\"\",商品マスタ!$B147)","v":143},{"$f":"IF(商品マスタ!$C147=\"\",\"\",商品マスタ!$C147)","v":""},null,null,{"$f":"IF(C153=\"\",\"\",棚卸入力!R153+SUMIF(棚卸後在庫変更履歴!$H$2:$H$1048576,在庫表示!B153,棚卸後在庫変更履歴!$J$2:$J$1048576))","v":""}]
[null,{"$f":"IF(商品マスタ!$B148=\"\",\"\",商品マスタ!$B148)","v":144},{"$f":"IF(商品マスタ!$C148=\"\",\"\",商品マスタ!$C148)","v":""},null,null,{"$f":"IF(C154=\"\",\"\",棚卸入力!R154+SUMIF(棚卸後在庫変更履歴!$H$2:$H$1048576,在庫表示!B154,棚卸後在庫変更履歴!$J$2:$J$1048576))","v":""}]
[null,{"$f":"IF(商品マスタ!$B149=\"\",\"\",商品マスタ!$B149)","v":145},{"$f":"IF(商品マスタ!$C149=\"\",\"\",商品マスタ!$C149)","v":""},null,null,{"$f":"IF(C155=\"\",\"\",棚卸入力!R155+SUMIF(棚卸後在庫変更履歴!$H$2:$H$1048576,在庫表示!B155,棚卸後在庫変更履歴!$J$2:$J$1048576))","v":""}]
[null,{"$f":"IF(商品マスタ!$B150=\"\",\"\",商品マスタ!$B150)","v":146},{"$f":"IF(商品マスタ!$C150=\"\",\"\",商品マスタ!$C150)","v":""},null,null,{"$f":"IF(C156=\"\",\"\",棚卸入力!R156+SUMIF(棚卸後在庫変更履歴!$H$2:$H$1048576,在庫表示!B156,棚卸後在庫変更履歴!$J$2:$J$1048576))","v":""}]
[null,{"$f":"IF(商品マスタ!$B151=\"\",\"\",商品マスタ!$B151)","v":147},{"$f":"IF(商品マスタ!$C151=\"\",\"\",商品マスタ!$C151)","v":""},null,null,{"$f":"IF(C157=\"\",\"\",棚卸入力!R157+SUMIF(棚卸後在庫変更履歴!$H$2:$H$1048576,在庫表示!B157,棚卸後在庫変更履歴!$J$2:$J$1048576))","v":""}]
[null,{"$f":"IF(商品マスタ!$B152=\"\",\"\",商品マスタ!$B152)","v":148},{"$f":"IF(商品マスタ!$C152=\"\",\"\",商品マスタ!$C152)","v":""},null,null,{"$f":"IF(C158=\"\",\"\",棚卸入力!R158+SUMIF(棚卸後在庫変更履歴!$H$2:$H$1048576,在庫表示!B158,棚卸後在庫変更履歴!$J$2:$J$1048576))","v":""}]
[null,{"$f":"IF(商品マスタ!$B153=\"\",\"\",商品マスタ!$B153)","v":149},{"$f":"IF(商品マスタ!$C153=\"\",\"\",商品マスタ!$C153)","v":""},null,null,{"$f":"IF(C159=\"\",\"\",棚卸入力!R159+SUMIF(棚卸後在庫変更履歴!$H$2:$H$1048576,在庫表示!B159,棚卸後在庫変更履歴!$J$2:$J$1048576))","v":""}]
[null,{"$f":"IF(商品マスタ!$B154=\"\",\"\",商品マスタ!$B154)","v":150},{"$f":"IF(商品マスタ!$C154=\"\",\"\",商品マスタ!$C154)","v":""},null,null,{"$f":"IF(C160=\"\",\"\",棚卸入力!R160+SUMIF(棚卸後在庫変更履歴!$H$2:$H$1048576,在庫表示!B160,棚卸後在庫変更履歴!$J$2:$J$1048576))","v":""}]
[null,{"$f":"IF(商品マスタ!$B155=\"\",\"\",商品マスタ!$B155)","v":151},{"$f":"IF(商品マスタ!$C155=\"\",\"\",商品マスタ!$C155)","v":""},null,null,{"$f":"IF(C161=\"\",\"\",棚卸入力!R161+SUMIF(棚卸後在庫変更履歴!$H$2:$H$1048576,在庫表示!B161,棚卸後在庫変更履歴!$J$2:$J$1048576))","v":""}]
[null,{"$f":"IF(商品マスタ!$B156=\"\",\"\",商品マスタ!$B156)","v":152},{"$f":"IF(商品マスタ!$C156=\"\",\"\",商品マスタ!$C156)","v":""},null,null,{"$f":"IF(C162=\"\",\"\",棚卸入力!R162+SUMIF(棚卸後在庫変更履歴!$H$2:$H$1048576,在庫表示!B162,棚卸後在庫変更履歴!$J$2:$J$1048576))","v":""}]
[null,{"$f":"IF(商品マスタ!$B157=\"\",\"\",商品マスタ!$B157)","v":153},{"$f":"IF(商品マスタ!$C157=\"\",\"\",商品マスタ!$C157)","v":""},null,null,{"$f":"IF(C163=\"\",\"\",棚卸入力!R163+SUMIF(棚卸後在庫変更履歴!$H$2:$H$1048576,在庫表示!B163,棚卸後在庫変更履歴!$J$2:$J$1048576))","v":""}]
[null,{"$f":"IF(商品マスタ!$B158=\"\",\"\",商品マスタ!$B158)","v":154},{"$f":"IF(商品マスタ!$C158=\"\",\"\",商品マスタ!$C158)","v":""},null,null,{"$f":"IF(C164=\"\",\"\",棚卸入力!R164+SUMIF(棚卸後在庫変更履歴!$H$2:$H$1048576,在庫表示!B164,棚卸後在庫変更履歴!$J$2:$J$1048576))","v":""}]
[null,{"$f":"IF(商品マスタ!$B159=\"\",\"\",商品マスタ!$B159)","v":155},{"$f":"IF(商品マスタ!$C159=\"\",\"\",商品マスタ!$C159)","v":""},null,null,{"$f":"IF(C165=\"\",\"\",棚卸入力!R165+SUMIF(棚卸後在庫変更履歴!$H$2:$H$1048576,在庫表示!B165,棚卸後在庫変更履歴!$J$2:$J$1048576))","v":""}]
[null,{"$f":"IF(商品マスタ!$B160=\"\",\"\",商品マスタ!$B160)","v":156},{"$f":"IF(商品マスタ!$C160=\"\",\"\",商品マスタ!$C160)","v":""},null,null,{"$f":"IF(C166=\"\",\"\",棚卸入力!R166+SUMIF(棚卸後在庫変更履歴!$H$2:$H$1048576,在庫表示!B166,棚卸後在庫変更履歴!$J$2:$J$1048576))","v":""}]
[null,{"$f":"IF(商品マスタ!$B161=\"\",\"\",商品マスタ!$B161)","v":157},{"$f":"IF(商品マスタ!$C161=\"\",\"\",商品マスタ!$C161)","v":""},null,null,{"$f":"IF(C167=\"\",\"\",棚卸入力!R167+SUMIF(棚卸後在庫変更履歴!$H$2:$H$1048576,在庫表示!B167,棚卸後在庫変更履歴!$J$2:$J$1048576))","v":""}]
[null,{"$f":"IF(商品マスタ!$B162=\"\",\"\",商品マスタ!$B162)","v":158},{"$f":"IF(商品マスタ!$C162=\"\",\"\",商品マスタ!$C162)","v":""},null,null,{"$f":"IF(C168=\"\",\"\",棚卸入力!R168+SUMIF(棚卸後在庫変更履歴!$H$2:$H$1048576,在庫表示!B168,棚卸後在庫変更履歴!$J$2:$J$1048576))","v":""}]
[null,{"$f":"IF(商品マスタ!$B163=\"\",\"\",商品マスタ!$B163)","v":159},{"$f":"IF(商品マスタ!$C163=\"\",\"\",商品マスタ!$C163)","v":""},null,null,{"$f":"IF(C169=\"\",\"\",棚卸入力!R169+SUMIF(棚卸後在庫変更履歴!$H$2:$H$1048576,在庫表示!B169,棚卸後在庫変更履歴!$J$2:$J$1048576))","v":""}]
[null,{"$f":"IF(商品マスタ!$B164=\"\",\"\",商品マスタ!$B164)","v":160},{"$f":"IF(商品マスタ!$C164=\"\",\"\",商品マスタ!$C164)","v":""},null,null,{"$f":"IF(C170=\"\",\"\",棚卸入力!R170+SUMIF(棚卸後在庫変更履歴!$H$2:$H$1048576,在庫表示!B170,棚卸後在庫変更履歴!$J$2:$J$1048576))","v":""}]
[null,{"$f":"IF(商品マスタ!$B165=\"\",\"\",商品マスタ!$B165)","v":161},{"$f":"IF(商品マスタ!$C165=\"\",\"\",商品マスタ!$C165)","v":""},null,null,{"$f":"IF(C171=\"\",\"\",棚卸入力!R171+SUMIF(棚卸後在庫変更履歴!$H$2:$H$1048576,在庫表示!B171,棚卸後在庫変更履歴!$J$2:$J$1048576))","v":""}]
[null,{"$f":"IF(商品マスタ!$B166=\"\",\"\",商品マスタ!$B166)","v":162},{"$f":"IF(商品マスタ!$C166=\"\",\"\",商品マスタ!$C166)","v":""},null,null,{"$f":"IF(C172=\"\",\"\",棚卸入力!R172+SUMIF(棚卸後在庫変更履歴!$H$2:$H$1048576,在庫表示!B172,棚卸後在庫変更履歴!$J$2:$J$1048576))","v":""}]
[null,{"$f":"IF(商品マスタ!$B167=\"\",\"\",商品マスタ!$B167)","v":163},{"$f":"IF(商品マスタ!$C167=\"\",\"\",商品マスタ!$C167)","v":""},null,null,{"$f":"IF(C173=\"\",\"\",棚卸入力!R173+SUMIF(棚卸後在庫変更履歴!$H$2:$H$1048576,在庫表示!B173,棚卸後在庫変更履歴!$J$2:$J$1048576))","v":""}]
[null,{"$f":"IF(商品マスタ!$B168=\"\",\"\",商品マスタ!$B168)","v":164},{"$f":"IF(商品マスタ!$C168=\"\",\"\",商品マスタ!$C168)","v":""},null,null,{"$f":"IF(C174=\"\",\"\",棚卸入力!R174+SUMIF(棚卸後在庫変更履歴!$H$2:$H$1048576,在庫表示!B174,棚卸後在庫変更履歴!$J$2:$J$1048576))","v":""}]
[null,{"$f":"IF(商品マスタ!$B169=\"\",\"\",商品マスタ!$B169)","v":165},{"$f":"IF(商品マスタ!$C169=\"\",\"\",商品マスタ!$C169)","v":""},null,null,{"$f":"IF(C175=\"\",\"\",棚卸入力!R175+SUMIF(棚卸後在庫変更履歴!$H$2:$H$1048576,在庫表示!B175,棚卸後在庫変更履歴!$J$2:$J$1048576))","v":""}]
[null,{"$f":"IF(商品マスタ!$B170=\"\",\"\",商品マスタ!$B170)","v":166},{"$f":"IF(商品マスタ!$C170=\"\",\"\",商品マスタ!$C170)","v":""},null,null,{"$f":"IF(C176=\"\",\"\",棚卸入力!R176+SUMIF(棚卸後在庫変更履歴!$H$2:$H$1048576,在庫表示!B176,棚卸後在庫変更履歴!$J$2:$J$1048576))","v":""}]
[null,{"$f":"IF(商品マスタ!$B171=\"\",\"\",商品マスタ!$B171)","v":167},{"$f":"IF(商品マスタ!$C171=\"\",\"\",商品マスタ!$C171)","v":""},null,null,{"$f":"IF(C177=\"\",\"\",棚卸入力!R177+SUMIF(棚卸後在庫変更履歴!$H$2:$H$1048576,在庫表示!B177,棚卸後在庫変更履歴!$J$2:$J$1048576))","v":""}]
[null,{"$f":"IF(商品マスタ!$B172=\"\",\"\",商品マスタ!$B172)","v":168},{"$f":"IF(商品マスタ!$C172=\"\",\"\",商品マスタ!$C172)","v":""},null,null,{"$f":"IF(C178=\"\",\"\",棚卸入力!R178+SUMIF(棚卸後在庫変更履歴!$H$2:$H$1048576,在庫表示!B178,棚卸後在庫変更履歴!$J$2:$J$1048576))","v":""}]
[null,{"$f":"IF(商品マスタ!$B173=\"\",\"\",商品マスタ!$B173)","v":169},{"$f":"IF(商品マスタ!$C173=\"\",\"\",商品マスタ!$C173)","v":""},null,null,{"$f":"IF(C179=\"\",\"\",棚卸入力!R179+SUMIF(棚卸後在庫変更履歴!$H$2:$H$1048576,在庫表示!B179,棚卸後在庫変更履歴!$J$2:$J$1048576))","v":""}]
[null,{"$f":"IF(商品マスタ!$B174=\"\",\"\",商品マスタ!$B174)","v":170},{"$f":"IF(商品マスタ!$C174=\"\",\"\",商品マスタ!$C174)","v":""},null,null,{"$f":"IF(C180=\"\",\"\",棚卸入力!R180+SUMIF(棚卸後在庫変更履歴!$H$2:$H$1048576,在庫表示!B180,棚卸後在庫変更履歴!$J$2:$J$1048576))","v":""}]
[null,{"$f":"IF(商品マスタ!$B175=\"\",\"\",商品マスタ!$B175)","v":171},{"$f":"IF(商品マスタ!$C175=\"\",\"\",商品マスタ!$C175)","v":""},null,null,{"$f":"IF(C181=\"\",\"\",棚卸入力!R181+SUMIF(棚卸後在庫変更履歴!$H$2:$H$1048576,在庫表示!B181,棚卸後在庫変更履歴!$J$2:$J$1048576))","v":""}]
[null,{"$f":"IF(商品マスタ!$B176=\"\",\"\",商品マスタ!$B176)","v":172},{"$f":"IF(商品マスタ!$C176=\"\",\"\",商品マスタ!$C176)","v":""},null,null,{"$f":"IF(C182=\"\",\"\",棚卸入力!R182+SUMIF(棚卸後在庫変更履歴!$H$2:$H$1048576,在庫表示!B182,棚卸後在庫変更履歴!$J$2:$J$1048576))","v":""}]
[null,{"$f":"IF(商品マスタ!$B177=\"\",\"\",商品マスタ!$B177)","v":173},{"$f":"IF(商品マスタ!$C177=\"\",\"\",商品マスタ!$C177)","v":""},null,null,{"$f":"IF(C183=\"\",\"\",棚卸入力!R183+SUMIF(棚卸後在庫変更履歴!$H$2:$H$1048576,在庫表示!B183,棚卸後在庫変更履歴!$J$2:$J$1048576))","v":""}]
[null,{"$f":"IF(商品マスタ!$B178=\"\",\"\",商品マスタ!$B178)","v":174},{"$f":"IF(商品マスタ!$C178=\"\",\"\",商品マスタ!$C178)","v":""},null,null,{"$f":"IF(C184=\"\",\"\",棚卸入力!R184+SUMIF(棚卸後在庫変更履歴!$H$2:$H$1048576,在庫表示!B184,棚卸後在庫変更履歴!$J$2:$J$1048576))","v":""}]
[null,{"$f":"IF(商品マスタ!$B179=\"\",\"\",商品マスタ!$B179)","v":175},{"$f":"IF(商品マスタ!$C179=\"\",\"\",商品マスタ!$C179)","v":""},null,null,{"$f":"IF(C185=\"\",\"\",棚卸入力!R185+SUMIF(棚卸後在庫変更履歴!$H$2:$H$1048576,在庫表示!B185,棚卸後在庫変更履歴!$J$2:$J$1048576))","v":""}]
[null,{"$f":"IF(商品マスタ!$B180=\"\",\"\",商品マスタ!$B180)","v":176},{"$f":"IF(商品マスタ!$C180=\"\",\"\",商品マスタ!$C180)","v":""},null,null,{"$f":"IF(C186=\"\",\"\",棚卸入力!R186+SUMIF(棚卸後在庫変更履歴!$H$2:$H$1048576,在庫表示!B186,棚卸後在庫変更履歴!$J$2:$J$1048576))","v":""}]
[null,{"$f":"IF(商品マスタ!$B181=\"\",\"\",商品マスタ!$B181)","v":177},{"$f":"IF(商品マスタ!$C181=\"\",\"\",商品マスタ!$C181)","v":""},null,null,{"$f":"IF(C187=\"\",\"\",棚卸入力!R187+SUMIF(棚卸後在庫変更履歴!$H$2:$H$1048576,在庫表示!B187,棚卸後在庫変更履歴!$J$2:$J$1048576))","v":""}]
[null,{"$f":"IF(商品マスタ!$B182=\"\",\"\",商品マスタ!$B182)","v":178},{"$f":"IF(商品マスタ!$C182=\"\",\"\",商品マスタ!$C182)","v":""},null,null,{"$f":"IF(C188=\"\",\"\",棚卸入力!R188+SUMIF(棚卸後在庫変更履歴!$H$2:$H$1048576,在庫表示!B188,棚卸後在庫変更履歴!$J$2:$J$1048576))","v":""}]
[null,{"$f":"IF(商品マスタ!$B183=\"\",\"\",商品マスタ!$B183)","v":179},{"$f":"IF(商品マスタ!$C183=\"\",\"\",商品マスタ!$C183)","v":""},null,null,{"$f":"IF(C189=\"\",\"\",棚卸入力!R189+SUMIF(棚卸後在庫変更履歴!$H$2:$H$1048576,在庫表示!B189,棚卸後在庫変更履歴!$J$2:$J$1048576))","v":""}]
[null,{"$f":"IF(商品マスタ!$B184=\"\",\"\",商品マスタ!$B184)","v":180},{"$f":"IF(商品マスタ!$C184=\"\",\"\",商品マスタ!$C184)","v":""},null,null,{"$f":"IF(C190=\"\",\"\",棚卸入力!R190+SUMIF(棚卸後在庫変更履歴!$H$2:$H$1048576,在庫表示!B190,棚卸後在庫変更履歴!$J$2:$J$1048576))","v":""}]
[null,{"$f":"IF(商品マスタ!$B185=\"\",\"\",商品マスタ!$B185)","v":181},{"$f":"IF(商品マスタ!$C185=\"\",\"\",商品マスタ!$C185)","v":""},null,null,{"$f":"IF(C191=\"\",\"\",棚卸入力!R191+SUMIF(棚卸後在庫変更履歴!$H$2:$H$1048576,在庫表示!B191,棚卸後在庫変更履歴!$J$2:$J$1048576))","v":""}]
[null,{"$f":"IF(商品マスタ!$B186=\"\",\"\",商品マスタ!$B186)","v":182},{"$f":"IF(商品マスタ!$C186=\"\",\"\",商品マスタ!$C186)","v":""},null,null,{"$f":"IF(C192=\"\",\"\",棚卸入力!R192+SUMIF(棚卸後在庫変更履歴!$H$2:$H$1048576,在庫表示!B192,棚卸後在庫変更履歴!$J$2:$J$1048576))","v":""}]
[null,{"$f":"IF(商品マスタ!$B187=\"\",\"\",商品マスタ!$B187)","v":183},{"$f":"IF(商品マスタ!$C187=\"\",\"\",商品マスタ!$C187)","v":""},null,null,{"$f":"IF(C193=\"\",\"\",棚卸入力!R193+SUMIF(棚卸後在庫変更履歴!$H$2:$H$1048576,在庫表示!B193,棚卸後在庫変更履歴!$J$2:$J$1048576))","v":""}]
[null,{"$f":"IF(商品マスタ!$B188=\"\",\"\",商品マスタ!$B188)","v":184},{"$f":"IF(商品マスタ!$C188=\"\",\"\",商品マスタ!$C188)","v":""},null,null,{"$f":"IF(C194=\"\",\"\",棚卸入力!R194+SUMIF(棚卸後在庫変更履歴!$H$2:$H$1048576,在庫表示!B194,棚卸後在庫変更履歴!$J$2:$J$1048576))","v":""}]
[null,{"$f":"IF(商品マスタ!$B189=\"\",\"\",商品マスタ!$B189)","v":185},{"$f":"IF(商品マスタ!$C189=\"\",\"\",商品マスタ!$C189)","v":""},null,null,{"$f":"IF(C195=\"\",\"\",棚卸入力!R195+SUMIF(棚卸後在庫変更履歴!$H$2:$H$1048576,在庫表示!B195,棚卸後在庫変更履歴!$J$2:$J$1048576))","v":""}]
[null,{"$f":"IF(商品マスタ!$B190=\"\",\"\",商品マスタ!$B190)","v":186},{"$f":"IF(商品マスタ!$C190=\"\",\"\",商品マスタ!$C190)","v":""},null,null,{"$f":"IF(C196=\"\",\"\",棚卸入力!R196+SUMIF(棚卸後在庫変更履歴!$H$2:$H$1048576,在庫表示!B196,棚卸後在庫変更履歴!$J$2:$J$1048576))","v":""}]
[null,{"$f":"IF(商品マスタ!$B191=\"\",\"\",商品マスタ!$B191)","v":187},{"$f":"IF(商品マスタ!$C191=\"\",\"\",商品マスタ!$C191)","v":""},null,null,{"$f":"IF(C197=\"\",\"\",棚卸入力!R197+SUMIF(棚卸後在庫変更履歴!$H$2:$H$1048576,在庫表示!B197,棚卸後在庫変更履歴!$J$2:$J$1048576))","v":""}]
[null,{"$f":"IF(商品マスタ!$B192=\"\",\"\",商品マスタ!$B192)","v":188},{"$f":"IF(商品マスタ!$C192=\"\",\"\",商品マスタ!$C192)","v":""},null,null,{"$f":"IF(C198=\"\",\"\",棚卸入力!R198+SUMIF(棚卸後在庫変更履歴!$H$2:$H$1048576,在庫表示!B198,棚卸後在庫変更履歴!$J$2:$J$1048576))","v":""}]
[null,{"$f":"IF(商品マスタ!$B193=\"\",\"\",商品マスタ!$B193)","v":189},{"$f":"IF(商品マスタ!$C193=\"\",\"\",商品マスタ!$C193)","v":""},null,null,{"$f":"IF(C199=\"\",\"\",棚卸入力!R199+SUMIF(棚卸後在庫変更履歴!$H$2:$H$1048576,在庫表示!B199,棚卸後在庫変更履歴!$J$2:$J$1048576))","v":""}]
[null,{"$f":"IF(商品マスタ!$B194=\"\",\"\",商品マスタ!$B194)","v":190},{"$f":"IF(商品マスタ!$C194=\"\",\"\",商品マスタ!$C194)","v":""},null,null,{"$f":"IF(C200=\"\",\"\",棚卸入力!R200+SUMIF(棚卸後在庫変更履歴!$H$2:$H$1048576,在庫表示!B200,棚卸後在庫変更履歴!$J$2:$J$1048576))","v":""}]
[null,{"$f":"IF(商品マスタ!$B195=\"\",\"\",商品マスタ!$B195)","v":191},{"$f":"IF(商品マスタ!$C195=\"\",\"\",商品マスタ!$C195)","v":""},null,null,{"$f":"IF(C201=\"\",\"\",棚卸入力!R201+SUMIF(棚卸後在庫変更履歴!$H$2:$H$1048576,在庫表示!B201,棚卸後在庫変更履歴!$J$2:$J$1048576))","v":""}]
[null,{"$f":"IF(商品マスタ!$B196=\"\",\"\",商品マスタ!$B196)","v":192},{"$f":"IF(商品マスタ!$C196=\"\",\"\",商品マスタ!$C196)","v":""},null,null,{"$f":"IF(C202=\"\",\"\",棚卸入力!R202+SUMIF(棚卸後在庫変更履歴!$H$2:$H$1048576,在庫表示!B202,棚卸後在庫変更履歴!$J$2:$J$1048576))","v":""}]
[null,{"$f":"IF(商品マスタ!$B197=\"\",\"\",商品マスタ!$B197)","v":193},{"$f":"IF(商品マスタ!$C197=\"\",\"\",商品マスタ!$C197)","v":""},null,null,{"$f":"IF(C203=\"\",\"\",棚卸入力!R203+SUMIF(棚卸後在庫変更履歴!$H$2:$H$1048576,在庫表示!B203,棚卸後在庫変更履歴!$J$2:$J$1048576))","v":""}]
[null,{"$f":"IF(商品マスタ!$B198=\"\",\"\",商品マスタ!$B198)","v":194},{"$f":"IF(商品マスタ!$C198=\"\",\"\",商品マスタ!$C198)","v":""},null,null,{"$f":"IF(C204=\"\",\"\",棚卸入力!R204+SUMIF(棚卸後在庫変更履歴!$H$2:$H$1048576,在庫表示!B204,棚卸後在庫変更履歴!$J$2:$J$1048576))","v":""}]
[null,{"$f":"IF(商品マスタ!$B199=\"\",\"\",商品マスタ!$B199)","v":195},{"$f":"IF(商品マスタ!$C199=\"\",\"\",商品マスタ!$C199)","v":""},null,null,{"$f":"IF(C205=\"\",\"\",棚卸入力!R205+SUMIF(棚卸後在庫変更履歴!$H$2:$H$1048576,在庫表示!B205,棚卸後在庫変更履歴!$J$2:$J$1048576))","v":""}]
[null,{"$f":"IF(商品マスタ!$B200=\"\",\"\",商品マスタ!$B200)","v":196},{"$f":"IF(商品マスタ!$C200=\"\",\"\",商品マスタ!$C200)","v":""},null,null,{"$f":"IF(C206=\"\",\"\",棚卸入力!R206+SUMIF(棚卸後在庫変更履歴!$H$2:$H$1048576,在庫表示!B206,棚卸後在庫変更履歴!$J$2:$J$1048576))","v":""}]
[null,{"$f":"IF(商品マスタ!$B201=\"\",\"\",商品マスタ!$B201)","v":197},{"$f":"IF(商品マスタ!$C201=\"\",\"\",商品マスタ!$C201)","v":""},null,null,{"$f":"IF(C207=\"\",\"\",棚卸入力!R207+SUMIF(棚卸後在庫変更履歴!$H$2:$H$1048576,在庫表示!B207,棚卸後在庫変更履歴!$J$2:$J$1048576))","v":""}]
[null,{"$f":"IF(商品マスタ!$B202=\"\",\"\",商品マスタ!$B202)","v":198},{"$f":"IF(商品マスタ!$C202=\"\",\"\",商品マスタ!$C202)","v":""},null,null,{"$f":"IF(C208=\"\",\"\",棚卸入力!R208+SUMIF(棚卸後在庫変更履歴!$H$2:$H$1048576,在庫表示!B208,棚卸後在庫変更履歴!$J$2:$J$1048576))","v":""}]
[null,{"$f":"IF(商品マスタ!$B203=\"\",\"\",商品マスタ!$B203)","v":199},{"$f":"IF(商品マスタ!$C203=\"\",\"\",商品マスタ!$C203)","v":""},null,null,{"$f":"IF(C209=\"\",\"\",棚卸入力!R209+SUMIF(棚卸後在庫変更履歴!$H$2:$H$1048576,在庫表示!B209,棚卸後在庫変更履歴!$J$2:$J$1048576))","v":""}]
[null,{"$f":"IF(商品マスタ!$B204=\"\",\"\",商品マスタ!$B204)","v":200},{"$f":"IF(商品マスタ!$C204=\"\",\"\",商品マスタ!$C204)","v":""},null,null,{"$f":"IF(C210=\"\",\"\",棚卸入力!R210+SUMIF(棚卸後在庫変更履歴!$H$2:$H$1048576,在庫表示!B210,棚卸後在庫変更履歴!$J$2:$J$1048576))","v":""}]

{"sheet":"商品マスタ","index":7,"n_rows":204,"n_cols":10,"rows_kept":204,"merged":[[2,1,3,1],[2,2,3,2],[2,3,2,5],[2,6,3,6],[2,7,3,7],[3,9,14,11]]}
[]
[null,"商品マスター",{"$nulls":5},"商品の名称、価格情報を記入してください。"]
[null,"商品番号","商品名","本体価格（税抜き）",null,null,"購入価格","表示順"]
[{"$nulls":3},"一般価格","会員価格","団体価格",{"$nulls":3},"【ご注意下さい】\n\n①　「商品管理」では、「商品番号」を商品の識別に使用しています。「商品番号」を異なる商品に振り直しますと、入庫・納品の記録が混乱してしまいますので、ある商品に一度振った「商品番号」は変更しないでください。\n\n②　同種の商品の「商品番号」が飛び地になってしまった場合は、「表示順」を振り直し、エクセルのソート機能で行の順序を並び替えて整頓してください。\n\n③ 商品の増加を見越して、予め番号を空けて、飛び飛びに商品を登録しておくこともできます。\n\n④ 実質的に同じ商品を指しているものであれば、ある「商品番号」の商品名を変更できます。　その場合「在庫表示」の商品名は、最新のものが表示されます。"]
[null,1,"LIFESPAN（ライフスパン）―老いなき世界",{"v":2600,"d":"2,600 "},{"$f":"ROUNDUP(D5*0.8,-1)","v":{"v":2080,"d":"2,080 "}},{"$f":"ROUNDUP(D5*0.7,-1)","v":{"v":1820,"d":"1,820 "}},{"$f":"ROUNDUP(D5*0.45,-1)","v":{"v":1170,"d":"1,170 "}},{"v":1,"d":"1 "}]
[null,2,"WHAT IS LIFE？（ホワット・イズ・ライフ？）生命とは何か",{"v":1800,"d":"1,800 "},{"$f":"ROUNDUP(D6*0.8,-1)","v":{"v":1440,"d":"1,440 "}},{"$f":"ROUNDUP(D6*0.7,-1)","v":{"v":1260,"d":"1,260 "}},{"$f":"ROUNDUP(D6*0.45,-1)","v":{"v":810,"d":"810 "}},{"v":2,"d":"2 "}]
[null,3,"科学的とはどういう意味か",{"v":600,"d":"600 "},{"v":480,"d":"480 "},{"v":420,"d":"420 "},{"v":270,"d":"270 "},{"v":3,"d":"3 "}]
[null,4,"コトPOP（R）を書いたら あっ、売れちゃった！",{"v":1600,"d":"1,600 "},{"v":1280,"d":"1,280 "},{"v":1120,"d":"1,120 "},{"v":720,"d":"720 "},{"v":4,"d":"4 "}]
[null,5,"鉄腕アトム 地球最大の冒険",{"v":1500,"d":"1,500 "},{"v":1200,"d":"1,200 "},{"v":1050,"d":"1,050 "},{"v":680,"d":"680 "},{"v":5,"d":"5 "}]
[null,6,"鉄腕アトム 地球防衛隊",{"v":1400,"d":"1,400 "},{"v":1120,"d":"1,120 "},{"v":980,"d":"980 "},{"v":630,"d":"630 "},{"v":6,"d":"6 "}]
[null,7,"どうする？デザイン クライアントとのやりとりでよくわかる！デザインの決め方、伝え方",{"v":2200,"d":"2,200 "},{"v":1760,"d":"1,760 "},{"v":1540,"d":"1,540 "},{"v":990,"d":"990 "},{"v":7,"d":"7 "}]
[null,8,"ハッブル宇宙望遠鏡が見た絶景宇宙 SELECT 10 Vol.1",{"v":100,"d":"100 "},{"v":80,"d":"80 "},{"v":70,"d":"70 "},{"v":50,"d":"50 "},{"v":8,"d":"8 "}]
[null,9,"ハムスターがおうちにやってきた！",{"v":600,"d":"600 "},{"v":480,"d":"480 "},{"v":420,"d":"420 "},{"v":270,"d":"270 "},{"v":9,"d":"9 "}]
[null,10,"ビーカーくんのゆかいな化学実験",{"v":1600,"d":"1,600 "},{"v":1280,"d":"1,280 "},{"v":1120,"d":"1,120 "},{"v":720,"d":"720 "},{"v":10,"d":"10 "}]
[null,11,"ヒトを理解するための 生物学",{"v":2400,"d":"2,400 "},{"v":1920,"d":"1,920 "},{"v":1680,"d":"1,680 "},{"v":1080,"d":"1,080 "},{"v":11,"d":"11 "}]
[null,12,"富士山はどうしてそこにあるのか 地形から見る日本列島史",{"v":900,"d":"900 "},{"v":720,"d":"720 "},{"v":630,"d":"630 "},{"v":410,"d":"410 "},{"v":12,"d":"12 "}]
[null,13,"宇宙の「果て」になにがあるのか 最新天文学が描く、時間と空間の終わり",{"v":1000,"d":"1,000 "},{"v":800,"d":"800 "},{"v":700,"d":"700 "},{"v":450,"d":"450 "},{"v":13,"d":"13 "}]
[null,14,"宇宙は本当にひとつなのか―最新宇宙論入門",{"v":900,"d":"900 "},{"v":720,"d":"720 "},{"v":630,"d":"630 "},{"v":410,"d":"410 "},{"v":14,"d":"14 "}]
[null,15,"宇宙創成（上）",{"v":700,"d":"700 "},{"v":560,"d":"560 "},{"v":490,"d":"490 "},{"v":320,"d":"320 "},{"v":15,"d":"15 "}]
[null,16,"宇宙望遠鏡がとらえた 銀河（ブックブライト）",{"v":900,"d":"900 "},{"v":720,"d":"720 "},{"v":630,"d":"630 "},{"v":410,"d":"410 "},{"v":16,"d":"16 "}]
[null,17,"見てわかる、迷わず決まる配色アイデア 3色だけでセンスのいい色",{"v":2000,"d":"2,000 "},{"v":1600,"d":"1,600 "},{"v":1400,"d":"1,400 "},{"v":900,"d":"900 "},{"v":17,"d":"17 "}]
[null,18,"写真加工で作る風景イラスト 神技作画シリーズ",{"v":2200,"d":"2,200 "},{"v":1760,"d":"1,760 "},{"v":1540,"d":"1,540 "},{"v":990,"d":"990 "},{"v":18,"d":"18 "}]
[null,19,"写真加工で作る風景イラスト 神技作画シリーズ",{"v":2200,"d":"2,200 "},{"v":1760,"d":"1,760 "},{"v":1540,"d":"1,540 "},{"v":990,"d":"990 "},{"v":19,"d":"19 "}]
[null,20,"重力とは何か アインシュタインから超弦理論へ、宇宙の謎に迫る",{"v":700,"d":"700 "},{"v":560,"d":"560 "},{"v":490,"d":"490 "},{"v":320,"d":"320 "},{"v":20,"d":"20 "}]
[null,21,"図説 メイドインアビス 探窟記録【電子特典付き】",{"v":5500,"d":"5,500 "},{"v":4400,"d":"4,400 "},{"v":3850,"d":"3,850 "},{"v":2480,"d":"2,480 "},{"v":21,"d":"21 "}]
[null,22,"成功の秘密にアクセスできるギャラクシー・コード",{"v":1500,"d":"1,500 "},{"v":1200,"d":"1,200 "},{"v":1050,"d":"1,050 "},{"v":680,"d":"680 "},{"v":22,"d":"22 "}]
[null,23,"太陽系 絶景画像50",{"v":500,"d":"500 "},{"v":400,"d":"400 "},{"v":350,"d":"350 "},{"v":230,"d":"230 "},{"v":23,"d":"23 "}]
[null,24,"踊りませんか？ 社交ダンスの世界",{"v":600,"d":"600 "},{"v":480,"d":"480 "},{"v":420,"d":"420 "},{"v":270,"d":"270 "},{"v":24,"d":"24 "}]
[null,25,{"$nulls":5},{"v":25,"d":"25 "}]
[null,26,{"$nulls":5},{"v":26,"d":"26 "}]
[null,27,{"$nulls":5},{"v":27,"d":"27 "}]
[null,28,{"$nulls":5},{"v":28,"d":"28 "}]
[null,29,{"$nulls":5},{"v":29,"d":"29 "}]
[null,30,{"$nulls":5},{"v":30,"d":"30 "}]
[null,31,{"$nulls":5},{"v":31,"d":"31 "}]
[null,32,{"$nulls":5},{"v":32,"d":"32 "}]
[null,33,{"$nulls":5},{"v":33,"d":"33 "}]
[null,34,{"$nulls":5},{"v":34,"d":"34 "}]
[null,35,{"$nulls":5},{"v":35,"d":"35 "}]
[null,36,{"$nulls":5},{"v":36,"d":"36 "}]
[null,37,{"$nulls":5},{"v":37,"d":"37 "}]
[null,38,{"$nulls":5},{"v":38,"d":"38 "}]
[null,39,{"$nulls":5},{"v":39,"d":"39 "}]
[null,40,{"$nulls":5},{"v":40,"d":"40 "}]
[null,41,{"$nulls":5},{"v":41,"d":"41 "}]
[null,42,{"$nulls":5},{"v":42,"d":"42 "}]
[null,43,{"$nulls":5},{"v":43,"d":"43 "}]
[null,44,{"$nulls":5},{"v":44,"d":"44 "}]
[null,45,{"$nulls":5},{"v":45,"d":"45 "}]
[null,46,{"$nulls":5},{"v":46,"d":"46 "}]
[null,47,{"$nulls":5},{"v":47,"d":"47 "}]
[null,48,{"$nulls":5},{"v":48,"d":"48 "}]
[null,49,{"$nulls":5},{"v":49,"d":"49 "}]
[null,50,{"$nulls":5},{"v":50,"d":"50 "}]
[null,51,{"$nulls":5},{"v":51,"d":"51 "}]
[null,52,{"$nulls":5},{"v":52,"d":"52 "}]
[null,53,{"$nulls":5},{"v":53,"d":"53 "}]
[null,54,{"$nulls":5},{"v":54,"d":"54 "}]
[null,55,{"$nulls":5},{"v":55,"d":"55 "}]
[null,56,{"$nulls":5},{"v":56,"d":"56 "}]
[null,57,{"$nulls":5},{"v":57,"d":"57 "}]
[null,58,{"$nulls":5},{"v":58,"d":"58 "}]
[null,59,{"$nulls":5},{"v":59,"d":"59 "}]
[null,60,{"$nulls":5},{"v":60,"d":"60 "}]
[null,61,{"$nulls":5},{"v":61,"d":"61 "}]
[null,62,{"$nulls":5},{"v":62,"d":"62 "}]
[null,63,{"$nulls":5},{"v":63,"d":"63 "}]
[null,64,{"$nulls":5},{"v":64,"d":"64 "}]
[null,65,{"$nulls":5},{"v":65,"d":"65 "}]
[null,66,{"$nulls":5},{"v":66,"d":"66 "}]
[null,67,{"$nulls":5},{"v":67,"d":"67 "}]
[null,68,{"$nulls":5},{"v":68,"d":"68 "}]
[null,69,{"$nulls":5},{"v":69,"d":"69 "}]
[null,70,{"$nulls":5},{"v":70,"d":"70 "}]
[null,71,{"$nulls":5},{"v":71,"d":"71 "}]
[null,72,{"$nulls":5},{"v":72,"d":"72 "}]
[null,73,{"$nulls":5},{"v":73,"d":"73 "}]
[null,74,{"$nulls":5},{"v":74,"d":"74 "}]
[null,75,{"$nulls":5},{"v":75,"d":"75 "}]
[null,76,{"$nulls":5},{"v":76,"d":"76 "}]
[null,77,{"$nulls":5},{"v":77,"d":"77 "}]
[null,78,{"$nulls":5},{"v":78,"d":"78 "}]
[null,79,{"$nulls":5},{"v":79,"d":"79 "}]
[null,80,{"$nulls":5},{"v":80,"d":"80 "}]
[null,81,{"$nulls":5},{"v":81,"d":"81 "}]
[null,82,{"$nulls":5},{"v":82,"d":"82 "}]
[null,83,{"$nulls":5},{"v":83,"d":"83 "}]
[null,84,{"$nulls":5},{"v":84,"d":"84 "}]
[null,85,{"$nulls":5},{"v":85,"d":"85 "}]
[null,86,{"$nulls":5},{"v":86,"d":"86 "}]
[null,87,{"$nulls":5},{"v":87,"d":"87 "}]
[null,88,{"$nulls":5},{"v":88,"d":"88 "}]
[null,89,{"$nulls":5},{"v":89,"d":"89 "}]
[null,90,{"$nulls":5},{"v":90,"d":"90 "}]
[null,91,{"$nulls":5},{"v":91,"d":"91 "}]
[null,92,{"$nulls":5},{"v":92,"d":"92 "}]
[null,93,{"$nulls":5},{"v":93,"d":"93 "}]
[null,94,{"$nulls":5},{"v":94,"d":"94 "}]
[null,95,{"$nulls":5},{"v":95,"d":"95 "}]
[null,96,{"$nulls":5},{"v":96,"d":"96 "}]
[null,97,{"$nulls":5},{"v":97,"d":"97 "}]
[null,98,{"$nulls":5},{"v":98,"d":"98 "}]
[null,99,{"$nulls":5},{"v":99,"d":"99 "}]
[null,100,{"$nulls":5},{"v":100,"d":"100 "}]
[null,101,{"$nulls":5},{"v":101,"d":"101 "}]
[null,102,{"$nulls":5},{"v":102,"d":"102 "}]
[null,103,{"$nulls":5},{"v":103,"d":"103 "}]
[null,104,{"$nulls":5},{"v":104,"d":"104 "}]
[null,105,{"$nulls":5},{"v":105,"d":"105 "}]
[null,106,{"$nulls":5},{"v":106,"d":"106 "}]
[null,107,{"$nulls":5},{"v":107,"d":"107 "}]
[null,108,{"$nulls":5},{"v":108,"d":"108 "}]
[null,109,{"$nulls":5},{"v":109,"d":"109 "}]
[null,110,{"$nulls":5},{"v":110,"d":"110 "}]
[null,111,{"$nulls":5},{"v":111,"d":"111 "}]
[null,112,{"$nulls":5},{"v":112,"d":"112 "}]
[null,113,{"$nulls":5},{"v":113,"d":"113 "}]
[null,114,{"$nulls":5},{"v":114,"d":"114 "}]
[null,115,{"$nulls":5},{"v":115,"d":"115 "}]
[null,116,{"$nulls":5},{"v":116,"d":"116 "}]
[null,117,{"$nulls":5},{"v":117,"d":"117 "}]
[null,118,{"$nulls":5},{"v":118,"d":"118 "}]
[null,119,{"$nulls":5},{"v":119,"d":"119 "}]
[null,120,{"$nulls":5},{"v":120,"d":"120 "}]
[null,121,{"$nulls":5},{"v":121,"d":"121 "}]
[null,122,{"$nulls":5},{"v":122,"d":"122 "}]
[null,123,{"$nulls":5},{"v":123,"d":"123 "}]
[null,124,{"$nulls":5},{"v":124,"d":"124 "}]
[null,125,{"$nulls":5},{"v":125,"d":"125 "}]
[null,126,{"$nulls":5},{"v":126,"d":"126 "}]
[null,127,{"$nulls":5},{"v":127,"d":"127 "}]
[null,128,{"$nulls":5},{"v":128,"d":"128 "}]
[null,129,{"$nulls":5},{"v":129,"d":"129 "}]
[null,130,{"$nulls":5},{"v":130,"d":"130 "}]
[null,131,{"$nulls":5},{"v":131,"d":"131 "}]
[null,132,{"$nulls":5},{"v":132,"d":"132 "}]
[null,133,{"$nulls":5},{"v":133,"d":"133 "}]
[null,134,{"$nulls":5},{"v":134,"d":"134 "}]
[null,135,{"$nulls":5},{"v":135,"d":"135 "}]
[null,136,{"$nulls":5},{"v":136,"d":"136 "}]
[null,137,{"$nulls":5},{"v":137,"d":"137 "}]
[null,138,{"$nulls":5},{"v":138,"d":"138 "}]
[null,139,{"$nulls":5},{"v":139,"d":"139 "}]
[null,140,{"$nulls":5},{"v":140,"d":"140 "}]
[null,141,{"$nulls":5},{"v":141,"d":"141 "}]
[null,142,{"$nulls":5},{"v":142,"d":"142 "}]
[null,143,{"$nulls":5},{"v":143,"d":"143 "}]
[null,144,{"$nulls":5},{"v":144,"d":"144 "}]
[null,145,{"$nulls":5},{"v":145,"d":"145 "}]
[null,146,{"$nulls":5},{"v":146,"d":"146 "}]
[null,147,{"$nulls":5},{"v":147,"d":"147 "}]
[null,148,{"$nulls":5},{"v":148,"d":"148 "}]
[null,149,{"$nulls":5},{"v":149,"d":"149 "}]
[null,150,{"$nulls":5},{"v":150,"d":"150 "}]
[null,151,{"$nulls":5},{"v":151,"d":"151 "}]
[null,152,{"$nulls":5},{"v":152,"d":"152 "}]
[null,153,{"$nulls":5},{"v":153,"d":"153 "}]
[null,154,{"$nulls":5},{"v":154,"d":"154 "}]
[null,155,{"$nulls":5},{"v":155,"d":"155 "}]
[null,156,{"$nulls":5},{"v":156,"d":"156 "}]
[null,157,{"$nulls":5},{"v":157,"d":"157 "}]
[null,158,{"$nulls":5},{"v":158,"d":"158 "}]
[null,159,{"$nulls":5},{"v":159,"d":"159 "}]
[null,160,{"$nulls":5},{"v":160,"d":"160 "}]
[null,161,{"$nulls":5},{"v":161,"d":"161 "}]
[null,162,{"$nulls":5},{"v":162,"d":"162 "}]
[null,163,{"$nulls":5},{"v":163,"d":"163 "}]
[null,164,{"$nulls":5},{"v":164,"d":"164 "}]
[null,165,{"$nulls":5},{"v":165,"d":"165 "}]
[null,166,{"$nulls":5},{"v":166,"d":"166 "}]
[null,167,{"$nulls":5},{"v":167,"d":"167 "}]
[null,168,{"$nulls":5},{"v":168,"d":"168 "}]
[null,169,{"$nulls":5},{"v":169,"d":"169 "}]
[null,170,{"$nulls":5},{"v":170,"d":"170 "}]
[null,171,{"$nulls":5},{"v":171,"d":"171 "}]
[null,172,{"$nulls":5},{"v":172,"d":"172 "}]
[null,173,{"$nulls":5},{"v":173,"d":"173 "}]
[null,174,{"$nulls":5},{"v":174,"d":"174 "}]
[null,175,{"$nulls":5},{"v":175,"d":"175 "}]
[null,176,{"$nulls":5},{"v":176,"d":"176 "}]
[null,177,{"$nulls":5},{"v":177,"d":"177 "}]
[null,178,{"$nulls":5},{"v":178,"d":"178 "}]
[null,179,{"$nulls":5},{"v":179,"d":"179 "}]
[null,180,{"$nulls":5},{"v":180,"d":"180 "}]
[null,181,{"$nulls":5},{"v":181,"d":"181 "}]
[null,182,{"$nulls":5},{"v":182,"d":"182 "}]
[null,183,{"$nulls":5},{"v":183,"d":"183 "}]
[null,184,{"$nulls":5},{"v":184,"d":"184 "}]
[null,185,{"$nulls":5},{"v":185,"d":"185 "}]
[null,186,{"$nulls":5},{"v":186,"d":"186 "}]
[null,187,{"$nulls":5},{"v":187,"d":"187 "}]
[null,188,{"$nulls":5},{"v":188,"d":"188 "}]
[null,189,{"$nulls":5},{"v":189,"d":"189 "}]
[null,190,{"$nulls":5},{"v":190,"d":"190 "}]
[null,191,{"$nulls":5},{"v":191,"d":"191 "}]
[null,192,{"$nulls":5},{"v":192,"d":"192 "}]
[null,193,{"$nulls":5},{"v":193,"d":"193 "}]
[null,194,{"$nulls":5},{"v":194,"d":"194 "}]
[null,195,{"$nulls":5},{"v":195,"d":"195 "}]
[null,196,{"$nulls":5},{"v":196,"d":"196 "}]
[null,197,{"$nulls":5},{"v":197,"d":"197 "}]
[null,198,{"$nulls":5},{"v":198,"d":"198 "}]
[null,199,{"$nulls":5},{"v":199,"d":"199 "}]
[null,200,{"$nulls":5},{"v":200,"d":"200 "}]

{"sheet":"棚卸後在庫変更履歴","index":8,"n_rows":1,"n_cols":14,"rows_kept":1}
["通番","登録日時","顧客","納品書番号","発注先","入荷伝票","項番","商品番号","商品名","数量","単価","金額","価格区分","納品・入荷日"]

{"sheet":"在庫変更全履歴","index":9,"n_rows":1,"n_cols":14,"rows_kept":1}
["通番","登録日時","顧客","納品書番号","発注先","入荷伝票","項番","商品番号","商品名","数量","単価","金額","価格区分","納品・入荷日"]

{"sheet":"棚卸履歴","index":10,"n_rows":1,"n_cols":7,"rows_kept":1}
["通番","登録日時","棚卸通番","商品番号","商品名","数量","棚卸日"]